BEGIN:VCALENDAR
VERSION:2.0
PRODID:-//GeoForum - ECPv6.10.0//NONSGML v1.0//EN
CALSCALE:GREGORIAN
METHOD:PUBLISH
X-WR-CALNAME:GeoForum
X-ORIGINAL-URL:https://geoforum.no
X-WR-CALDESC:Arrangement for GeoForum
REFRESH-INTERVAL;VALUE=DURATION:PT1H
X-Robots-Tag:noindex
X-PUBLISHED-TTL:PT1H
BEGIN:VTIMEZONE
TZID:Europe/Oslo
BEGIN:DAYLIGHT
TZOFFSETFROM:+0100
TZOFFSETTO:+0200
TZNAME:CEST
DTSTART:20250330T010000
END:DAYLIGHT
BEGIN:STANDARD
TZOFFSETFROM:+0200
TZOFFSETTO:+0100
TZNAME:CET
DTSTART:20251026T010000
END:STANDARD
END:VTIMEZONE
BEGIN:VEVENT
DTSTART;TZID=Europe/Oslo:20250901T100000
DTEND;TZID=Europe/Oslo:20250901T113000
DTSTAMP:20260419T144320
CREATED:20250805T180543Z
LAST-MODIFIED:20250805T180544Z
UID:10011752-1756720800-1756726200@geoforum.no
SUMMARY:Matrikkel-mandag\, tema: Endringer i matrikkelforskriften
DESCRIPTION:Sommeren 2025 ble det vedtatt en rekke endringer i matrikkelforskriften. Flere av endringene er grunnlaget for å kunne åpne for egenregistrering av enkelte opplysninger i matrikkelen. Denne mandagen vil Janne og Leikny gå igjennom endringene som trådte i kraft 1. august. \nForskriftsendringene er tilgjengelig på lovdata. \nmer informasjon og påmelding \nMatrikkel-mandag | Kartverket.no
URL:https://geoforum.no/event/matrikkel-mandag-tema-endringer-i-matrikkelforskriften/
CATEGORIES:Webinar eksternt
END:VEVENT
BEGIN:VEVENT
DTSTART;TZID=Europe/Oslo:20250902T090000
DTEND;TZID=Europe/Oslo:20250902T153000
DTSTAMP:20260419T144320
CREATED:20250516T071444Z
LAST-MODIFIED:20250623T142814Z
UID:10011730-1756803600-1756827000@geoforum.no
SUMMARY:DOK fagdag Innlandet
DESCRIPTION:GeoForum Innlandet inviterer til DOK-fagdag. \nVelkommen til fagdag på det offentlige kartgrunnlaget til planarbeid 2.september.Fagdagen blir Hos statens kartverk i Innlandet. Her kommer det spennende foredrag og en workshop (kan vi stole på naturdata fra det offentlige kartgrunnlaget?).\n\nProgram for dagen: DOK fagdag 2025\n\nPåmelding: Innlandet: Fagdag DOK\n\nDOK er forkortelse for Det Offentlige Kartgrunnlaget. Det er en samling av offentlige geografiske data som er tilrettelagt for kommunenes plan- og byggesaksarbeid.\nMer om DOK https://www.kartverket.no/geodataarbeid/dok-og-temadata/det-offentlige-kartgrunnlaget
URL:https://geoforum.no/event/dok-fagdag_innlandet/
CATEGORIES:Temadag lokalt
END:VEVENT
BEGIN:VEVENT
DTSTART;TZID=Europe/Oslo:20250909T080000
DTEND;TZID=Europe/Oslo:20250910T170000
DTSTAMP:20260419T144320
CREATED:20250520T064217Z
LAST-MODIFIED:20250520T064217Z
UID:10011732-1757404800-1757523600@geoforum.no
SUMMARY:Adresseseminar 2025
DESCRIPTION:Kartverket arrangerer \n  \nMøtestedet for deg som jobber med adresser og adresseregister.\nÅrets seminar arrangeres tirsdag 9. og onsdag 10. september. \nDigitalt og fysisk.
URL:https://geoforum.no/event/adresseseminar-2025/
CATEGORIES:Eksterne kurs og konferanser
END:VEVENT
BEGIN:VEVENT
DTSTART;TZID=Europe/Oslo:20250917T090000
DTEND;TZID=Europe/Oslo:20250917T113000
DTSTAMP:20260419T144320
CREATED:20250624T084319Z
LAST-MODIFIED:20250624T084319Z
UID:10011746-1758099600-1758108600@geoforum.no
SUMMARY:FoU-forum\, halvdagsmøte
DESCRIPTION:Forskning og utvikling (FoU) i Kartverket | Kartverket.no
URL:https://geoforum.no/event/fou-forum-halvdagsmote/
CATEGORIES:Eksterne kurs og konferanser
END:VEVENT
BEGIN:VEVENT
DTSTART;TZID=Europe/Oslo:20250917T090000
DTEND;TZID=Europe/Oslo:20250917T150000
DTSTAMP:20260419T144320
CREATED:20250617T104606Z
LAST-MODIFIED:20250915T173918Z
UID:10011738-1758099600-1758121200@geoforum.no
SUMMARY:GeoForum Trøndelag: Fagdag GeoKlar & DOK - 17. september 2025
DESCRIPTION:Samarbeid og erfaringsdeling er det viktigste. Skal vi bli gode må vi dele kunnskap! \nVi ser frem til en inspirerende dag med fokus på hvordan kart og DOK datasett kan styrke beredskapsarbeidet! \nTema: Kart som overordnet tema for en felles situasjonsforståelse. \nMålgruppe: Beredskapsansvarlige i kommunene\, Statsforvalteren\, brannvesen\, Kartverket\, og andre relevante aktører. \nProgrammet vil inkludere: \n\nPresentasjon av det offentlige kartgrunnlaget (DOK) i krisearbeid\nGode eksempler fra praksis\nInnlegg fra Kartverket og Plan- og temadatautvalget (Norge digitalt)\n\nSted: Radisson Blu hotel Trondheim Airport. \nRegistreringen starter kl 0900. \nGeoKlar_DOK_Program_17092025 \nPåmelding
URL:https://geoforum.no/event/fagdag-geoklar-dok-17-september-2025/
END:VEVENT
BEGIN:VEVENT
DTSTART;TZID=Europe/Oslo:20250917T090000
DTEND;TZID=Europe/Oslo:20250918T151500
DTSTAMP:20260419T144320
CREATED:20250603T082508Z
LAST-MODIFIED:20250603T082509Z
UID:10011735-1758099600-1758208500@geoforum.no
SUMMARY:Eiendomsrettseminar 2025
DESCRIPTION:Tradisjonen tro arrangerer Kartverket eiendomsrettseminar på Sundvolden hotell \nMer informasjon og påmelding
URL:https://geoforum.no/event/eiendomsrettseminar-2025/
CATEGORIES:Eksterne kurs og konferanser
END:VEVENT
BEGIN:VEVENT
DTSTART;TZID=Europe/Oslo:20250918T090000
DTEND;TZID=Europe/Oslo:20250918T150000
DTSTAMP:20260419T144320
CREATED:20250617T105108Z
LAST-MODIFIED:20250617T120453Z
UID:10011740-1758186000-1758207600@geoforum.no
SUMMARY:GeoForum Rogaland inviterer til fagdag
DESCRIPTION:18. september hos Sandnes kommune \nGeoForum Rogaland inviterer til fagdag \n  \nFår vi svar på hvordan den nye matrikkelen blir? Hvor mye ekstra arbeid kan kommunene forvente av egenregistreringsprosjektet? Hvordan er egentlig reglene for å bli autorisert\, hvem kan kommunen ansette? \nVi håper at programmet er interessant for alle\, selv om vi favner bredt denne gangen. Vi synes spesielt at det er spennende at nødetatene ønsker å dele deres syn på om adressering er viktig for dem. \nPåmelding \nInvitasjon-til-fagdag-GeoForum-Rogaland-høst-2025 (003) \nSted: \nSandnes kommune rådhuset – Rådhusgata1\, 4306 Sandnes \nSal B og C. \nVi anbefaler å bruke kollektiv transport. Togstasjonen og rutebilstasjonen er 5 minutter å gå fra rådhuset. \nFor de som ønsker å kjøre er det parkeringsplass utenfor rådhuset eller parkeringshus i Holbergs gate og ved Bystasjonen. Det foregår mye graving i sentrum. Sjekk derfor fremkommeligheten på kartløsningen til Sandnes kommune: ByggeprosjekterSentrum_MND (arcgis.com) \n  \nPåmelding \nAktiv link til påmelding må legges inn \nPr i dag er det maks 100 deltakere\, de som registrerer seg som 101 og utover må stå på venteliste. \n  \n  \nPåmeldingsfrist: 4. september. \n  \nPris: \nKr 1000\,- for medlemmer i GeoForum eller ansatte hos bedriftsmedlemmer. Et tillegg på kr 500\,- for andre. Prisen inkluderer lunsj\, pausebuffet m/ kaffe og te. \nFaktura for deltakeravgift sendes fra GeoForum.
URL:https://geoforum.no/event/geoforum-rogaland-inviterer-til-fagdag/
CATEGORIES:Temadag lokalt
END:VEVENT
BEGIN:VEVENT
DTSTART;TZID=Europe/Oslo:20250930T000000
DTEND;TZID=Europe/Oslo:20250930T000000
DTSTAMP:20260419T144320
CREATED:20250930T110610Z
LAST-MODIFIED:20251007T113537Z
UID:10011761-1759190400-1759190400@geoforum.no
SUMMARY:GeoKlar Innlandet 2025
DESCRIPTION:Geoforum Innlandet viderefører den suksessfulle geoklar konferansen vi hadde i fjor med nye spennende innlegg og debatt. GeoKlar er beredskapskonferansen der kartet og tilgjengelig geografiske temadata danner grunnlag for en felles situasjonsforståelser for alle involverte parter. Å være geoklar er en forutsetning for å håndtere klimaendringer spesielt\, men også andre utfordringer knyttet til beredskap. \nKonferanse finner sted: Statens Kartverk Hamar\, Vangsvegen 73\, Hamar \nProgram \nPåmelding \n  \nHer kan dere lese om fjorårets konferanse: https://issuu.com/geoforum/docs/posisjon_2024-03/s/58092068 \n  \nVi gleder oss til å se deg på konferansen! \nMvh \nStyret i Geoforum Innlandet \n“
URL:https://geoforum.no/event/geoklar-innlandet_2025/
CATEGORIES:Temadag lokalt
END:VEVENT
END:VCALENDAR