BEGIN:VCALENDAR
VERSION:2.0
PRODID:-//GeoForum - ECPv6.10.0//NONSGML v1.0//EN
CALSCALE:GREGORIAN
METHOD:PUBLISH
X-WR-CALNAME:GeoForum
X-ORIGINAL-URL:https://geoforum.no
X-WR-CALDESC:Arrangement for GeoForum
REFRESH-INTERVAL;VALUE=DURATION:PT1H
X-Robots-Tag:noindex
X-PUBLISHED-TTL:PT1H
BEGIN:VTIMEZONE
TZID:Europe/Oslo
BEGIN:DAYLIGHT
TZOFFSETFROM:+0100
TZOFFSETTO:+0200
TZNAME:CEST
DTSTART:20250330T010000
END:DAYLIGHT
BEGIN:STANDARD
TZOFFSETFROM:+0200
TZOFFSETTO:+0100
TZNAME:CET
DTSTART:20251026T010000
END:STANDARD
END:VTIMEZONE
BEGIN:VEVENT
DTSTART;TZID=Europe/Oslo:20250825T130000
DTEND;TZID=Europe/Oslo:20250825T140000
DTSTAMP:20260419T162723
CREATED:20250805T175810Z
LAST-MODIFIED:20250805T175859Z
UID:10011751-1756126800-1756130400@geoforum.no
SUMMARY:Informasjonsmøte om konseptvalgutredning eierskap til fast eiendom
DESCRIPTION:Kartverket inviterer til en kort gjennomgang av konseptvalgutredningen om eierskap til fast eiendom mandag 25. august kl. 13:00–14:00. \nHensikten med informasjonsmøtet er å informere kort om konseptvalgutredningen og de utredede konseptene. \nLes mer om utredningen. \nPåmeldingsfrist er torsdag 21. august kl. 15.00. \nMer informasjon og påmelding: \nInformasjonsmøte-KVU | Kartverket.no
URL:https://geoforum.no/event/informasjonsmote-om-konseptvalgutredning-eierskap-til-fast-eiendom/
CATEGORIES:Webinar eksternt
END:VEVENT
BEGIN:VEVENT
DTSTART;TZID=Europe/Oslo:20250826T090000
DTEND;TZID=Europe/Oslo:20250826T160000
DTSTAMP:20260419T162723
CREATED:20250624T083959Z
LAST-MODIFIED:20250624T083959Z
UID:10011744-1756198800-1756224000@geoforum.no
SUMMARY:Miljødirektoratet: Fjernmålingsseminar 2025
DESCRIPTION:Konferanse | 26.08.2025 – 26.08.2025 \nFjernmålingsseminar 2025\nMiljødirektoratet inviterer ivrige norske aktører og Miljødirektoratets ansatte som vil jobbe med\, eller er nysgjerrige på fjernmålingsdata. \n\n\n\n\nSted: Grensesvingen 7\, Oslo\nTid: kl. 9:00 -16:00\nPris: Gratis\nArrangør: Miljødirektoratet\n\n\nTid og sted\nSeminaret arrangeres fysisk hos Miljødirektoratet på Helsfyr den 26. august 2025\, kl. 09:00 – 16:00 med mulighet for digital deltakelse. \nVil du holde presentasjon?\nTa gjerne kontakt om du ønske å holde en presentasjon. Alle typer fjernmålingsdata (drone\, flybilder\, satellittdata\, høydedata…) og analysetyper er vi interessert å få presentert. Foredragsholdere presenterer fysisk. \nTo arrangementer – én reise\nI år arrangeres fjernmålingsseminaret og det nasjonale Copernicus brukerforumet samme uke for å gjøre det enklere å delta fysisk på begge. \n\nFjernmålingsseminaret (arrangert av Miljødirektoratet): tirsdag 26. august\, Helsfyr\nCopernicus nasjonalt brukerforum (arrangert av Norsk Romsenter og Miljødirektoratet): onsdag 27. august\, på Skøyen i lokalene til Norsk Romsenter).
URL:https://geoforum.no/event/miljodirektoratet-fjernmalingsseminar-2025/
CATEGORIES:Eksterne kurs og konferanser
END:VEVENT
BEGIN:VEVENT
DTSTART;TZID=Europe/Oslo:20250827T090000
DTEND;TZID=Europe/Oslo:20250827T153000
DTSTAMP:20260419T162723
CREATED:20250805T072003Z
LAST-MODIFIED:20250805T072004Z
UID:10011750-1756285200-1756308600@geoforum.no
SUMMARY:Nasjonalt brukerforum for Copernicus
DESCRIPTION:Norsk Romsenter og Miljødirektoratet arrangerer et årlig møte for nasjonale brukere av data fra Copernicus-programmet. \nI år avholdes møtet i lokalene til Norsk Romsenter på Skøyen i Oslo. Det vil være mulig å delta på møtet både fysisk og digitalt\, og arrangementet er gratis\, men påmelding kreves. \nMer informasjon: \nPåmelding Nasjonalt brukerforum for Copernicus
URL:https://geoforum.no/event/nasjonalt-brukerforum-for-copernicus/
CATEGORIES:Eksterne kurs og konferanser
END:VEVENT
END:VCALENDAR