BEGIN:VCALENDAR
VERSION:2.0
PRODID:-//GeoForum - ECPv6.10.0//NONSGML v1.0//EN
CALSCALE:GREGORIAN
METHOD:PUBLISH
X-ORIGINAL-URL:https://geoforum.no
X-WR-CALDESC:Arrangement for GeoForum
REFRESH-INTERVAL;VALUE=DURATION:PT1H
X-Robots-Tag:noindex
X-PUBLISHED-TTL:PT1H
BEGIN:VTIMEZONE
TZID:Europe/Oslo
BEGIN:DAYLIGHT
TZOFFSETFROM:+0100
TZOFFSETTO:+0200
TZNAME:CEST
DTSTART:20250330T010000
END:DAYLIGHT
BEGIN:STANDARD
TZOFFSETFROM:+0200
TZOFFSETTO:+0100
TZNAME:CET
DTSTART:20251026T010000
END:STANDARD
END:VTIMEZONE
BEGIN:VEVENT
DTSTART;TZID=Europe/Oslo:20250602T100000
DTEND;TZID=Europe/Oslo:20250602T113000
DTSTAMP:20260419T195733
CREATED:20250202T155435Z
LAST-MODIFIED:20250202T155435Z
UID:10011704-1748858400-1748863800@geoforum.no
SUMMARY:Matrikkel-mandag: matrikkelforskriften
DESCRIPTION:Matrikkel-mandag er en faglig digital møteplass for deg som jobber med matrikkelen. Her får du en oversikt over tilbudet og hvordan du kan delta. \nMatrikkel-mandag | Kartverket.no
URL:https://geoforum.no/event/matrikkel-mandag-matrikkelforskriften/
CATEGORIES:Webinar eksternt
END:VEVENT
BEGIN:VEVENT
DTSTART;TZID=Europe/Oslo:20250604T090000
DTEND;TZID=Europe/Oslo:20250604T103000
DTSTAMP:20260419T195733
CREATED:20250520T064448Z
LAST-MODIFIED:20250520T064540Z
UID:10011734-1749027600-1749033000@geoforum.no
SUMMARY:Kartverket: Temadata i areal- og beredskapsplanlegging og barnetråkk
DESCRIPTION:Korleis temadata blir brukt får du meir kunnskap om på webinaret som Kartverket Nordland og Kartverket Troms og Finnmark held denne dagen. Det er inga deltakaravgrensing! Påmeldingsfrist 2. juni. \nPåmelding og program her.
URL:https://geoforum.no/event/kartverket-temadata-i-areal-og-beredskapsplanlegging-og-barnetrakk/
CATEGORIES:Eksterne kurs og konferanser
END:VEVENT
BEGIN:VEVENT
DTSTART;TZID=Europe/Oslo:20250612T090000
DTEND;TZID=Europe/Oslo:20250612T150000
DTSTAMP:20260419T195733
CREATED:20250604T120951Z
LAST-MODIFIED:20250604T120951Z
UID:10011736-1749718800-1749740400@geoforum.no
SUMMARY:GeoAI-konferanse; Tema Byvekstavtale & Teknologi
DESCRIPTION:GeoAI-konferanse; Tema Byvekstavtale & Teknologi | Digin \n  \n\n\n\n\n\n\nSted Teateret\, Kristiansand\nDato 12.06.2025\nTidspunkt 09.00 – 15.15\n\nByvekstavtalen handler om mer enn bompenger og parkeringsplasser – den handler om hvordan vi faktisk kan endre reisevaner og redusere utslipp. Teknologi spiller en nøkkelrolle i å få det til. Så hvordan lykkes med en byvekstavtale? Hvordan kan vi utnytte teknologien til vår fordel\, og hva slags teknologi er det mulig å benytte for å nå målene?\n\n\n\n\n\n\n\n\n\n\nTeknologi som drivkraft\, slik oppnår vi målene i Byvekstavtalen \nByvekstavtalen handler om mer enn bompenger og parkeringsplasser – den handler om hvordan vi faktisk kan endre reisevaner og redusere utslipp. Teknologi spiller en nøkkelrolle i å få det til. \nPå denne konferansen viser vi hvordan GeoAI-teknologi\, mobilitetsdata\, sensorer og analyseverktøy brukes og kan gi bedre beslutningsgrunnlag\, smartere arealbruk og treffsikre tiltak for lavere trafikkbelastning og CO₂-utslipp. \nHvordan nå målene i Byvekstavtalen? Og hva ville Facebook gjort for å endre adferd ved hjelp av teknologi? Du får muligheten til å komme med dine konkrete ideer og forslag i en innovasjonslab\, med kåring av det beste forslaget.\n🔧 Hvem bør delta?\nTeknologer\, konsulenter\, forvaltere og beslutningstakere som vil forstå hvordan digitale verktøy kan løse konkrete utfordringer i byutvikling og mobilitet. \nDette er konferansen for deg som ønsker å se og komme med løsninger – ikke bare diskutere problemer. \nTeknologi gjør Byvekstavtalen mulig. Vi viser hvordan. \nPS: det tilrettelegges for arbeidsstasjoner for de som måtte ha litt oppgaver å gjøre underveis. \nProgram: \n\n\n\n\n\n08:30–09:00\nMingling og innsjekk\n\n\n\n\n\n\n\nSESJON 1 – ADFERD\n\n\n09:00-09:25\nByvekstavtalen\n– Hva er byvekstavtalen – det store bilde\, datagrunnlag og målsetning\n\n\n\nHans Munksgaard\, Byvekstavtalen\n\n\n0930-09:55\nAdferd + tek\n\n\n\nTBA – venter på siste avklaring\n\n\n\n\n\n\n09:55–10:15\nPause\n\n\n\n\n\n\n\nSESJON 2 – DATAMENGDE & TEKNOLOGI\n\n\n10:15-10:45\nKartteknologi i fokus: Hvordan geografisk IT matcher buss med befolkning\n\n\n\nRoman Slobodchikov\, Norkart\n\n\n10:55-11:10\nBussen vet best – Sensorikkteknologi\n\n\n\nFredrik Melby\, TET Digital/Ruter/AKT\n\n\n11:15-11:30\nDatagullgruven du ikke visste om?\n\n\n\nLars Fredrik Gyland\, Kartverket\n\n\n\n\n\n\n11:30–12:30\nLunsj\n\n\n\n\n\n\n12:30–13:20\nSESJON 3 – INNOVASJONS-LAB\n\n\n\nHvordan løse/nå målene i byvekst og teknologiens rolle?\n\n\n\nDeltakende idèskapning fasilitert av Bouvet og Egde\n\n\n\n\n\n\n13:20–13:35\nPause\n\n\n\n\n\n\n\nSESJON 4 – CASER\n\n\n13:35-13:50\nCase\n\n\n\nTBA – venter på siste avklaring\n\n\n13:55-14:10 \nSmart mobilitet i praksis\n– HENT-bestillingstransport og prosjekt med selvkjørende biler\n\n\n\nFredrik Melby\, TET Digital/Ruter/AKT\n\n\n14:15-14:30\nHENT-prosjektet gjennom GIS-analyse\n\n\n\nKPMG\n\n\n14:35-14:45\nHvorfor ønsker Næringsforeningen en Byvekstavtale?\n\n\n\nRoar Osmundsen\, Næringspolitisk leder – Infrastruktur og byutvikling i Næringsforeningen i Kristiansandsregionen\n\n\n\n\n\n\n\nSESJON 5 – OPPSUMMERING\n\n\n14:45-15:05\nForslag fra innovasjonslab\, avstemming\, kåre vinner\n\n\n15.10-15:15\nOppsummering\n\n\n\n\n\n\n15:15–16:00\nSESJON 6 – ARBEIDSSONE\n\n\n\nMail eller telefoner å ta før arbeidsdagen er slutt?\n\n\n\nArbeidsstasjoner og kjøp drikke i restaurant\n\n\n\n\n\n\n16:00–21:00\nSESJON 7 – AFTERPARTY\n\n\n\nVaktbua: grilling\, diskusjoner\, sosialt\n\n\n\n\n\n 
URL:https://geoforum.no/event/geoai-konferanse-tema-byvekstavtale-teknologi/
CATEGORIES:Eksterne kurs og konferanser
END:VEVENT
BEGIN:VEVENT
DTSTART;TZID=Europe/Oslo:20250617T090000
DTEND;TZID=Europe/Oslo:20250617T130000
DTSTAMP:20260419T195733
CREATED:20250623T085037Z
LAST-MODIFIED:20250623T085346Z
UID:10011742-1750150800-1750165200@geoforum.no
SUMMARY:Sommermøte i Østfold
DESCRIPTION:  \nÅrets sommermøte blir Møtet blir avholdt på Græb på Foten 17.6 https://maps.app.goo.gl/DpsBY97QURhxCKpf9 \n  \n0900-0930 Kaffe og prat \n0930- 1015 Oppmåling under vann – Bedre enn du tror?  Styvehavn AS \n1015-1100 Et innblikk i jordskifteingeniørens hverdag\, Lars Askerud Jordskifteretten \n1100-1200 Norkart AI \n1200-1245 Vegmyndighet og matrikkelregistrert eier av vegen – men hva om etaten bare er en av delene? Birgitte Akerhaugen SVV \n1300 Lunch \n  \nPåmelding innen 5. juni her: https://forms.office.com/e/NA6WYmByyD
URL:https://geoforum.no/event/sommermote-i-ostfold/
CATEGORIES:Temadag lokalt
END:VEVENT
BEGIN:VEVENT
DTSTART;TZID=Europe/Oslo:20250618T133000
DTEND;TZID=Europe/Oslo:20250618T143000
DTSTAMP:20260419T195733
CREATED:20250617T104653Z
LAST-MODIFIED:20250617T104653Z
UID:10011739-1750253400-1750257000@geoforum.no
SUMMARY:Webinar: Sommersamling
DESCRIPTION:Gratis webinar\, 18. juni | GeoForum
URL:https://geoforum.no/event/webinar-sommersamling-2/
END:VEVENT
END:VCALENDAR