BEGIN:VCALENDAR
VERSION:2.0
PRODID:-//GeoForum - ECPv6.10.0//NONSGML v1.0//EN
CALSCALE:GREGORIAN
METHOD:PUBLISH
X-WR-CALNAME:GeoForum
X-ORIGINAL-URL:https://geoforum.no
X-WR-CALDESC:Arrangement for GeoForum
REFRESH-INTERVAL;VALUE=DURATION:PT1H
X-Robots-Tag:noindex
X-PUBLISHED-TTL:PT1H
BEGIN:VTIMEZONE
TZID:Europe/Oslo
BEGIN:DAYLIGHT
TZOFFSETFROM:+0100
TZOFFSETTO:+0200
TZNAME:CEST
DTSTART:20250330T010000
END:DAYLIGHT
BEGIN:STANDARD
TZOFFSETFROM:+0200
TZOFFSETTO:+0100
TZNAME:CET
DTSTART:20251026T010000
END:STANDARD
END:VTIMEZONE
BEGIN:VEVENT
DTSTART;TZID=Europe/Oslo:20250505T080000
DTEND;TZID=Europe/Oslo:20250506T170000
DTSTAMP:20260419T224939
CREATED:20250319T092453Z
LAST-MODIFIED:20250319T092453Z
UID:10011722-1746432000-1746550800@geoforum.no
SUMMARY:DKT: workshop for å planlegge program
DESCRIPTION:
URL:https://geoforum.no/event/dkt-workshop-for-a-planlegge-program/
END:VEVENT
BEGIN:VEVENT
DTSTART;TZID=Europe/Oslo:20250505T100000
DTEND;TZID=Europe/Oslo:20250505T113000
DTSTAMP:20260419T224939
CREATED:20250202T155231Z
LAST-MODIFIED:20250502T102305Z
UID:10011703-1746439200-1746444600@geoforum.no
SUMMARY:Matrikkel-mandag
DESCRIPTION:Matrikkel-mandag er en faglig digital møteplass for deg som jobber med matrikkelen. Her får du en oversikt over tilbudet og hvordan du kan delta. \nTema 05. mai er: Kvalitetsheving av matrikkelenheter uten eiendomsgrenser \nMatrikkel-mandag | Kartverket.no
URL:https://geoforum.no/event/matrikkel-mandag-15/
CATEGORIES:Webinar eksternt
END:VEVENT
BEGIN:VEVENT
DTSTART;TZID=Europe/Oslo:20250506T130000
DTEND;TZID=Europe/Oslo:20250506T140000
DTSTAMP:20260419T224939
CREATED:20250422T132628Z
LAST-MODIFIED:20250422T134259Z
UID:10011725-1746536400-1746540000@geoforum.no
SUMMARY:Årsmøte GeoForum Sørlandet 2025
DESCRIPTION:Årsmøte i GeoForum Sørlandet avholdes  06. mai kl 13:00 på Teams \nLenke til møte er sent sammen med innkallingen \nSaksdokument 
URL:https://geoforum.no/event/arsmote-geoforum-sorlandet_2025/
CATEGORIES:Årsmøte
END:VEVENT
BEGIN:VEVENT
DTSTART;TZID=Europe/Oslo:20250516T090000
DTEND;TZID=Europe/Oslo:20250516T103000
DTSTAMP:20260419T224939
CREATED:20250425T084738Z
LAST-MODIFIED:20250425T084739Z
UID:10011727-1747386000-1747391400@geoforum.no
SUMMARY:Webinar: grep for mer effektiv arealplanlegging
DESCRIPTION:Distriktssenteret og Kommunal- og distriktsdepartementet inviterer til webinar om forenklet veiledning om arealplanlegging. 16. mai. 2025 kl. 09:00 – 10:30 \nPå webinaret presenterer blant annet Norconsult en nyutviklet steg-for-steg veiledning til planprosessen for distriktskommuner. Som en del av veiledningen vil Kommunal- og distriktsdepartementet også publisere nye maler for planprosessene i kommuneplanens arealdel på nettsiden med maler for planprosessen.
URL:https://geoforum.no/event/webinar-grep-for-mer-effektiv-arealplanlegging/
CATEGORIES:Webinar eksternt
END:VEVENT
BEGIN:VEVENT
DTSTART;TZID=Europe/Oslo:20250520T103000
DTEND;TZID=Europe/Oslo:20250520T170000
DTSTAMP:20260419T224939
CREATED:20250514T090011Z
LAST-MODIFIED:20250514T091546Z
UID:10011729-1747737000-1747760400@geoforum.no
SUMMARY:FoU-forum for geografisk informasjon
DESCRIPTION:Tema denne gang er innsikt og samspill med forskningsmiljøene i nordområdene\, og da med kystsonen som det mest sentrale området. \n  \nMer info på Kartverket.no
URL:https://geoforum.no/event/fou-forum-for-geografisk-informasjon-6/
CATEGORIES:Seminar
END:VEVENT
BEGIN:VEVENT
DTSTART;TZID=Europe/Oslo:20250527T080000
DTEND;TZID=Europe/Oslo:20250528T170000
DTSTAMP:20260419T224939
CREATED:20250520T064351Z
LAST-MODIFIED:20250520T064706Z
UID:10011733-1748332800-1748451600@geoforum.no
SUMMARY:Kartverket: Workshop Georeferering i den digitale æra 2025
DESCRIPTION:Høsten 2024 hadde vi en workshop i Tromsø om fremtidens referanserammer. Nå følger vi opp og arrangerer workshopen “Georeferencing in the digital era 2025”\, hvor vi fortsetter diskusjonene. \nProgram og påmelding her.
URL:https://geoforum.no/event/kartverket-workshop-georeferering-i-den-digitale-aera-2025/
CATEGORIES:Eksterne kurs og konferanser
END:VEVENT
BEGIN:VEVENT
DTSTART;TZID=Europe/Oslo:20250527T093000
DTEND;TZID=Europe/Oslo:20250528T153000
DTSTAMP:20260419T224939
CREATED:20250306T142157Z
LAST-MODIFIED:20250306T142157Z
UID:10011715-1748338200-1748446200@geoforum.no
SUMMARY:Georeferencing in the Digital Era 2025
DESCRIPTION:Bli med på en unik faglig møteplass hvor vi tar referanserammer inn i fremtiden! Etter suksessen i Tromsø fortsetter vi arbeidet med å forenkle bruken av geospatiale data og løse utfordringer knyttet til referanserammer\, metadata og standarder. \nHvorfor delta? \nAutomatisering av referanserammer – GIS-brukere skal slippe manuelle valg.\nBedre metadatahåndtering – Maskinlesbare standarder for tid og koordinater.\nEuropeisk harmonisering – Enhetlige referanserammer og tydeligere standarder. \nSikre deg plass nå! Workshop om fremtidens referanserammer | Kartverket.no \nCall for abstracts: Send inn ditt bidrag innen 16. april til karoline.skar@kartverket.no. \nOvernatting: Radisson RED Airport (bookingref: MB955464\, tlf. +47 6702 4100).\nMerk: Reise og overnatting dekkes ikke. \nReferanserammer trenger ikke være komplisert – bli med og finn løsningene! \n  \nGeoreferencing in the Digital Era 2025
URL:https://geoforum.no/event/georeferencing-in-the-digital-era-2025/
CATEGORIES:Eksterne kurs og konferanser
END:VEVENT
END:VCALENDAR