BEGIN:VCALENDAR
VERSION:2.0
PRODID:-//GeoForum - ECPv6.10.0//NONSGML v1.0//EN
CALSCALE:GREGORIAN
METHOD:PUBLISH
X-ORIGINAL-URL:https://geoforum.no
X-WR-CALDESC:Arrangement for GeoForum
REFRESH-INTERVAL;VALUE=DURATION:PT1H
X-Robots-Tag:noindex
X-PUBLISHED-TTL:PT1H
BEGIN:VTIMEZONE
TZID:Europe/Oslo
BEGIN:DAYLIGHT
TZOFFSETFROM:+0100
TZOFFSETTO:+0200
TZNAME:CEST
DTSTART:20250330T010000
END:DAYLIGHT
BEGIN:STANDARD
TZOFFSETFROM:+0200
TZOFFSETTO:+0100
TZNAME:CET
DTSTART:20251026T010000
END:STANDARD
END:VTIMEZONE
BEGIN:VEVENT
DTSTART;TZID=Europe/Oslo:20250108T080000
DTEND;TZID=Europe/Oslo:20250109T170000
DTSTAMP:20260420T022247
CREATED:20241112T154733Z
LAST-MODIFIED:20241112T154800Z
UID:10011549-1736323200-1736442000@geoforum.no
SUMMARY:Pålitelighetsanalyse for eiendomsmåling
DESCRIPTION:Norgeodesi inviterer til kursdager \n  \nVelg mellom temaer: Landmåling og Eiendomsmåling\, 3D skanning og punktskybehandling\, Stikking og dataflyt med BIM modeller \n  \nLes mer: \nKursdager i januar – Norgeodesi AS
URL:https://geoforum.no/event/palitelighetsanalyse-for-eiendomsmaling/
LOCATION:Lily Country Club
END:VEVENT
BEGIN:VEVENT
DTSTART;TZID=Europe/Oslo:20250108T090000
DTEND;TZID=Europe/Oslo:20250108T153000
DTSTAMP:20260420T022247
CREATED:20241010T141533Z
LAST-MODIFIED:20241014T134502Z
UID:10011686-1736326800-1736350200@geoforum.no
SUMMARY:Fagdag plan- og bygningsrett på Sørlandet
DESCRIPTION:GeoForum Sørlandet har gleden av å invitere til fagdag med Fredrik Holth og Tone Steinnes! Dette var en stor suksess i 2022. Derfor arrangerer vi ny fagdag med Holth med nye temaer og nyttig informasjon innenfor plan\, byggesak og matrikkel. \nFagdagen finner sted 8. januar på Teateret i Kristiansand \nProgram \nPåmelding \nDeltakerne inviteres til å sende inn spørsmål innen plan- og bygningsloven og matrikkelloven på forhånd. \nKan sendes inn ved bruk av dette skjema senest 06. desember
URL:https://geoforum.no/event/fagdag-plan-og-bygningsrett-pa-sorlandet/
LOCATION:Teateret i Kristiansand\, Kongensgate 2\, Kristiansand
CATEGORIES:Temadag lokalt
END:VEVENT
BEGIN:VEVENT
DTSTART;TZID=Europe/Oslo:20250115T113000
DTEND;TZID=Europe/Oslo:20250116T140000
DTSTAMP:20260420T022247
CREATED:20240924T065229Z
LAST-MODIFIED:20250115T165505Z
UID:10011685-1736940600-1737036000@geoforum.no
SUMMARY:Lederkonferansen 2025
DESCRIPTION:Lederkonferansen er møtestedet for GeoForums tillitsvalgte og sekretariatet. \nI år møtes vi på Kringler gård\, på Maura nær Gardermoen. Kringler gård gir en fin ramme for gode debatter og sosialt samvær. \nProgram \nPåmelding \n 
URL:https://geoforum.no/event/lederkonferansen-2/
LOCATION:Kringler gård\, Åsvegen 775\, 2032 Maura
CATEGORIES:Konferanse
END:VEVENT
BEGIN:VEVENT
DTSTART;TZID=Europe/Oslo:20250120T090000
DTEND;TZID=Europe/Oslo:20250121T140000
DTSTAMP:20260420T022247
CREATED:20250107T122521Z
LAST-MODIFIED:20250107T122521Z
UID:10011565-1737363600-1737468000@geoforum.no
SUMMARY:Utdanningsmesse Stavanger
DESCRIPTION:Utdanningsmesser — GEOMATIKKBRANSJEN
URL:https://geoforum.no/event/utdanningsmesse-stavanger/
END:VEVENT
BEGIN:VEVENT
DTSTART;TZID=Europe/Oslo:20250123T090000
DTEND;TZID=Europe/Oslo:20250124T140000
DTSTAMP:20260420T022247
CREATED:20250107T122600Z
LAST-MODIFIED:20250107T122600Z
UID:10011692-1737622800-1737727200@geoforum.no
SUMMARY:Utdanningsmesse Bergen
DESCRIPTION:Utdanningsmesser — GEOMATIKKBRANSJEN
URL:https://geoforum.no/event/utdanningsmesse-bergen/
END:VEVENT
BEGIN:VEVENT
DTSTART;TZID=Europe/Oslo:20250127T080000
DTEND;TZID=Europe/Oslo:20250128T170000
DTSTAMP:20260420T022247
CREATED:20240503T122618Z
LAST-MODIFIED:20250216T115846Z
UID:10011664-1737964800-1738083600@geoforum.no
SUMMARY:X\, Y og Z - ledninger over og under bakken
DESCRIPTION:Se program og lenke til påmelding: \nX\, Y og Z – ledninger over og under bakken | GeoForum \n  \n 
URL:https://geoforum.no/event/x-y-og-z-ledninger-over-og-under-bakken/
CATEGORIES:Konferanse
END:VEVENT
BEGIN:VEVENT
DTSTART;TZID=Europe/Oslo:20250127T100000
DTEND;TZID=Europe/Oslo:20250128T140000
DTSTAMP:20260420T022247
CREATED:20240916T113030Z
LAST-MODIFIED:20250829T123049Z
UID:10011682-1737972000-1738072800@geoforum.no
SUMMARY:Seksjoneringskurs
DESCRIPTION:GeoForum inviterer til  seksjoneringskurs 27.-28. januar på Scandic Hotel Oslo airport. \nMålgruppen er kommunale saksbehandlere\, eiendomsmeglere\, advokater og  store utbyggere. Kurset gir en grundig  forståelse for og kunnskap om eierseksjonsloven. \nKurset er praktisk rettet og dekker emner som saksbehandlere og søkere må ha kunnskap om. \nProgrammet er systematisk bygget opp fra grunnleggende vilkår for seksjonering til reseksjonering og endring av seksjonert eiendom.  \nProgram \nForedragsholderne holder et svært høyt nivå. Flere var med i lovutvalget da eierseksjonsloven ble revidert. De vil være tilstede begge dagene og på den måten tilgjengelige for spørsmål fra deltakerne begge dagene.  Mer om foredragsholderne i programmet \nFinanstilsynet har godkjent kurset som 3 timer etterutdanning jf. eiendomsmeglingsforskriften § 4-10 tredje ledd. GeoForum utarbeider kursbevis. \nAdvokattilsynet har innvilget GeoForum sin søknad om godkjenning av enkeltkurs innenfor juridiske emner og emner knyttet til utøving av advokatyrket\, jf. advokatforskriften § 13 tredje ledd\, siste punktum.
URL:https://geoforum.no/event/seksjoneringskurs-2025/
LOCATION:Scandic Oslo Airport\, Ravinvegen 15\, 2060 Gardermoen
CATEGORIES:Kurs
END:VEVENT
BEGIN:VEVENT
DTSTART;TZID=Europe/Oslo:20250129T080000
DTEND;TZID=Europe/Oslo:20250130T170000
DTSTAMP:20260420T022247
CREATED:20241017T082951Z
LAST-MODIFIED:20250107T083117Z
UID:10011690-1738137600-1738256400@geoforum.no
SUMMARY:Lokale Geomatikkdager i Trøndelag på Røros
DESCRIPTION: Lokale Geomatikkdager i Trøndelag på Røros den 29-30.Jan 2025 \nDet er 60 års jubileum\, og planleggingen er i full gang. \nProgram: Program LG Røros 2025 – v3 \nPåmelding: Lokale geomatikkdager 2025 Røros
URL:https://geoforum.no/event/lokale-geomatikkdager-i-trondelag-pa-roros/
CATEGORIES:Lokale geomatikkdager
END:VEVENT
BEGIN:VEVENT
DTSTART;TZID=Europe/Oslo:20250130T090000
DTEND;TZID=Europe/Oslo:20250131T140000
DTSTAMP:20260420T022247
CREATED:20250107T122643Z
LAST-MODIFIED:20250107T122643Z
UID:10011693-1738227600-1738332000@geoforum.no
SUMMARY:Utdanningsmesse Trondheim
DESCRIPTION:Utdanningsmesser — GEOMATIKKBRANSJEN
URL:https://geoforum.no/event/utdanningsmesse-trondheim/
END:VEVENT
END:VCALENDAR