BEGIN:VCALENDAR
VERSION:2.0
PRODID:-//GeoForum - ECPv6.10.0//NONSGML v1.0//EN
CALSCALE:GREGORIAN
METHOD:PUBLISH
X-ORIGINAL-URL:https://geoforum.no
X-WR-CALDESC:Arrangement for GeoForum
REFRESH-INTERVAL;VALUE=DURATION:PT1H
X-Robots-Tag:noindex
X-PUBLISHED-TTL:PT1H
BEGIN:VTIMEZONE
TZID:Europe/Oslo
BEGIN:DAYLIGHT
TZOFFSETFROM:+0100
TZOFFSETTO:+0200
TZNAME:CEST
DTSTART:20240331T010000
END:DAYLIGHT
BEGIN:STANDARD
TZOFFSETFROM:+0200
TZOFFSETTO:+0100
TZNAME:CET
DTSTART:20241027T010000
END:STANDARD
END:VTIMEZONE
BEGIN:VEVENT
DTSTART;TZID=Europe/Oslo:20241003T080000
DTEND;TZID=Europe/Oslo:20241004T170000
DTSTAMP:20260419T211136
CREATED:20231214T130205Z
LAST-MODIFIED:20240919T102912Z
UID:10011622-1727942400-1728061200@geoforum.no
SUMMARY:Geomatikktreff Rogaland
DESCRIPTION:Lokale geomatikkdager i Rogaland blir 3.-4. oktober på Sola Strand hotel \nProgram:Program Lokale Geomatikkdager Rogaland oktober 2024 \nPåmelding her
URL:https://geoforum.no/event/lokale-geomatikkdager-i-rogaland/
LOCATION:Sola Strand Hotel\, Axel Lunds veg 27\, Sola\, 4050
CATEGORIES:Lokale geomatikkdager
GEO:58.885057;5.6048095
X-APPLE-STRUCTURED-LOCATION;VALUE=URI;X-ADDRESS=Sola Strand Hotel Axel Lunds veg 27 Sola 4050;X-APPLE-RADIUS=500;X-TITLE=Axel Lunds veg 27:geo:5.6048095,58.885057
END:VEVENT
BEGIN:VEVENT
DTSTART;VALUE=DATE:20241014
DTEND;VALUE=DATE:20241016
DTSTAMP:20260419T211136
CREATED:20240122T101843Z
LAST-MODIFIED:20240122T101859Z
UID:10011628-1728864000-1729036799@geoforum.no
SUMMARY:GeoTek - Slik skaper vi samfunnsverdi med geografiske data og teknologi
DESCRIPTION:GeoTek arrangeres av Geodata AS og er en konferanse der geografisk informasjon\, geografiske data og geografiske løsninger står i sentrum. \nI år arrangeres den 14.-15. oktober på Thon Hotel Arena\, Lillestrøm. \nMer informasjon kommer på https://www.geodata.no/geotek \n 
URL:https://geoforum.no/event/geotek-slik-skaper-vi-samfunnsverdi-med-geografiske-data-og-teknologi/
LOCATION:Thon Hotel Arena\, Nesgata 1\, Lillestrøm
CATEGORIES:Eksterne kurs og konferanser
END:VEVENT
BEGIN:VEVENT
DTSTART;TZID=Europe/Oslo:20241015T090000
DTEND;TZID=Europe/Oslo:20241015T110000
DTSTAMP:20260419T211136
CREATED:20240920T081640Z
LAST-MODIFIED:20240920T082444Z
UID:10011683-1728982800-1728990000@geoforum.no
SUMMARY:Webinar om arealregnskap\, naturregnskap og klimagassregnskap
DESCRIPTION:Planavdelingen i Kommunal- og distriktsdepartementet og Miljødirektoratet med webinarserien om klima og natur i planlegging. I vår ble det holdt fem webinarer. \nTirsdag 15. oktober: arealregnskap\, naturregnskap og klimagassregnskap \nMer informasjon på miljodirektoratet.no \nOpptak\, presentasjoner og mer informasjon finner du på: www.miljodirektoratet.no/kunnskapsarena
URL:https://geoforum.no/event/webinar-om-arealregnskap-naturregnskap-og-klimagassregnskap/
CATEGORIES:Webinar eksternt
END:VEVENT
BEGIN:VEVENT
DTSTART;TZID=Europe/Oslo:20241020T080000
DTEND;TZID=Europe/Oslo:20241020T170000
DTSTAMP:20260419T211136
CREATED:20241011T110334Z
LAST-MODIFIED:20241011T110513Z
UID:10011688-1729411200-1729443600@geoforum.no
SUMMARY:Frist Call for abstracts\, Geomatikkdagene 2025
DESCRIPTION:Call for abstract\, Geomatikkdagene 2025 Survey (surveymonkey.com)
URL:https://geoforum.no/event/frist-call-for-abstracts-geomatikkdagene-2025/
END:VEVENT
BEGIN:VEVENT
DTSTART;TZID=Europe/Oslo:20241021T080000
DTEND;TZID=Europe/Oslo:20241022T170000
DTSTAMP:20260419T211136
CREATED:20240620T112327Z
LAST-MODIFIED:20240821T061613Z
UID:10011670-1729497600-1729616400@geoforum.no
SUMMARY:Eiendomskonferansen 2024
DESCRIPTION:Solstrand hotel og bad.\nEiendomskonferansen_2024 Program \n\nPåmeldingen er åpnet
URL:https://geoforum.no/event/eiendomskonferansen-2024/
LOCATION:Solstrand Hotel & Bad\, Solstrandveien 200\, Os\, 5201
CATEGORIES:Konferanse,Lokale geomatikkdager
GEO:60.1890693;5.4876245
X-APPLE-STRUCTURED-LOCATION;VALUE=URI;X-ADDRESS=Solstrand Hotel & Bad Solstrandveien 200 Os 5201;X-APPLE-RADIUS=500;X-TITLE=Solstrandveien 200:geo:5.4876245,60.1890693
END:VEVENT
BEGIN:VEVENT
DTSTART;TZID=Europe/Oslo:20241022T093000
DTEND;TZID=Europe/Oslo:20241023T150000
DTSTAMP:20260419T211136
CREATED:20240325T151706Z
LAST-MODIFIED:20241018T103258Z
UID:10011657-1729589400-1729695600@geoforum.no
SUMMARY:Regionale geomatikkdager for Telemark\, Vestfold og Østfold 2024
DESCRIPTION:Regionale Geomatikkdager for Telemark\, Vestfold og Østfold arrangeres i år på Quality Skjærgården hotell i Langesund. \n  \nPåmelding: Lokale Geomatikkdager i Langesund (pameldingssystem.no) \nProgram: Program for Geomatikkdagene i Langesund 22-23oktober 2024
URL:https://geoforum.no/event/regionale-geomatikkdager-for-telemark-vestfold-og-ostfold-2024/
CATEGORIES:Lokale geomatikkdager
END:VEVENT
BEGIN:VEVENT
DTSTART;TZID=Europe/Oslo:20241023T080000
DTEND;TZID=Europe/Oslo:20241023T150000
DTSTAMP:20260419T211136
CREATED:20240729T071802Z
LAST-MODIFIED:20240729T071802Z
UID:10011671-1729670400-1729695600@geoforum.no
SUMMARY:QGIS Brukersamling
DESCRIPTION:Vi fortsetter suksessen fra i fjor\, og legger QGIS Brukersamling til dagen før FOSS4G. \nDenne blir på Ås\, samme sted på FOSS4G.
URL:https://geoforum.no/event/qgis-brukersamling/
CATEGORIES:Eksterne kurs og konferanser
END:VEVENT
BEGIN:VEVENT
DTSTART;TZID=Europe/Oslo:20241024T080000
DTEND;TZID=Europe/Oslo:20241024T170000
DTSTAMP:20260419T211136
CREATED:20240612T064913Z
LAST-MODIFIED:20241016T115443Z
UID:10011669-1729756800-1729789200@geoforum.no
SUMMARY:FOSS4G
DESCRIPTION:Sted: Vitenparken Campus Ås \nTransport: \nBil: Avgiftsbelagt gjesteparkeringsplass sør for Drøbakveien (angitt med  hvit P i en grønn firkant) på kartet \nTog og/eller buss fra Oslo eller Ski: https://entur.no/ Angi til-sted: «Universitetet i Ås» som er bussholdeplassen langs Drøbakveien ved Skogsdammen. \nFra Oslo S tar det rundt 55 minutter med tog og buss. \nEksempel fra Oslo med ankomst før kl. 09:30 \nFra Ski (stasjon/busstopp rett utenfor hotellet) tar det 16 minutter med buss som går hvert 10. minutt. \nEksempel fra Ski med ankomst før kl. 09:30 \n  \nPåmelding: FOSS4G NOR 2024 – Ås 24. oktober (pameldingssystem.no) \n \n 
URL:https://geoforum.no/event/foss4g-2/
LOCATION:Vitenparken Campus Ås\, Ås
CATEGORIES:Konferanse
END:VEVENT
BEGIN:VEVENT
DTSTART;TZID=Europe/Oslo:20241031T080000
DTEND;TZID=Europe/Oslo:20241031T153000
DTSTAMP:20260419T211136
CREATED:20240904T121530Z
LAST-MODIFIED:20240924T141217Z
UID:10011678-1730361600-1730388600@geoforum.no
SUMMARY:Geoklar Nord 2024 AVLYST
DESCRIPTION:
URL:https://geoforum.no/event/geoklar-nord-2024/
CATEGORIES:Temadag lokalt
END:VEVENT
END:VCALENDAR