BEGIN:VCALENDAR
VERSION:2.0
PRODID:-//GeoForum - ECPv6.10.0//NONSGML v1.0//EN
CALSCALE:GREGORIAN
METHOD:PUBLISH
X-WR-CALNAME:GeoForum
X-ORIGINAL-URL:https://geoforum.no
X-WR-CALDESC:Arrangement for GeoForum
REFRESH-INTERVAL;VALUE=DURATION:PT1H
X-Robots-Tag:noindex
X-PUBLISHED-TTL:PT1H
BEGIN:VTIMEZONE
TZID:Europe/Oslo
BEGIN:DAYLIGHT
TZOFFSETFROM:+0100
TZOFFSETTO:+0200
TZNAME:CEST
DTSTART:20230326T010000
END:DAYLIGHT
BEGIN:STANDARD
TZOFFSETFROM:+0200
TZOFFSETTO:+0100
TZNAME:CET
DTSTART:20231029T010000
END:STANDARD
END:VTIMEZONE
BEGIN:VEVENT
DTSTART;TZID=Europe/Oslo:20230111T090000
DTEND;TZID=Europe/Oslo:20230112T143000
DTSTAMP:20260419T181241
CREATED:20221122T075335Z
LAST-MODIFIED:20221124T130506Z
UID:10011545-1673427600-1673533800@geoforum.no
SUMMARY:Plan- bygg- og matrikkelfagdager i Innlandet
DESCRIPTION:GeoForum Innlandet og Kartverket Innlandet har gleden av å ønske velkommen til plan-\, bygg og matrikkelfagdager i Innlandet 11. og 12. januar 2023 på Honne konferansesenter på Biri \n  \nPåmelding \nInvitasjon til Plan\, bygg og matrikkelfagdager i Innlandet \n  \nMålgruppen vil i hovedsak være de som jobber med byggesak og oppmåling\, men arrangementet kan også være aktuelt for de som jobber med arealplan og virksomhetsledere for nevnte fagområder. \nDen første dagen (11. januar) vil Fredrik Holth fra Holth og Winge foredra om ulike emner innenfor matrikkel og plan- og bygningsrett.\nDen andre dagen (12. januar) vil dere få høre innlegg om blant annet ny informasjonsmodell for bygning i matrikkelen\, kvalitetsheving av bygning og eiendomsgrenser i matrikkelen og eiendomsgrenser i/mot vann. \nDeltakerne må bestille middag og overnatting på Honne selv. Mer informasjon om dette står på side 4 i invitasjonen. \nI forbindelse med punktet «Lokale problemstillinger fra Innlandet» som Fredrik Holth skal holde 11. januar\, oppfordrer vi deltakerne til å sende inn konkrete problemstillinger innenfor plan\, bygg og matrikkelområdet som de ønsker at skal tas opp. Ut fra hva som kommer inn og hva vi i planleggingskomiteen tror har størst interesse\, vil vi velge ut noen av de innsendte problemstillingene. \nInnspill sendes til: magnus.clausen@stange.kommune.no \nMer informasjon om arrangementet og program finner du i invitasjonen. \nPåmeldingsfristen er 19 desember.
URL:https://geoforum.no/event/plan-bygg-og-matrikkelfagdager-i-innlandet/
LOCATION:Honne Hotell og Konferansesenter\, Honnevegen 60\, Biri\, 2836
ORGANIZER;CN="GeoForum Innlandet":MAILTO:magnus.clausen@stange.kommune.no
END:VEVENT
BEGIN:VEVENT
DTSTART;TZID=Europe/Oslo:20230118T100000
DTEND;TZID=Europe/Oslo:20230119T150000
DTSTAMP:20260419T181241
CREATED:20220708T093707Z
LAST-MODIFIED:20221222T121408Z
UID:10011522-1674036000-1674140400@geoforum.no
SUMMARY:Lederkonferansen 2023
DESCRIPTION:Styret\, vararepresentanter\, faggruppeledere\, lokalavdelingsledere samles på lederkonferansen 2023. \nKonferansen er på Thon hotel Opera i Oslo sentrum. \nProgram
URL:https://geoforum.no/event/lederkonferansen-2023/
CATEGORIES:Konferanse
END:VEVENT
BEGIN:VEVENT
DTSTART;TZID=Europe/Oslo:20230124T093000
DTEND;TZID=Europe/Oslo:20230126T160000
DTSTAMP:20260419T181241
CREATED:20220921T211227Z
LAST-MODIFIED:20221221T145535Z
UID:10011534-1674552600-1674748800@geoforum.no
SUMMARY:Lokale geomatikkdager og fagdag i Trøndelag
DESCRIPTION:GeoForum Trøndelag inviter til lokale geomatikkdager og Fagdag i Namsos på Scandic Rock City. \n  \nPåmelding \nFagdag om PBL 24 januar 2023 Namsos \nProgram Lokale geomatikkdager Trøndelag 2023
URL:https://geoforum.no/event/lokale-geomatikkdager-i-trondelag-2/
CATEGORIES:Lokale geomatikkdager
END:VEVENT
BEGIN:VEVENT
DTSTART;TZID=Europe/Oslo:20230130T113000
DTEND;TZID=Europe/Oslo:20230130T190000
DTSTAMP:20260419T181241
CREATED:20230109T153801Z
LAST-MODIFIED:20230116T101725Z
UID:10011569-1675078200-1675105200@geoforum.no
SUMMARY:Temadag og årsmøte GeoForum Rogaland 2023
DESCRIPTION:GeoForum Rogaland inviterer til fagdag og  årsmøte på Sandnes Rådhus. \nTradisjonen tro blir det middag på kvelden. \nProgram \nPåmelding
URL:https://geoforum.no/event/temadag-og-arsmote-geoforum-rogaland-2023/
CATEGORIES:Årsmøte,Temadag lokalt
END:VEVENT
END:VCALENDAR