BEGIN:VCALENDAR
VERSION:2.0
PRODID:-//GeoForum - ECPv6.10.0//NONSGML v1.0//EN
CALSCALE:GREGORIAN
METHOD:PUBLISH
X-WR-CALNAME:GeoForum
X-ORIGINAL-URL:https://geoforum.no
X-WR-CALDESC:Arrangement for GeoForum
REFRESH-INTERVAL;VALUE=DURATION:PT1H
X-Robots-Tag:noindex
X-PUBLISHED-TTL:PT1H
BEGIN:VTIMEZONE
TZID:Europe/Oslo
BEGIN:DAYLIGHT
TZOFFSETFROM:+0100
TZOFFSETTO:+0200
TZNAME:CEST
DTSTART:20220327T010000
END:DAYLIGHT
BEGIN:STANDARD
TZOFFSETFROM:+0200
TZOFFSETTO:+0100
TZNAME:CET
DTSTART:20221030T010000
END:STANDARD
END:VTIMEZONE
BEGIN:VEVENT
DTSTART;TZID=Europe/Oslo:20221108T093000
DTEND;TZID=Europe/Oslo:20221108T150000
DTSTAMP:20260419T214347
CREATED:20221007T083917Z
LAST-MODIFIED:20221021T143018Z
UID:10011536-1667899800-1667919600@geoforum.no
SUMMARY:Lokale temadag i planleggingen\, Bergen
DESCRIPTION:GeoForum Hordaland inviterer til lokal temadag i planleggingen \nProgram \nPåmelding
URL:https://geoforum.no/event/lokale-temadag-i-planleggingen-bergen/
CATEGORIES:Temadag lokalt
END:VEVENT
BEGIN:VEVENT
DTSTART;TZID=Europe/Oslo:20221110T090000
DTEND;TZID=Europe/Oslo:20221111T153000
DTSTAMP:20260419T214347
CREATED:20220227T163533Z
LAST-MODIFIED:20221109T221013Z
UID:10011498-1668070800-1668180600@geoforum.no
SUMMARY:Lokale Geomatikkdager i Rogaland 2022
DESCRIPTION:GeoForum Rogaland inviterer til geomatikktreffet i Rogaland som også i år vil finne sted på Sola Strand hotel. \n  \nProgram \nPåmelding
URL:https://geoforum.no/event/lokale-gd-rogaland-22/
LOCATION:Sola Strand hotel
CATEGORIES:Lokale geomatikkdager
END:VEVENT
BEGIN:VEVENT
DTSTART;TZID=Europe/Oslo:20221114T093000
DTEND;TZID=Europe/Oslo:20221115T150000
DTSTAMP:20260419T214347
CREATED:20220603T194704Z
LAST-MODIFIED:20220603T194705Z
UID:10011518-1668418200-1668524400@geoforum.no
SUMMARY:ISY dagene 2022
DESCRIPTION:Norconsult informasjonssystemer inviterer til ISYdagene 14.-15. november på Clarion Hotel Gardermoen. \nMer informasjon kommer og legges ut på NOIS.no
URL:https://geoforum.no/event/isy-dagene-2022/
CATEGORIES:Eksterne kurs og konferanser
END:VEVENT
BEGIN:VEVENT
DTSTART;TZID=Europe/Oslo:20221114T093000
DTEND;TZID=Europe/Oslo:20221116T150000
DTSTAMP:20260419T214347
CREATED:20220522T195520Z
LAST-MODIFIED:20220522T195605Z
UID:10011383-1668418200-1668610800@geoforum.no
SUMMARY:KOMTEK-dagene 2022
DESCRIPTION:Norkart inviterer til KOMTEK -dagene 14-16 november 2022  på Clarion Hotel The Hub i Oslo. \nLes mer på Norkart.no
URL:https://geoforum.no/event/komtek-dagene-2022/
END:VEVENT
BEGIN:VEVENT
DTSTART;TZID=Europe/Oslo:20221115T090000
DTEND;TZID=Europe/Oslo:20221115T153000
DTSTAMP:20260419T214347
CREATED:20220926T075158Z
LAST-MODIFIED:20220927T075811Z
UID:10011535-1668502800-1668526200@geoforum.no
SUMMARY:Fagdag Plan- og bygningsrett\, Kristiansand 2022
DESCRIPTION:GeoForum Sørlandet inviterer til fagdag innen plan- og bygningsrett 15. november i Kristiansand \nSted: Clarion Hotel Ernst \, Kristiansand​ \nForedragsholder Fredrik Holth\, dosent ved Institutt for eiendom og juss ved NMBU. Medeier i Holth & Wise sammen med Nikolai K. Winge – begge med et brennende engasjement for plan- og bygningsrett. www.holthogwinge.no \n  \nTema: \n\nSammenheng mellom plan- og bygningsloven og forvaltningsloven.\nTolkning av reguleringsplaner​\nSøknadsplikten i plan- og bygningsloven\nDypdykk i hva er en grensejustering er og hva er en arealoverføring i rettslig forstand?​\n\n  \nProgram \nPåmelding \n  \n 
URL:https://geoforum.no/event/fagdag-plan-og-bygningsrett-kristiansand_2022/
CATEGORIES:Temadag lokalt
ATTACH;FMTTYPE=image/jpeg:https://geoforum.no/wp-content/uploads/2022/09/paragraph-gc3065d9fe_1920.jpg
END:VEVENT
BEGIN:VEVENT
DTSTART;TZID=Europe/Oslo:20221116T080000
DTEND;TZID=Europe/Oslo:20221117T170000
DTSTAMP:20260419T214347
CREATED:20220816T120521Z
LAST-MODIFIED:20221012T100024Z
UID:10011526-1668585600-1668704400@geoforum.no
SUMMARY:Geodesi- og hydrografidagene 2022
DESCRIPTION:Program og påmelding finner du her: Geodesi- og hydrografidagene 2022 | GeoForum
URL:https://geoforum.no/event/geodesi-og-hydrografidagene-2022/
LOCATION:Sola Strand Hotel\, Axel Lunds veg 27\, Sola\, 4050
GEO:58.885057;5.6048095
X-APPLE-STRUCTURED-LOCATION;VALUE=URI;X-ADDRESS=Sola Strand Hotel Axel Lunds veg 27 Sola 4050;X-APPLE-RADIUS=500;X-TITLE=Axel Lunds veg 27:geo:5.6048095,58.885057
END:VEVENT
BEGIN:VEVENT
DTSTART;TZID=Europe/Oslo:20221116T130000
DTEND;TZID=Europe/Oslo:20221116T180000
DTSTAMP:20260419T214347
CREATED:20221101T080317Z
LAST-MODIFIED:20231113T100602Z
UID:10011538-1668603600-1668621600@geoforum.no
SUMMARY:GIS-dagen i Bergen 2022
DESCRIPTION:GIS-dagen 2022 i Bergen er et samarbeid mellom Universitetet i Bergen\, Høgskolen på Vestlandet og GeoForum Hordaland. \nArrangementet gjennomføres i Store auditorium\, SV-bygget\, UiB (Lauritz Meltzers hus) . Registrering mellom 12.30 og 13.00\, før det blir ti presentasjoner fra 13.00 til 18.00. \nProgrammet er klart\, og det blir innlegg om maskinlæring i flere anvendelser\, dronekartlegging\, GIS i arkeologi masse mer spennende! \nEtter siste presentasjon tusler vi bort til Muntlig på Studentsenteret hvor det blir quiz og vi tilbyr pizza fra kl 18.30. Her er det også muligheter for å kjøpe drikke i baren. \nPriser: \n\nStudenter: GRATIS\nMedlem: kr 250\,-\nOrdinær: kr 350\,-\n\n  \nPåmelding \nProgram  \nPåmeldte som ikke møter opp og ikke er avmeldt innen 14. november belastes kr 150
URL:https://geoforum.no/event/gis-dagen-i-bergen-2022/
CATEGORIES:Temadag lokalt
END:VEVENT
BEGIN:VEVENT
DTSTART;TZID=Europe/Oslo:20221117T093000
DTEND;TZID=Europe/Oslo:20221117T150000
DTSTAMP:20260419T214347
CREATED:20220708T095125Z
LAST-MODIFIED:20220921T123550Z
UID:10011523-1668677400-1668697200@geoforum.no
SUMMARY:Fagdag Plan\, og bygningsrett\, Molde
DESCRIPTION:GeoForum Møre og Romsdal inviterer til fagdag innen Plan- og bygningsrett på Kartverket i  Molde. \nNoen av temaene som omhandles er: \nSammenhengen mellom plan- og bygningsloven og forvaltningsloven\, overvannsjuss og tolkning av reguleringsplan. \nFredrik Holth som foredragsholder ved Institutt for eiendom og juss ved NMBU og medeier i Holth & Winge sammen med Nikolai K. Winge \n  \nProgram \nPåmelding \n  \n 
URL:https://geoforum.no/event/fagdag-plan-og-bygningsrett-molde/
CATEGORIES:Temadag lokalt
END:VEVENT
BEGIN:VEVENT
DTSTART;TZID=Europe/Oslo:20221122T093000
DTEND;TZID=Europe/Oslo:20221123T150000
DTSTAMP:20260419T214347
CREATED:20220603T184512Z
LAST-MODIFIED:20221222T111011Z
UID:10011512-1669109400-1669215600@geoforum.no
SUMMARY:Teknologiforum 2022
DESCRIPTION:Kartverket inviterer til årets Teknologiforum som arrangert den 22. og 23. november\, på Scandic Oslo Airport\, Gardermoen. Sett av dagene allerede nå! \nMer info legges ut på kartverket.no
URL:https://geoforum.no/event/teknologiforum-2022/
CATEGORIES:Eksterne kurs og konferanser
END:VEVENT
BEGIN:VEVENT
DTSTART;TZID=Europe/Oslo:20221129T093000
DTEND;TZID=Europe/Oslo:20221130T150000
DTSTAMP:20260419T214347
CREATED:20220522T195935Z
LAST-MODIFIED:20221117T122615Z
UID:10011385-1669714200-1669820400@geoforum.no
SUMMARY:Plan\, bygg og geodata - Kommunal geomatikkonferanse 2022
DESCRIPTION:I år arrangeres konferansen på  Clarion Hotel & Congress\, Oslo Airport 29.-30. november. \nHjertelig velkommen! \nProgram \nPåmelding \nMed forbehold om mindre endringer i programmet.
URL:https://geoforum.no/event/plan-bygg-og-geodata-kommunal-geomatikkonferanse-2022/
LOCATION:Clarion Hotel & Congress Oslo Airport
CATEGORIES:Konferanse
END:VEVENT
END:VCALENDAR