BEGIN:VCALENDAR
VERSION:2.0
PRODID:-//GeoForum - ECPv6.10.0//NONSGML v1.0//EN
CALSCALE:GREGORIAN
METHOD:PUBLISH
X-ORIGINAL-URL:https://geoforum.no
X-WR-CALDESC:Arrangement for GeoForum
REFRESH-INTERVAL;VALUE=DURATION:PT1H
X-Robots-Tag:noindex
X-PUBLISHED-TTL:PT1H
BEGIN:VTIMEZONE
TZID:Europe/Oslo
BEGIN:DAYLIGHT
TZOFFSETFROM:+0100
TZOFFSETTO:+0200
TZNAME:CEST
DTSTART:20220327T010000
END:DAYLIGHT
BEGIN:STANDARD
TZOFFSETFROM:+0200
TZOFFSETTO:+0100
TZNAME:CET
DTSTART:20221030T010000
END:STANDARD
END:VTIMEZONE
BEGIN:VEVENT
DTSTART;TZID=Europe/Oslo:20221003T100000
DTEND;TZID=Europe/Oslo:20221003T113000
DTSTAMP:20260419T233104
CREATED:20220522T201137Z
LAST-MODIFIED:20220522T201138Z
UID:10011503-1664791200-1664796600@geoforum.no
SUMMARY:Matrikkel-mandag
DESCRIPTION:Kartverket inviterer deg til Matrikkel-mandag er en faglig digital møteplass for deg som jobber med matrikkelen. Her får du en oversikt over tilbudet og hvordan du kan delta. \n3. oktober: Protokoll fra oppmålingsforretning \n7. november: Adresse og atkomstpunkt \nLes mer på Kartverket.no
URL:https://geoforum.no/event/matrikkel-mandag-4/
CATEGORIES:Webinar eksternt
END:VEVENT
BEGIN:VEVENT
DTSTART;TZID=Europe/Oslo:20221010T140000
DTEND;TZID=Europe/Oslo:20221010T153000
DTSTAMP:20260419T233104
CREATED:20220909T062802Z
LAST-MODIFIED:20220920T072046Z
UID:10011530-1665410400-1665415800@geoforum.no
SUMMARY:Nordic webinar on Artificial Intelligence in relation geodata
DESCRIPTION:A Nordic webinar on the use of Artificial Intelligence (AI) in relation to geodata is to be held on October 10th 2022 – starting at 2:00 PM (GMT+1:00). \nGI Norden arranges the free webinar with speakers from the Nordic countries. \nThe webinar will show how AI is applied in connection with GIS and geodata in the various Nordic countries. We will see examples from the public sector\, from private companies\, and from universities. \nJoin this webinar to streghten your knowledge on “how to AI” in relation to geodata and GIS. \n  \nPÅMELDING \n  \nPreliminary program\n02.00: Welcome to the GI Norden webinar. Sofi Almqvist\, Geoforum Sweden \n02.05: Why AI is the next step in digitalisation. Mariell Juhlin\, CEO of consulting company Policy Impact AB\, Sweden\nAs an experienced economist and expert advisor\, Mariell Juhlin will clarify why AI is the next step in digitalisation. She will give a status of the situation today and what needs to change to achieve the untapped societal benefit of AI. What should we do to make a difference\, and what are the lessons learnt and recommendations thus far? Mariell will illustrate her points using example use cases from the implementation and use of AI within city planning\, construction and real estate management based on data-driven strategy\, innovation and business development. \n02.20: The trend of AI in mapping: from 2D to 3D. Dr. Lingli Zhu\, National Land Survey of Finland\nAs the project leader of the AI project\, Advanced Technology for National Topographic Map updating (ATMU)\, Lingli Zhu will do a presentation to describe the AI development\, state of the art\, and its trend in the field of mapping\, as well as the exploration of deep learning in 2D and 3D in the ATMU project in National Land Survey of Finland. With a Doctoral Degree in the fields of Photogrammetry and Remote Sensing\, from Aalto University\, Finland\, and with numerous scientific papers and educational books from her hand\, she is a real expert in the fields of remote sensing\, sensors\, geoinformation\, 3D modelling\, and virtual reality. \n02.35: On the use of geospatial AI in Norway. Alexander Nossum\, Norkart\, Norway.\nNorway has a long tradition in public-public and private-public collaboration resulting in massive amounts of high detailed aerial photos with often year-to-year updates and centimeter resolution. Combined with national standards on map data and rich cadastre models this serves as a perfect point of departure for innovative use of novel AI methods. Alexander holds a ph.d. in geomatics\, has over ten years experience working in the intersection between private-public collaboration and innovation in one of Norway’s largest geospatial IT companies\, Norkart. In this presentation he will highlight the “KartAi ecosystem of projects” as well as other relevant geospatial AI projects from both the public\, the private and the R&D sector. The KartAi ecosystem of projects revolves around the idea of harvesting the potential of AI on aerial photos combined with citizen participation in order to more efficiently and in an automated way to obtain an accurate cadastre and map data representation of the built environment. \n02.50: The combined power of AI and satellite data to deliver scalable and dynamic monitoring solutions. Mads Christensen\, DHI\, Denmark\nEarth observation satellites are our modern worlds ‘macroscope’\, providing a critical global-scale view of earth and its processes. In fact\, every day\, several hundreds of terrabytes of new satellite imagery is collected worldwide. While such vast amounts of data provide unprecedented opportunities to track and monitor environmental change in near real time – from local to global levels – most of this data never meets the human eye. The fact is that we are not enough people on Earth to examine the daily amount of satellite data generated. Consequently\, AI-based approaches have become vital instruments for processing and analyzing satellite imagery. In this presentation\, we will illustrate how we leverage AI to improve and to accelerate satellite data processing\, and how this can be used to underpin new and scalable monitoring solutions in many different domains. \n03.05: On the use of AI with drone data. NN\, Svarmi\, Iceland \n03.20: Discussion \n03.30: Webinar ends \nHost and moderator of the webinar\nHost of the webinar: Sofi Almqvist\, Geoforum Sweden\nModerator of the webinar: Christian Holmegaard Mossing\, Geoforum Danmark \nRegistration\nAll members of one of the Nordic geofora (GeoForum Finland\, Geoforum Sverige\, GeoForum Norge\, LISA Iceland\, or Geoforum Danmark) will be granted access for free upon registration. For this webinar the board of GI Norden has decided also to grant a free access for non-members upon registration. \nThe webinar takes place in the Livehouse (a Danish webinar platform). A link for sign-up and subsequent participation will be sent to registered participants in the morning at the day of the webinar. \nPlease do your registration below (In Danish: ‘Tilmeldinger’): \nNordic webinar on Artificial Intelligence in relation to geodata | Geoforum
URL:https://geoforum.no/event/norsic-webinar-on-artificial-intelligence-in-relation-geodata/
END:VEVENT
BEGIN:VEVENT
DTSTART;TZID=Europe/Oslo:20221017T093000
DTEND;TZID=Europe/Oslo:20221018T150000
DTSTAMP:20260419T233104
CREATED:20220214T145318Z
LAST-MODIFIED:20221012T070949Z
UID:10011493-1665999000-1666105200@geoforum.no
SUMMARY:Regionale geomatikkdager for Vestfold\, Østfold og Telemark 2022
DESCRIPTION:GeoForum Telemark\, Vestfold og Østfold inviterer til regionale geomatikkdager i Tønsberg. \nInvitasjon til Regionale Geomatikkdager 2022 i Tønsberg \nProgram \nPåmelding
URL:https://geoforum.no/event/regionale-geomatikkdager-vestfold-ostfold-og-telemark/
CATEGORIES:Lokale geomatikkdager
END:VEVENT
BEGIN:VEVENT
DTSTART;TZID=Europe/Oslo:20221017T093000
DTEND;TZID=Europe/Oslo:20221018T150000
DTSTAMP:20260419T233104
CREATED:20220522T230535Z
LAST-MODIFIED:20220522T230537Z
UID:10011510-1665999000-1666105200@geoforum.no
SUMMARY:Den Kloke Teknologi 2022
DESCRIPTION:GeoForum inviterer til DKT 2022 på The Hub i Oslo 17.-18. oktober. \nProgrammet er under utarbeidelse. All informasjon finnes på DenKlokeTeknologi.no
URL:https://geoforum.no/event/den-kloke-teknologi-2022/
LOCATION:The Hub\, Oslo
CATEGORIES:Konferanse
END:VEVENT
BEGIN:VEVENT
DTSTART;TZID=Europe/Oslo:20221020T093000
DTEND;TZID=Europe/Oslo:20221020T160000
DTSTAMP:20260419T233104
CREATED:20220920T142542Z
LAST-MODIFIED:20220920T142543Z
UID:10011533-1666258200-1666281600@geoforum.no
SUMMARY:Brukersrsamling QGIS
DESCRIPTION:QGIS Norge holder sin årlig brukersamling 20. oktober 2022 hos Kartverket i Stavanger. \nBrukersamlingen er gratis for medlemmer. \n  \nMer informasjon og påmelding fins på nettsiden: \nQGIS Norge brukersamling 20. oktober 2022. Programmet er ferdig\, og påmelding er åpen. – QGIS Norge
URL:https://geoforum.no/event/brukersrsamling-qgis/
CATEGORIES:Eksterne kurs og konferanser
END:VEVENT
BEGIN:VEVENT
DTSTART;TZID=Europe/Oslo:20221024T093000
DTEND;TZID=Europe/Oslo:20221025T150000
DTSTAMP:20260419T233104
CREATED:20220522T195337Z
LAST-MODIFIED:20220522T195338Z
UID:10011381-1666603800-1666710000@geoforum.no
SUMMARY:Norkart brukermøte 2022
DESCRIPTION:Norkarts Brukermøte Plan og Geodata 2022 arrangeres i år på Quality Hotel Expo på Fornebu – mandag 24. til tirsdag 25. oktober. \nMer informasjon på Norkart.no
URL:https://geoforum.no/event/norkart-brukermote-2022/
CATEGORIES:Eksterne kurs og konferanser
END:VEVENT
BEGIN:VEVENT
DTSTART;TZID=Europe/Oslo:20221025T083000
DTEND;TZID=Europe/Oslo:20221026T150000
DTSTAMP:20260419T233104
CREATED:20220623T053107Z
LAST-MODIFIED:20221017T105812Z
UID:10011521-1666686600-1666796400@geoforum.no
SUMMARY:Eiendomskonferansen 2022
DESCRIPTION:GeoForum Hordaland inviterer til Eiendomskonferansen 2022 på Solstrand hotel og spa \nProgram \nPåmelding \nPåmeldingsfrist 1. september \nDet er fremdeles noen få ledige plasser\, kontakt gro.helland@vegvesen.no for informasjon og påmelding.
URL:https://geoforum.no/event/eiendomskonferansen-2022/
CATEGORIES:Konferanse
END:VEVENT
BEGIN:VEVENT
DTSTART;TZID=Europe/Oslo:20221025T100000
DTEND;TZID=Europe/Oslo:20221025T160000
DTSTAMP:20260419T233104
CREATED:20220909T103359Z
LAST-MODIFIED:20220922T071754Z
UID:10011531-1666692000-1666713600@geoforum.no
SUMMARY:Fagdag PBL\, Tromsø
DESCRIPTION:GeoForum Troms og GeoForum Finnmark inviterer til fagdag med Fredrik Holth som foredragsholder.  \nRadisson Blue Hotel\, Tromsø den 25. oktober \nPåmelding \nProgram: \nProgram pbl fagdager 2022 TromsOgFinnmark 2209
URL:https://geoforum.no/event/fagdag-pbl-tromso/
LOCATION:Radisson Blu\, Tromsø\, Sjøgata 7\, Tromsø\, 9259
END:VEVENT
BEGIN:VEVENT
DTSTART;TZID=Europe/Oslo:20221026T093000
DTEND;TZID=Europe/Oslo:20221027T160000
DTSTAMP:20260419T233104
CREATED:20220502T115338Z
LAST-MODIFIED:20221024T152149Z
UID:10011377-1666776600-1666886400@geoforum.no
SUMMARY:Lokale geomatikkdager Troms og Finnmark 2022
DESCRIPTION:Lokale geomatikkdager arrangeres på Radisson Blue hotell i Tromsø. \nPåmelding \nProgram
URL:https://geoforum.no/event/lokale-geomatikkdager-troms-og-finnmark-2022/
LOCATION:Radisson Blu\, Tromsø\, Sjøgata 7\, Tromsø\, 9259
CATEGORIES:Lokale geomatikkdager
END:VEVENT
END:VCALENDAR