BEGIN:VCALENDAR
VERSION:2.0
PRODID:-//GeoForum - ECPv6.10.0//NONSGML v1.0//EN
CALSCALE:GREGORIAN
METHOD:PUBLISH
X-ORIGINAL-URL:https://geoforum.no
X-WR-CALDESC:Arrangement for GeoForum
REFRESH-INTERVAL;VALUE=DURATION:PT1H
X-Robots-Tag:noindex
X-PUBLISHED-TTL:PT1H
BEGIN:VTIMEZONE
TZID:Europe/Oslo
BEGIN:DAYLIGHT
TZOFFSETFROM:+0100
TZOFFSETTO:+0200
TZNAME:CEST
DTSTART:20220327T010000
END:DAYLIGHT
BEGIN:STANDARD
TZOFFSETFROM:+0200
TZOFFSETTO:+0100
TZNAME:CET
DTSTART:20221030T010000
END:STANDARD
END:VTIMEZONE
BEGIN:VEVENT
DTSTART;TZID=Europe/Oslo:20220801T100000
DTEND;TZID=Europe/Oslo:20220801T113000
DTSTAMP:20260420T044508
CREATED:20220522T200834Z
LAST-MODIFIED:20220522T200835Z
UID:10011389-1659348000-1659353400@geoforum.no
SUMMARY:Matrikkel-mandag
DESCRIPTION:Kartverket inviterer deg til Matrikkel-mandag er en faglig digital møteplass for deg som jobber med matrikkelen. Her får du en oversikt over tilbudet og hvordan du kan delta. \n1. august: Matrikulering uten fullført oppmålingsforretning \n5. september: Søknad om autorisasjon \n3. oktober: Protokoll fra oppmålingsforretning \n7. november: Adresse og atkomstpunkt \nLes mer på Kartverket.no
URL:https://geoforum.no/event/matrikkel-mandag-2/
CATEGORIES:Webinar eksternt
END:VEVENT
BEGIN:VEVENT
DTSTART;TZID=Europe/Oslo:20220829T080000
DTEND;TZID=Europe/Oslo:20220830T140000
DTSTAMP:20260420T044508
CREATED:20210901T104931Z
LAST-MODIFIED:20220513T173759Z
UID:10011470-1661760000-1661868000@geoforum.no
SUMMARY:Stikningskonferansen 2022
DESCRIPTION:Programmet er klart. \nProgram\, påmelding og all informasjon finer dere på https://www.stikningskonferansen.no/ \n  \n 
URL:https://geoforum.no/event/stikningskonferansen-2022/
LOCATION:Scandic Fornebu\, Martin Linges vei 2\, Fornebu\, Norge\, 1364\, Norge
CATEGORIES:Konferanse
END:VEVENT
END:VCALENDAR