BEGIN:VCALENDAR
VERSION:2.0
PRODID:-//GeoForum - ECPv6.10.0//NONSGML v1.0//EN
CALSCALE:GREGORIAN
METHOD:PUBLISH
X-WR-CALNAME:GeoForum
X-ORIGINAL-URL:https://geoforum.no
X-WR-CALDESC:Arrangement for GeoForum
REFRESH-INTERVAL;VALUE=DURATION:PT1H
X-Robots-Tag:noindex
X-PUBLISHED-TTL:PT1H
BEGIN:VTIMEZONE
TZID:Europe/Oslo
BEGIN:DAYLIGHT
TZOFFSETFROM:+0100
TZOFFSETTO:+0200
TZNAME:CEST
DTSTART:20220327T010000
END:DAYLIGHT
BEGIN:STANDARD
TZOFFSETFROM:+0200
TZOFFSETTO:+0100
TZNAME:CET
DTSTART:20221030T010000
END:STANDARD
END:VTIMEZONE
BEGIN:VEVENT
DTSTART;TZID=Europe/Oslo:20220607T090000
DTEND;TZID=Europe/Oslo:20220607T103000
DTSTAMP:20260420T061848
CREATED:20220522T225556Z
LAST-MODIFIED:20220522T225556Z
UID:10011508-1654592400-1654597800@geoforum.no
SUMMARY:Overgang til FKB 5.0\, hvordan påvirker det meg?
DESCRIPTION:Geovekst inviterer til webinar om FKB 5.0. Vi ser på hvilke følger overgangen vil ha for deg som bruker eller forvalter FKB-data. \nMer informasjon på Kartverket.no
URL:https://geoforum.no/event/overgang-til-fkb-5-0-hvordan-pavirker-det-meg/
CATEGORIES:Webinar eksternt
END:VEVENT
BEGIN:VEVENT
DTSTART;TZID=Europe/Oslo:20220608T093000
DTEND;TZID=Europe/Oslo:20220608T150000
DTSTAMP:20260420T061848
CREATED:20220511T082428Z
LAST-MODIFIED:20220602T111347Z
UID:10011379-1654680600-1654700400@geoforum.no
SUMMARY:Seksjoneringsseminar
DESCRIPTION:GeoForum og Tekna Samfunnsutviklerne har gleden av å invitere til seminar om seksjonering på Union Scene i Drammen. \n  \nProgram \nPåmelding \nPåmelding og utfakturering fra Tekna
URL:https://geoforum.no/event/seksjoneringsseminar/
LOCATION:Union Scene\, Drammen\, Grønland 60\, Drammen
CATEGORIES:Kurs
END:VEVENT
BEGIN:VEVENT
DTSTART;TZID=Europe/Oslo:20220613T100000
DTEND;TZID=Europe/Oslo:20220613T113000
DTSTAMP:20260420T061848
CREATED:20220522T200730Z
LAST-MODIFIED:20220522T200731Z
UID:10011387-1655114400-1655119800@geoforum.no
SUMMARY:Matrikkel-mandag
DESCRIPTION:Kartverket inviterer deg til Matrikkel-mandag er en faglig digital møteplass for deg som jobber med matrikkelen. Her får du en oversikt over tilbudet og hvordan du kan delta. \n13. juni: Arealoverføring \n1. august: Matrikulering uten fullført oppmålingsforretning \n5. september: Søknad om autorisasjon \n3. oktober: Protokoll fra oppmålingsforretning \n7. november: Adresse og atkomstpunkt \nLes mer på Kartverket.no
URL:https://geoforum.no/event/matrikkel-mandag/
CATEGORIES:Webinar eksternt
END:VEVENT
BEGIN:VEVENT
DTSTART;TZID=Europe/Oslo:20220622T140000
DTEND;TZID=Europe/Oslo:20220622T160000
DTSTAMP:20260420T061848
CREATED:20220619T195559Z
LAST-MODIFIED:20220619T195600Z
UID:10011520-1655906400-1655913600@geoforum.no
SUMMARY:GeoForum Hordaland årsmøte 2022
DESCRIPTION:Årsmøte  i GeoForum Hordaland 2022\nSted: Statens vegvesen sine lokaler\, Nygårdsgaten 112 i Bergen.\nDato: 22 juni 2022 Kl 1400. \nLink til saksdokumenter: Årsmøter GeoForum Hordaland 
URL:https://geoforum.no/event/geoforum-hordaland-arsmote-2022/
CATEGORIES:Årsmøte
END:VEVENT
END:VCALENDAR