BEGIN:VCALENDAR
VERSION:2.0
PRODID:-//GeoForum - ECPv6.10.0//NONSGML v1.0//EN
CALSCALE:GREGORIAN
METHOD:PUBLISH
X-ORIGINAL-URL:https://geoforum.no
X-WR-CALDESC:Arrangement for GeoForum
REFRESH-INTERVAL;VALUE=DURATION:PT1H
X-Robots-Tag:noindex
X-PUBLISHED-TTL:PT1H
BEGIN:VTIMEZONE
TZID:Europe/Oslo
BEGIN:DAYLIGHT
TZOFFSETFROM:+0100
TZOFFSETTO:+0200
TZNAME:CEST
DTSTART:20220327T010000
END:DAYLIGHT
BEGIN:STANDARD
TZOFFSETFROM:+0200
TZOFFSETTO:+0100
TZNAME:CET
DTSTART:20221030T010000
END:STANDARD
END:VTIMEZONE
BEGIN:VEVENT
DTSTART;TZID=Europe/Oslo:20220228T080000
DTEND;TZID=Europe/Oslo:20220301T170000
DTSTAMP:20260420T105829
CREATED:20220203T084707Z
LAST-MODIFIED:20220203T085428Z
UID:10011491-1646035200-1646154000@geoforum.no
SUMMARY:E-læringskurs i regi av EuroSDR våren 2022
DESCRIPTION:Våren 2022 tilbys 4 spennende e-læringskurs som er «spot on» vårt fagområde nå. Lærekreftene er internasjonalt ledende eksperter på sitt område. Hvert kurs gjennomføres på Internett over en to ukers periode i perioden februar til tidlig juni og krever ca 30 timers innsats. Man har direkte kontakt med kursholderne. Det er mulighet for deltakelse på ett eller flere kurs. Påmeldingen er åpen nå\, og frist for påmelding er 4. februar 2022: http://www.eurosdr.net/education/course/eduserv20. \nKursopplegget innledes med et to dagers introduksjonswebinar/seminar 14. og 15. februar. Der blir det en gjennomgang av undervisningsopplegget og de ulike temaene\, samtidig som man får kjennskap til kursholderne. E-læringsplattformen blir demonstrert. Etter introduksjonen følges kursene på Internett. Hvert kurs varer ca 2 uker\, og følger denne planen: \n  \nRecent LiDAR Technologies (28 February – 11 March 2022) \nTutor: Gottfried Mandlburger (TU Vienna) \n  \nWorking with Volunteered and Crowdsourced Geographic Information (28 March – 8 April 2022) Tutors: Peter Mooney (Maynooth University) and Levente Juhász (Florida International University) \n  \nGeoBIM and 3D City Modelling (2 – 12 May 2022) \nTutors: Francesca Noardo and Ken Arroyo Ohori (Delft University of Technology) \n  \n3D Point Cloud Classification for Mapping Purposes (23 May – 3 June 2022) \nTutors: Michael Koelle\, Norbert Haala (University of Stuttgart)\, Eleonora Grilli and Fabio Remondino (Fondazione Bruno Kessler) \nKursavgift: €400 for 1-2 kurs\, og €500 for 3-4 kurs. \n  \nMer om kursene og lenke til påmelding finner du her: http://www.eurosdr.net/education/current. Frist for påmelding 4. februar 2022. \n  \n 
URL:https://geoforum.no/event/e-laeringskurs-i-regi-av-eurosdr-varen-2022/
CATEGORIES:Eksterne kurs og konferanser
END:VEVENT
BEGIN:VEVENT
DTSTART;TZID=Europe/Oslo:20220301T080000
DTEND;TZID=Europe/Oslo:20220302T140000
DTSTAMP:20260420T105829
CREATED:20201209T072706Z
LAST-MODIFIED:20220125T145956Z
UID:10011425-1646121600-1646229600@geoforum.no
SUMMARY:Lokale plan- og kartdager 2022 avlyses
DESCRIPTION:Det blir dessverre ikke lokale plan- og kartdager på Hotel Alexandra i Loen i 2022.
URL:https://geoforum.no/event/lokale-plan-og-kartdager-2022/
CATEGORIES:Lokale geomatikkdager
END:VEVENT
BEGIN:VEVENT
DTSTART;TZID=Europe/Oslo:20220303T110000
DTEND;TZID=Europe/Oslo:20220304T130000
DTSTAMP:20260420T105829
CREATED:20210903T073520Z
LAST-MODIFIED:20220301T070502Z
UID:10011471-1646305200-1646398800@geoforum.no
SUMMARY:Lederkonferansen 2022
DESCRIPTION:Lederkonferansen er en viktig møteplass for styret\, lokalavdelingsledere og sekretariatet.  Vi samles på Kringler gård den 3.-4. mars \nProgram \n  \n  \n  \n  \n 
URL:https://geoforum.no/event/lederkonferansen/
CATEGORIES:Konferanse
END:VEVENT
BEGIN:VEVENT
DTSTART;TZID=Europe/Oslo:20220314T090000
DTEND;TZID=Europe/Oslo:20220315T153000
DTSTAMP:20260420T105829
CREATED:20210903T074205Z
LAST-MODIFIED:20220310T155215Z
UID:10011473-1647248400-1647358200@geoforum.no
SUMMARY:Lokale geomatikkdager i Hordaland 2022
DESCRIPTION:Program \nPåmelding
URL:https://geoforum.no/event/lokale-geomatikkdager-i-hordaland-2022/
CATEGORIES:Lokale geomatikkdager
END:VEVENT
BEGIN:VEVENT
DTSTART;TZID=Europe/Oslo:20220315T093000
DTEND;TZID=Europe/Oslo:20220315T143000
DTSTAMP:20260420T105829
CREATED:20220214T145742Z
LAST-MODIFIED:20220214T145743Z
UID:10011494-1647336600-1647354600@geoforum.no
SUMMARY:Årsmøte og fagdag GeoForum Vestfold
DESCRIPTION:Årsmøte med  3 faglige innlegg
URL:https://geoforum.no/event/arsmote-og-fagdag-geoforum-vestfold/
CATEGORIES:Temadag lokalt
END:VEVENT
BEGIN:VEVENT
DTSTART;TZID=Europe/Oslo:20220316T093000
DTEND;TZID=Europe/Oslo:20220316T153000
DTSTAMP:20260420T105829
CREATED:20220225T135103Z
LAST-MODIFIED:20220225T144540Z
UID:10011497-1647423000-1647444600@geoforum.no
SUMMARY:GeoForum Rogaland temadag og årsmøte 2022
DESCRIPTION:GeoForum Rogaland inviterer til årsmøte og temadag med Fredrik Holth. \nProgram \nPåmelding
URL:https://geoforum.no/event/geoforum-rogaland-temadag-og-arsmote-2022/
CATEGORIES:Temadag lokalt
END:VEVENT
BEGIN:VEVENT
DTSTART;TZID=Europe/Oslo:20220316T093000
DTEND;TZID=Europe/Oslo:20220317T150000
DTSTAMP:20260420T105829
CREATED:20220217T080134Z
LAST-MODIFIED:20220311T151544Z
UID:10011495-1647423000-1647529200@geoforum.no
SUMMARY:Lokale geomatikkdager Nordland 2022
DESCRIPTION:GeoForum Nordland inviterer til lokale geomatikkdager på Scandic Havet\, Bodø \nDet kan bli mindre endringer i programmet \nProgram \nPåmelding
URL:https://geoforum.no/event/lokale-geomatikkdager-nordland-2022/
CATEGORIES:Lokale geomatikkdager
END:VEVENT
BEGIN:VEVENT
DTSTART;TZID=Europe/Oslo:20220316T120000
DTEND;TZID=Europe/Oslo:20220316T150000
DTSTAMP:20260420T105829
CREATED:20220127T144318Z
LAST-MODIFIED:20220318T131319Z
UID:10011490-1647432000-1647442800@geoforum.no
SUMMARY:Webinar og årsmøte 2022 for Geoforum Oslo og Akershus
DESCRIPTION:Før årsmøtet arrangeres det et webinar i samarbeid med PTU i Oslo og Viken med tema\n«Problemer og løsninger med overvannshåndtering – Kommunal klimatilpasning i praksis» \nProgram \nPåmelding \nÅrsmøtedokumenter:\nInnkalling til årsmøte \nÅrsberetning \nArbeidsprogram \nForslag budsjett \nInnkommende saker \nReferat
URL:https://geoforum.no/event/arsmote-2022-for-geoforum-oslo-og-akershus/
END:VEVENT
BEGIN:VEVENT
DTSTART;TZID=Europe/Oslo:20220316T120000
DTEND;TZID=Europe/Oslo:20220316T150000
DTSTAMP:20260420T105829
CREATED:20220224T114738Z
LAST-MODIFIED:20220302T140505Z
UID:10011496-1647432000-1647442800@geoforum.no
SUMMARY:Webinar og årsmøte i Geoforum Buskerud 2022
DESCRIPTION:Før årsmøtet arrangeres det et webinar i samarbeid med PTU i Oslo og Viken med tema\n«Problemer og løsninger med overvannshåndtering – Kommunal klimatilpasning i praksis» \nProgram \nPåmelding \nSaksdokumenter til årsmøtet: \nInnkalling til årsmøte \nResultat og balanse \nÅrsberetning \nBudsjett 2022 \nRevisors kommentar
URL:https://geoforum.no/event/arsmote-i-geoforum-buskerud-2022/
END:VEVENT
BEGIN:VEVENT
DTSTART;TZID=Europe/Oslo:20220322T090000
DTEND;TZID=Europe/Oslo:20220323T153000
DTSTAMP:20260420T105829
CREATED:20220112T121422Z
LAST-MODIFIED:20220321T103925Z
UID:10011489-1647939600-1648049400@geoforum.no
SUMMARY:Lokale geomatikkdager på Sørlandet 2022
DESCRIPTION:Velkommen til lokale geomatikkdager på Strand hotel Fevik \n  \nProgram \nPåmelding
URL:https://geoforum.no/event/lokale-geomatikkdager-pa-sorlandet-2022/
CATEGORIES:Lokale geomatikkdager
END:VEVENT
BEGIN:VEVENT
DTSTART;TZID=Europe/Oslo:20220329T080000
DTEND;TZID=Europe/Oslo:20220331T140000
DTSTAMP:20260420T105829
CREATED:20210805T070124Z
LAST-MODIFIED:20220210T203347Z
UID:10011465-1648540800-1648735200@geoforum.no
SUMMARY:Geomatikkdagene 2022
DESCRIPTION:All informasjon om Geomatikkdagene finner dere på Geomatikkdagene.no
URL:https://geoforum.no/event/geomatikkdagene-2022/
CATEGORIES:Konferanse
END:VEVENT
BEGIN:VEVENT
DTSTART;TZID=Europe/Oslo:20220329T140000
DTEND;TZID=Europe/Oslo:20220329T153000
DTSTAMP:20260420T105829
CREATED:20220228T131909Z
LAST-MODIFIED:20220228T132008Z
UID:10011499-1648562400-1648567800@geoforum.no
SUMMARY:Representantskapsmøte GeoForum
DESCRIPTION:  \nSakspapirer legges ut her: \nRepresentantskapsmøte
URL:https://geoforum.no/event/representantskapsmote-geoforum/
CATEGORIES:Konferanse
END:VEVENT
END:VCALENDAR