BEGIN:VCALENDAR
VERSION:2.0
PRODID:-//GeoForum - ECPv6.10.0//NONSGML v1.0//EN
CALSCALE:GREGORIAN
METHOD:PUBLISH
X-WR-CALNAME:GeoForum
X-ORIGINAL-URL:https://geoforum.no
X-WR-CALDESC:Arrangement for GeoForum
REFRESH-INTERVAL;VALUE=DURATION:PT1H
X-Robots-Tag:noindex
X-PUBLISHED-TTL:PT1H
BEGIN:VTIMEZONE
TZID:Europe/Oslo
BEGIN:DAYLIGHT
TZOFFSETFROM:+0100
TZOFFSETTO:+0200
TZNAME:CEST
DTSTART:20210328T010000
END:DAYLIGHT
BEGIN:STANDARD
TZOFFSETFROM:+0200
TZOFFSETTO:+0100
TZNAME:CET
DTSTART:20211031T010000
END:STANDARD
END:VTIMEZONE
BEGIN:VEVENT
DTSTART;TZID=Europe/Oslo:20210603T090000
DTEND;TZID=Europe/Oslo:20210603T131500
DTSTAMP:20260420T234802
CREATED:20210504T074135Z
LAST-MODIFIED:20210520T082109Z
UID:10011460-1622710800-1622726100@geoforum.no
SUMMARY:Fagdag om veg og eierskap
DESCRIPTION:Geoforum Innlandet vil med dette invitere til digital fagdag om veg og eierskap\, torsdag 3. juni kl 09.00. \n\n09:00: Velkommen v/Geoforum Innlandet\n09:05: Samferdselsarealer og eiendomsforhold v/Birgitte Akerhaugen\, Statens vegvesen\n09:45: Umatrikulert/uregistrert/uskyldsatt veggrunn i et privatrettslig perspektiv v/Arve Konstali\, Lista jordskifterett\n10:30 – 10:45 Pause\n10:45: Eldre gater og veger\, eiendomsforhold og grenser v/Birgitte Akerhaugen\, Statens vegvesen\n11:30 – 12:00 Lunsj\n12:00: Hvordan matrikulere umatrikulert offentlig veggrunn v/Magnus Billing\, Statens kartverk\n12:45: Hvordan matrikulere ved bygging av ny offentlig veg v/Magnus Billing\, Statens kartverk\n13:15 Slutt\n\nPåmelding gjøres via denne lenken: https://geoforum.pameldingssystem.no/fagdag-om-veg-og-eierskap  \nPåmeldingsfrist: 26. mai kl. 15.00 \nPåmeldte deltakere vil få tilsendt link til webinaret etter at påmeldingsfristen har utløpt. \nFagdagen er gratis for medlemmer og bedriftsmedlemmer i Geoforum. Ikke medlemmer betaler en deltakeravgift på kr 300\,-
URL:https://geoforum.no/event/fagdag-om-veg-og-eierskap/
CATEGORIES:Temadag lokalt
ORGANIZER;CN="GeoForum Innlandet":MAILTO:magnus.clausen@stange.kommune.no
END:VEVENT
BEGIN:VEVENT
DTSTART;TZID=Europe/Oslo:20210617T140000
DTEND;TZID=Europe/Oslo:20210617T143000
DTSTAMP:20260420T234802
CREATED:20210528T074435Z
LAST-MODIFIED:20210528T074435Z
UID:10011463-1623938400-1623940200@geoforum.no
SUMMARY:Webinar: Slik gjør du byggesøknaden digitalt
DESCRIPTION:Ambita og NoIS inviterer til basiskurs for deg som skal sende byggesøknader digitalt. På webinaret går vi gjennom hele byggesøknadsprosessen fra A-Å\, og viser deg hvordan Byggesøknaden.no hjelper deg gjennom hele søknadsprosessen. \nKurset passer både for eksisterende og nye brukere av Byggesøknaden.no. Du får en enkel gjennomgang av hvordan løsningen fungerer\, samtidig som vi legger spesielt vekt på å vise frem aller siste nytt i løsningen. \nVi vil blant annet se nærmere på: \n– Planvarsling og Nabovarsling\n– Innsending av ulike søknadstyper\, inkludert søknader uten ansvarsrett\n– Samhandling mot kommune og involverte parter via Altinn og BankID\n– Kommunikasjon med Arbeidstilsynet \nREGISTRER DEG HER \nDu har tilgang på Chat / Q&A med våre fageksperter etter webinaret. Dette er en fin anledning til å komme i dialog med oss som utvikler løsningen. Vi er åpne for spørsmål\, feedback\, ris og ros! \nByggesøknaden.no er utviklet spesielt for profesjonelle aktører som regelmessig sender inn byggesøknader til kommunen. \nVelkommen på webinar!
URL:https://geoforum.no/event/webinar-slik-gjor-du-byggesoknaden-digitalt/
CATEGORIES:Webinar eksternt
END:VEVENT
END:VCALENDAR