BEGIN:VCALENDAR
VERSION:2.0
PRODID:-//GeoForum - ECPv6.10.0//NONSGML v1.0//EN
CALSCALE:GREGORIAN
METHOD:PUBLISH
X-ORIGINAL-URL:https://geoforum.no
X-WR-CALDESC:Arrangement for GeoForum
REFRESH-INTERVAL;VALUE=DURATION:PT1H
X-Robots-Tag:noindex
X-PUBLISHED-TTL:PT1H
BEGIN:VTIMEZONE
TZID:Europe/Oslo
BEGIN:DAYLIGHT
TZOFFSETFROM:+0100
TZOFFSETTO:+0200
TZNAME:CEST
DTSTART:20210328T010000
END:DAYLIGHT
BEGIN:STANDARD
TZOFFSETFROM:+0200
TZOFFSETTO:+0100
TZNAME:CET
DTSTART:20211031T010000
END:STANDARD
END:VTIMEZONE
BEGIN:VEVENT
DTSTART;TZID=Europe/Oslo:20210506T130000
DTEND;TZID=Europe/Oslo:20210506T150000
DTSTAMP:20260421T011140
CREATED:20210126T121135Z
LAST-MODIFIED:20210311T101200Z
UID:10011432-1620306000-1620313200@geoforum.no
SUMMARY:GeoTek 2021
DESCRIPTION:Geodata AS arrangerer GeoTek 2021: Gratis minikonferanse om geografiske data og teknologi! \nDirekte fra Geodata på Grønland i Oslo får du to velfylte timer med variert innhold. Det blir en blanding av teknologinerding\, strategiske prater og inspirasjon. Siste nytt og aktuelle temaer. \nDu finner mer informasjon om GeoTek her \n  \n 
URL:https://geoforum.no/event/geodata-arrangerer-geotek-2021/
CATEGORIES:Eksterne kurs og konferanser
END:VEVENT
BEGIN:VEVENT
DTSTART;TZID=Europe/Oslo:20210511T180000
DTEND;TZID=Europe/Oslo:20210511T190000
DTSTAMP:20260421T011140
CREATED:20210506T084521Z
LAST-MODIFIED:20210506T084926Z
UID:10011461-1620756000-1620759600@geoforum.no
SUMMARY:Norsk og nordisk karthistorie - drivkrefter og milepeler
DESCRIPTION:Norsk geografisk selskap inviterer til webinar tirsdag 11. mai kl. 18-19 med professor emeritus Michael Jones\, NTNU om «Norsk og nordisk karthistorie – drivkrefter og milepeler». \nKontakt GeoForum for å få tilsendt link til deltakelse på Zoom.
URL:https://geoforum.no/event/norsk-og-nordisk-karthistorie-drivkrefter-og-milepeler/
CATEGORIES:Webinar eksternt
END:VEVENT
BEGIN:VEVENT
DTSTART;TZID=Europe/Oslo:20210526T093000
DTEND;TZID=Europe/Oslo:20210526T103000
DTSTAMP:20260421T011140
CREATED:20210408T074017Z
LAST-MODIFIED:20210518T152821Z
UID:10011457-1622021400-1622025000@geoforum.no
SUMMARY:Nordic webinar on BIM-GIS
DESCRIPTION:GI Norden welcomes you to a webinar on the use of BIM and GIS in nordic municipalities. Is the use\, challenges and possibilities with the technology the same across the nordic countries? Join this webinar and learn from your colleagues in Finland\, Sweden\, Denmark and Norway! \nProgram:\n09.30: Welcome by Juha Saarentaus\, Geoforum Finland \n09.35:  Virtual Gothenburg. The presentation will focus on the City of Gothenburg’s future digital twin\, Virtual Gothenburg. The digital twin will serve all processes in the city with relevant information and act as a platform for planning\, monitoring and maintenance\, and also\, a future open testbed for innovation. The testbed will have to be based on new business models in collaboration with the industry\, the market and the society\, for the common benefits of the digital twin. Eric Jeansson\, Municipality of Gothenburg \n09:50: Digital tools in municipal planning processes and implementation of sustainability goals: status of current research projects in Ålesund. Andreas will talk about how the Municipality of Ålesund is working together with academic institutions and the private sector to develop digital tools that support planning processes and implementation of Sustainable Development Goals. We will present results from two on-going projects covering such diverse topics as land-use\, mobility\, green infrastructure and how we can use Digital Twins and other technologies to provide better decision support. Andreas Amundsen\, Municipality of Ålesund \n10:05: The use of GIS and information modeling in planning processes and CIM based design. Johanna Palomaki\, Municipality of Espoo \n10:20: Aarhus Municipality’s 3D city model. The 3D city model was made from a GIS starting point\, with focus on georeferencing. The building stock in Aarhus municipality is eternally changeable and the 3D city model reflects this through continuously updates. The presentation will also give a brief overview of the different types of software used in connection with the 3D city model and show exchange of data and models with architects\, builders and similar. Lasse Gade Pedersen\, Municipality of Aarhus \n10:35: Questions\, discussion \n  \nThe webinar will be free of charge for all participants. \nGI Norden is a Nordic network within geodata and GIS. \nRegister for the webinar (via ZOOM) \nThe webinar starts at 09.30 (GMT+2:00) \n 
URL:https://geoforum.no/event/nordic-webinar-on-bim-gis/
CATEGORIES:Seminar
ATTACH;FMTTYPE=image/jpeg:https://geoforum.no/wp-content/uploads/2021/04/scandinavia-980x413-1.jpg
END:VEVENT
BEGIN:VEVENT
DTSTART;TZID=Europe/Oslo:20210527T120000
DTEND;TZID=Europe/Oslo:20210527T140000
DTSTAMP:20260421T011140
CREATED:20210503T112024Z
LAST-MODIFIED:20210504T074307Z
UID:10011459-1622116800-1622124000@geoforum.no
SUMMARY:Webinar i Datafangst for entreprenører
DESCRIPTION:Statens vegvesen og datafangstverktøyet inviterer entreprenører til webinar. \nDatafangst er et webbasert verktøy som brukes i dataflyt til Nasjonal vegdatabank (NVDB) og Felles kartdatabase (FKB). Her mellomlagres data for kontroll og redigering før data sendes til NVDB. \nPå webinaret vil Torbjørn Gjendem (produkteier) og Kari Anne Midtvold (NVDB-forvalter) snakke om verktøyet. Her fokuseres det på praktisk bruk\, tips og triks og svar på ofte stilte spørsmål rettet mot entreprenører. Det blir anledning til å stille spørsmål undervegs. \nTil program og påmelding
URL:https://geoforum.no/event/webinar-i-datafangst-for-entreprenorer/
CATEGORIES:Webinar eksternt
END:VEVENT
BEGIN:VEVENT
DTSTART;TZID=Europe/Oslo:20210528T100000
DTEND;TZID=Europe/Oslo:20210528T120000
DTSTAMP:20260421T011140
CREATED:20210525T103605Z
LAST-MODIFIED:20210525T103629Z
UID:10011462-1622196000-1622203200@geoforum.no
SUMMARY:QGIS Norge Digital brukersamling 2021
DESCRIPTION:QGIS Norge holder digital brukersamling den 28. mai fra kl. 10 til kl. 12. \nVi har fire presentasjoner\, og så ønsker vi en diskusjon om hva dere forventer fra QGIS Norge etterpå. Vi jobber med å bekrefte rekkefølgen på innleggene\, og nettsiden vil bli oppdatert når dette er klart. \n\n\n\n\nTittel\nHvem\nArbeidsgiver\n\n\nQGIS og GISLINE som hånd i hanske – når vi planlegger mer bærekraftig\nThomas Johnsen\, Julia Olsson og Maléne Peterson\nNorkart\n\n\nHåndtering og analyse av spektrale data fra mobile målinger\nMorten Sickel\nNORSAR\n\n\nHente data fra NVDB via QGIS pythonkonsoll\nJan Kristian Jensen\nVegvesen\n\n\nModel builder – Den grafiska modellbyggaren för automatisering i QGIS\nKarl-Magnus Jönsson\nKristianstads kommun\n\n\n\n\nPåmelding \nMer info \n  \n 
URL:https://geoforum.no/event/qgis-norge-digital-brukersamling-2021/
CATEGORIES:Webinar eksternt
END:VEVENT
END:VCALENDAR