BEGIN:VCALENDAR
VERSION:2.0
PRODID:-//GeoForum - ECPv6.10.0//NONSGML v1.0//EN
CALSCALE:GREGORIAN
METHOD:PUBLISH
X-ORIGINAL-URL:https://geoforum.no
X-WR-CALDESC:Arrangement for GeoForum
REFRESH-INTERVAL;VALUE=DURATION:PT1H
X-Robots-Tag:noindex
X-PUBLISHED-TTL:PT1H
BEGIN:VTIMEZONE
TZID:Europe/Oslo
BEGIN:DAYLIGHT
TZOFFSETFROM:+0100
TZOFFSETTO:+0200
TZNAME:CEST
DTSTART:20210328T010000
END:DAYLIGHT
BEGIN:STANDARD
TZOFFSETFROM:+0200
TZOFFSETTO:+0100
TZNAME:CET
DTSTART:20211031T010000
END:STANDARD
END:VTIMEZONE
BEGIN:VEVENT
DTSTART;TZID=Europe/Oslo:20210209T090000
DTEND;TZID=Europe/Oslo:20210210T140000
DTSTAMP:20260421T051728
CREATED:20201007T104136Z
LAST-MODIFIED:20201007T104136Z
UID:10011309-1612861200-1612965600@geoforum.no
SUMMARY:Stikningskonferansen 2021
DESCRIPTION:Vi har håpet og satser på å arrangere Stikningskonferansen 2021 på Thon Arena i Lillestrøm 09. og 10. februar 2021. \nMer informasjon\, program og påmelding vil komme både her og på www.stikningskonferansen.no i tiden fremover. \nTa gjerne kontakt med sverre@geoforum.no dersom du allerede i dag har spørsmål om konferansen.
URL:https://geoforum.no/event/stikningskonferansen-2021/
CATEGORIES:Konferanse
END:VEVENT
BEGIN:VEVENT
DTSTART;TZID=Europe/Oslo:20210211T090000
DTEND;TZID=Europe/Oslo:20210211T100000
DTSTAMP:20260421T051728
CREATED:20210128T100901Z
LAST-MODIFIED:20210128T100902Z
UID:10011434-1613034000-1613037600@geoforum.no
SUMMARY:Bedre beslutninger med data du ikke visste du kunne få
DESCRIPTION:Geodata arrangerer gratis webinar om nye og bedre data 11. februar! Som det heter i informasjonen fra Geodata: \nMer data\, bedre data\, nye data! Data er nøkkelen til bedre beslutninger og en trigger for å lage nye løsninger. I dette webinaret får du høre om ulike datasett du sannsynligvis ikke visste du kunne få og praktiske eksempler på bruk. Geodata organiserer og tilgjengeliggjør en rekke datasett om alt fra demografi til eiendom\, flomsoner\, mobilitetsdata og mye mye mer! Enkelt tilgjengelig og oppdatert til enhver tid. Vi vil fortelle om flere av disse datasettene og gi konkrete eksempler på hvordan du kan benytte dataene til beslutningsstøtte eller utvikling av nye løsninger. \nLes mer om temaet her \nWebinaret starter klokka 09.00 og er ferdig før klokka 10.00 (avhenger av mengde spørsmål). \nLenke til påmelding
URL:https://geoforum.no/event/bedre-beslutninger-med-data-du-ikke-visste-du-kunne-fa/
CATEGORIES:Webinar eksternt
END:VEVENT
BEGIN:VEVENT
DTSTART;TZID=Europe/Oslo:20210211T120000
DTEND;TZID=Europe/Oslo:20210211T150000
DTSTAMP:20260421T051728
CREATED:20210223T090710Z
LAST-MODIFIED:20210223T090732Z
UID:10011436-1613044800-1613055600@geoforum.no
SUMMARY:Seminar om digitalisering av plan\, bygg og geodata
DESCRIPTION:Geomatikkbedriftene\, Abelia\, IKT-Norge\, Direktoratet for byggkvalitet\, Kommunesektorens organisasjon (KS) og Kartverket inviterer til informasjonsseminar for samarbeid mellom offentlig og privat sektor innen geomatikk. \nSeminaret er gratis og åpent for alle som vil delta. \nMer informasjon og påmelding på Kartverket.no \n 
URL:https://geoforum.no/event/seminar-om-digitalisering-av-plan-bygg-og-geodata/
CATEGORIES:Eksterne kurs og konferanser
END:VEVENT
BEGIN:VEVENT
DTSTART;TZID=Europe/Oslo:20210216T090000
DTEND;TZID=Europe/Oslo:20210216T140000
DTSTAMP:20260421T051728
CREATED:20210118T140240Z
LAST-MODIFIED:20210210T121946Z
UID:10011428-1613466000-1613484000@geoforum.no
SUMMARY:X\, y og z 2021
DESCRIPTION:Velkommen til X\, y og z – ledninger over og under bakken! \nI år gjennomføres konferansen på Zoom. Alle påmeldte får god informasjon om gjennomføring og nødvendige linker til konferansen dagen før arrangementet. \nX\, y og z 2021 program \nPåmelding \n  \n 
URL:https://geoforum.no/event/x-y-og-z-2021/
CATEGORIES:Konferanse
END:VEVENT
BEGIN:VEVENT
DTSTART;TZID=Europe/Oslo:20210217T090000
DTEND;TZID=Europe/Oslo:20210217T120000
DTSTAMP:20260421T051728
CREATED:20210118T094746Z
LAST-MODIFIED:20210118T100413Z
UID:10011427-1613552400-1613563200@geoforum.no
SUMMARY:GIS-analysekurs GeoForum Innlandet
DESCRIPTION:GIS-analysekurs i regi av GeoForum Innlandet \nSted: Zoom \nTid: Onsdag 17. februar kl. 09:00 – 12:00 Torsdag 18. februar kl. 09:00 – 14:00 \nGeoForum Innlandet arrangerer GIS-analysekurs 17 og 18 februar\, med fokus på programvaren QGIS*\, temadata tilgjengelig igjennom PostGIS-basen til Temadata Innlandet**\, og hvordan programvaren og dataene kan brukes til å gjøre ulike GIS-analyser.\nDette er et tilbud til dere som til daglig jobber med GIS og analyser på ulike nivå\, eller dere som ønsker en innføring eller kompetanseheving i GIS-analyser og programvaren QGIS. \nDet er gratis å delta på kurset. \nProgram GIS-analysekurs GF Innlandet \nPåmelding
URL:https://geoforum.no/event/gis-analysekurs-geoforum-innlandet/
CATEGORIES:Temadag lokalt
END:VEVENT
END:VCALENDAR