BEGIN:VCALENDAR
VERSION:2.0
PRODID:-//GeoForum - ECPv6.10.0//NONSGML v1.0//EN
CALSCALE:GREGORIAN
METHOD:PUBLISH
X-WR-CALNAME:GeoForum
X-ORIGINAL-URL:https://geoforum.no
X-WR-CALDESC:Arrangement for GeoForum
REFRESH-INTERVAL;VALUE=DURATION:PT1H
X-Robots-Tag:noindex
X-PUBLISHED-TTL:PT1H
BEGIN:VTIMEZONE
TZID:Europe/Oslo
BEGIN:DAYLIGHT
TZOFFSETFROM:+0100
TZOFFSETTO:+0200
TZNAME:CEST
DTSTART:20210328T010000
END:DAYLIGHT
BEGIN:STANDARD
TZOFFSETFROM:+0200
TZOFFSETTO:+0100
TZNAME:CET
DTSTART:20211031T010000
END:STANDARD
END:VTIMEZONE
BEGIN:VEVENT
DTSTART;TZID=Europe/Oslo:20210127T090000
DTEND;TZID=Europe/Oslo:20210127T113000
DTSTAMP:20260421T063549
CREATED:20201217T143957Z
LAST-MODIFIED:20210201T082752Z
UID:10011426-1611738000-1611747000@geoforum.no
SUMMARY:Årsmøte og fagdag i Geoforum Buskerud
DESCRIPTION:Vi inviterer til årsmøte og fagdag 27. januar. \nProgrammet for dagen\n08:50 Virtuell kaffekopp\n09:00 Velkommen med runde rundt bordet\n09:15 Årsmøte\n10:00 Hva har skjedd i Kartverket siste året?\n10:30 Pause\n10:45 Prosjekt “Friluftlivets ferdselsårer” – Info fra Viken fylkeskommune\n11:00 Prosjekt “Friluftlivets ferdselsårer” – Hva gjør Kartverket?\n11:30 Avslutning og takk for i dag \nSakspapirer til årsmøtet vil bli lastet opp i god tid i forkant. \nInnkalling til årsmøte 2021 \nPåmelding \nBudsjett 2021 \nregnskap 2020-1 \nÅrsberetning 2020 Buskerud \nRevisor20 \nValgkomiteen innstilling
URL:https://geoforum.no/event/arsmote-og-fagdag-i-geoforum-buskerud/
END:VEVENT
END:VCALENDAR