BEGIN:VCALENDAR
VERSION:2.0
PRODID:-//GeoForum - ECPv6.10.0//NONSGML v1.0//EN
CALSCALE:GREGORIAN
METHOD:PUBLISH
X-WR-CALNAME:GeoForum
X-ORIGINAL-URL:https://geoforum.no
X-WR-CALDESC:Arrangement for GeoForum
REFRESH-INTERVAL;VALUE=DURATION:PT1H
X-Robots-Tag:noindex
X-PUBLISHED-TTL:PT1H
BEGIN:VTIMEZONE
TZID:Europe/Oslo
BEGIN:DAYLIGHT
TZOFFSETFROM:+0100
TZOFFSETTO:+0200
TZNAME:CEST
DTSTART:20200329T010000
END:DAYLIGHT
BEGIN:STANDARD
TZOFFSETFROM:+0200
TZOFFSETTO:+0100
TZNAME:CET
DTSTART:20201025T010000
END:STANDARD
END:VTIMEZONE
BEGIN:VEVENT
DTSTART;TZID=Europe/Oslo:20201008T083000
DTEND;TZID=Europe/Oslo:20201008T103000
DTSTAMP:20260421T113610
CREATED:20200917T131742Z
LAST-MODIFIED:20200917T133306Z
UID:10011420-1602145800-1602153000@geoforum.no
SUMMARY:Norsk Standard for blågrønn faktor
DESCRIPTION:Den nye standarden\, NS 3845\, skal bidra til gode\, klimatilpassede uterom med vegetasjon og vann. Bak standarden står en bredt sammensatt komité av eksperter fra grøntanleggs- og byggebransjen. 8. oktober inviterer vil til frokostmøte hvor du kan høre mer om standarden. \nStandard Norge arrangerer Standard Morgen som er digitalt frokostmøte. \nLes mer og meld deg på her . \n  \n 
URL:https://geoforum.no/event/norsk-standard-for-blagronn-faktor/
CATEGORIES:Webinar eksternt
END:VEVENT
BEGIN:VEVENT
DTSTART;TZID=Europe/Oslo:20201019T080000
DTEND;TZID=Europe/Oslo:20201019T170000
DTSTAMP:20260421T113610
CREATED:20200204T082200Z
LAST-MODIFIED:20200811T110140Z
UID:10011405-1603094400-1603126800@geoforum.no
SUMMARY:Norkart brukermøte plan og geodata 2020
DESCRIPTION:Brukermøtet 2020 blir digitalt – les mer her
URL:https://geoforum.no/event/norkart-brukermote-plan-og-geodata-2020/
CATEGORIES:Eksterne kurs og konferanser
END:VEVENT
BEGIN:VEVENT
DTSTART;TZID=Europe/Oslo:20201019T080000
DTEND;TZID=Europe/Oslo:20201019T170000
DTSTAMP:20260421T113610
CREATED:20200812T082334Z
LAST-MODIFIED:20200812T082334Z
UID:10011416-1603094400-1603126800@geoforum.no
SUMMARY:Den Kloke Teknologi 2020
DESCRIPTION:Den Kloke Teknologi (DKT) vil i år arrangeres som en digital konferanse den 19. oktober. \nMålet er å ha programmet klart innen utgangen av august. \nMer informasjon vil komme på konferansens hjemmeside https://www.denkloketeknologi.no/
URL:https://geoforum.no/event/den-kloke-teknologi-2020/
CATEGORIES:Konferanse
END:VEVENT
BEGIN:VEVENT
DTSTART;TZID=Europe/Oslo:20201020T100000
DTEND;TZID=Europe/Oslo:20201020T103000
DTSTAMP:20260421T113610
CREATED:20200928T095012Z
LAST-MODIFIED:20200928T095151Z
UID:10011422-1603188000-1603189800@geoforum.no
SUMMARY:Gratis webinar: Slik får du full kontroll på gatelysene
DESCRIPTION:20. oktober arrangerer Geodata AS gratis webinar om gatelys! \nLes mer her
URL:https://geoforum.no/event/gratis-webinar-slik-far-du-full-kontroll-pa-gatelysene/
CATEGORIES:Webinar eksternt
END:VEVENT
BEGIN:VEVENT
DTSTART;TZID=Europe/Oslo:20201026T080000
DTEND;TZID=Europe/Oslo:20201027T170000
DTSTAMP:20260421T113610
CREATED:20200513T100813Z
LAST-MODIFIED:20200513T100813Z
UID:10011412-1603699200-1603818000@geoforum.no
SUMMARY:Sentinel workshop
DESCRIPTION:Euro SDR\, Kartverket og Norsk Romsenter arrangerer workshop om data fra Sentinel. \nDet er gratis å delta på workshopen! \nMer informasjon finner du her
URL:https://geoforum.no/event/sentinel-workshop/
CATEGORIES:Eksterne kurs og konferanser
END:VEVENT
END:VCALENDAR