BEGIN:VCALENDAR
VERSION:2.0
PRODID:-//GeoForum - ECPv6.10.0//NONSGML v1.0//EN
CALSCALE:GREGORIAN
METHOD:PUBLISH
X-ORIGINAL-URL:https://geoforum.no
X-WR-CALDESC:Arrangement for GeoForum
REFRESH-INTERVAL;VALUE=DURATION:PT1H
X-Robots-Tag:noindex
X-PUBLISHED-TTL:PT1H
BEGIN:VTIMEZONE
TZID:Europe/Oslo
BEGIN:DAYLIGHT
TZOFFSETFROM:+0100
TZOFFSETTO:+0200
TZNAME:CEST
DTSTART:20200329T010000
END:DAYLIGHT
BEGIN:STANDARD
TZOFFSETFROM:+0200
TZOFFSETTO:+0100
TZNAME:CET
DTSTART:20201025T010000
END:STANDARD
END:VTIMEZONE
BEGIN:VEVENT
DTSTART;TZID=Europe/Oslo:20200303T093000
DTEND;TZID=Europe/Oslo:20200304T140000
DTSTAMP:20260421T212746
CREATED:20190328T143250Z
LAST-MODIFIED:20200124T145334Z
UID:10011338-1583227800-1583330400@geoforum.no
SUMMARY:Lokale geomatikkdager 2020 Sogn og Fjordane
DESCRIPTION:GeoForum Sogn og Fjordane inviterer til Lokale geomatikkdager på Hotel Alexandra i Loen. \nProgram \nPåmelding
URL:https://geoforum.no/event/lokale-geomatikkdager-sogn-og-fjordane/
LOCATION:Hotel Alexandra\, Loen\, Loen\, 6789\, Norge
CATEGORIES:Lokale geomatikkdager
GEO:61.870556;6.856944
END:VEVENT
BEGIN:VEVENT
DTSTART;TZID=Europe/Oslo:20200303T093000
DTEND;TZID=Europe/Oslo:20200305T161000
DTSTAMP:20260421T212746
CREATED:20191025T121553Z
LAST-MODIFIED:20191025T121616Z
UID:10011282-1583227800-1583424600@geoforum.no
SUMMARY:Geotek 2020
DESCRIPTION:Geodata arrangerer Geotek – en konferanse om geografiske data og teknologi. \nLink til program og påmelding
URL:https://geoforum.no/event/geotek-2020/
LOCATION:Clarion hotel Oslo
CATEGORIES:Eksterne kurs og konferanser
END:VEVENT
BEGIN:VEVENT
DTSTART;TZID=Europe/Oslo:20200311T103000
DTEND;TZID=Europe/Oslo:20200312T153000
DTSTAMP:20260421T212746
CREATED:20200117T132636Z
LAST-MODIFIED:20200131T113755Z
UID:10011401-1583922600-1584027000@geoforum.no
SUMMARY:Geomatikkdager i Nordland 2020
DESCRIPTION:Velkommen til Geomatikkdager i Nordland 2020! \nKonferansen arrangeres på Scandic Havet i Bodø\, 11.-12. mars. \nProgram \nPåmelding \n  \n 
URL:https://geoforum.no/event/geomatikkdager-i-nordland-2020-2/
CATEGORIES:Lokale geomatikkdager
END:VEVENT
BEGIN:VEVENT
DTSTART;TZID=Europe/Oslo:20200312T150000
DTEND;TZID=Europe/Oslo:20200312T170000
DTSTAMP:20260421T212746
CREATED:20200124T121240Z
LAST-MODIFIED:20200504T174310Z
UID:10011403-1584025200-1584032400@geoforum.no
SUMMARY:Tur til SNØ og årsmøte 2020 i Geoforum Oslo og Akershus
DESCRIPTION:Geoforum Oslo og Akershus inviterer til årsmøte på skinanlegget SNØ i Lørenskog utenfor Oslo \n \nForeløpig plan er:\n15:00 til 16:00 Informasjon om anlegget og omvisning\n16:00 til ca 17:00 Årsmøte \nDet er mulig å bruke anlegget både før og etter. Vi kan tilby gunstig pris på leie av utstyr og klær.\nDet blir også servering av mat og drikke underveis. \nPåmelding \nSjekk ut hjemmesidene til SNØ \nDokumenter til årsmøtet: \nInnkalling\nSaksliste\nBudsjett 2020\nÅrsberetning 2019\nArbeidsprogram 2020\nSaker til årsmøtet\nVedtekter eksisterende\nVedtekter nytt forslag\nReferat
URL:https://geoforum.no/event/tur-til-sno-og-arsmote-2020-i-geoforum-oslo-og-akershus/
LOCATION:SNØ\, Snøfonna 1\, Lørenskog\, Norge
END:VEVENT
BEGIN:VEVENT
DTSTART;TZID=Europe/Oslo:20200317T083000
DTEND;TZID=Europe/Oslo:20200317T160000
DTSTAMP:20260421T212746
CREATED:20200109T102733Z
LAST-MODIFIED:20200205T131424Z
UID:10011397-1584433800-1584460800@geoforum.no
SUMMARY:Fagdag plan\, tiltak og oppmålingsforretning\, Troms og Finnmark
DESCRIPTION:GeoForum Troms og Finnmark ønsker velkommen til Fagdag plan\, tiltak og oppmålingsforretning – kvalitet i plan og byggesaksbehandling. \nInvitasjon og program \nPåmelding \nPåmeldingsfrist: 3. mars
URL:https://geoforum.no/event/fagdag-plan-tiltak-og-oppmalingsforretning/
CATEGORIES:Temadag lokalt
END:VEVENT
BEGIN:VEVENT
DTSTART;TZID=Europe/Oslo:20200318T080000
DTEND;TZID=Europe/Oslo:20200319T170000
DTSTAMP:20260421T212746
CREATED:20200109T102235Z
LAST-MODIFIED:20200310T111726Z
UID:10011396-1584518400-1584637200@geoforum.no
SUMMARY:Lokale Geomatikkdager 2020 Troms og Finnmark
DESCRIPTION:Velkommen til Lokale Geomatikkdager for Troms og Finnmark 18.-19. mars! Konferansen gjennomføres på Scandic Alta. Dagen før er det fagdag samme sted\, så du kan slå to fluer i en smekk. \nProgram \nPåmelding
URL:https://geoforum.no/event/lokale-geomatikkdager-2020-troms-og-finnmark/
CATEGORIES:Lokale geomatikkdager
END:VEVENT
BEGIN:VEVENT
DTSTART;TZID=Europe/Oslo:20200324T090000
DTEND;TZID=Europe/Oslo:20200326T130000
DTSTAMP:20260421T212746
CREATED:20200107T104408Z
LAST-MODIFIED:20200107T104409Z
UID:10011395-1585040400-1585227600@geoforum.no
SUMMARY:Geomatikkdagene 2020
DESCRIPTION:Norges største uavhengige konferanse om teknologi og geografisk informasjon arrangeres i år på Scandic Lerkendal i Trondheim! \nHer finner dere et programutkast\, og som dere ser er det fortsatt ting vi jobber med! \nProgramutkast Geomatikkdagene 2020 \nPåmelding
URL:https://geoforum.no/event/geomatikkdagene-2020/
LOCATION:Scandic Lerkendal
CATEGORIES:Konferanse
END:VEVENT
END:VCALENDAR