BEGIN:VCALENDAR
VERSION:2.0
PRODID:-//GeoForum - ECPv6.10.0//NONSGML v1.0//EN
CALSCALE:GREGORIAN
METHOD:PUBLISH
X-WR-CALNAME:GeoForum
X-ORIGINAL-URL:https://geoforum.no
X-WR-CALDESC:Arrangement for GeoForum
REFRESH-INTERVAL;VALUE=DURATION:PT1H
X-Robots-Tag:noindex
X-PUBLISHED-TTL:PT1H
BEGIN:VTIMEZONE
TZID:Europe/Oslo
BEGIN:DAYLIGHT
TZOFFSETFROM:+0100
TZOFFSETTO:+0200
TZNAME:CEST
DTSTART:20200329T010000
END:DAYLIGHT
BEGIN:STANDARD
TZOFFSETFROM:+0200
TZOFFSETTO:+0100
TZNAME:CET
DTSTART:20201025T010000
END:STANDARD
END:VTIMEZONE
BEGIN:VEVENT
DTSTART;TZID=Europe/Oslo:20200115T110000
DTEND;TZID=Europe/Oslo:20200116T130000
DTSTAMP:20260421T235508
CREATED:20190905T071044Z
LAST-MODIFIED:20190905T072841Z
UID:10011390-1579086000-1579179600@geoforum.no
SUMMARY:Lederkonferansen 2020
DESCRIPTION:Lederkonferansen er en arena for styret med vararepresentanter\, lokalavdelingsledere\, faggruppeledere og sekretariatet. \nMer informasjon kommer.
URL:https://geoforum.no/event/lederkonferansen-2020/
LOCATION:Oslo
CATEGORIES:Konferanse
END:VEVENT
BEGIN:VEVENT
DTSTART;TZID=Europe/Oslo:20200121T083000
DTEND;TZID=Europe/Oslo:20200123T120000
DTSTAMP:20260421T235508
CREATED:20191120T134447Z
LAST-MODIFIED:20191128T120922Z
UID:10011283-1579595400-1579780800@geoforum.no
SUMMARY:GeoAnalyse Workshop
DESCRIPTION:Geoforum Innlandet inviterer til GeoAnalyseWorkshop på Honne konferansesenter. Workshopen arrangeres til selvkostpris. Dette er et tilbud til dere som jobber med GIS analyser og 3D på ulike nivå. Nytt av året er at vi starter med et forkurs-nybegynnerkurs i QGIS for de som ønsker det. Selve workshopen starter med lunsj klokken 11:30\, den 21. januar.  \nProgram \nPåmelding \nInformasjon om workshopen
URL:https://geoforum.no/event/geoanalyse-workshop-3/
LOCATION:Honne konferansesenter\, Honnevegen 60\, Biri\, 2836
CATEGORIES:Temadag lokalt
GEO:60.9460302;10.6361495
X-APPLE-STRUCTURED-LOCATION;VALUE=URI;X-ADDRESS=Honne konferansesenter Honnevegen 60 Biri 2836;X-APPLE-RADIUS=500;X-TITLE=Honnevegen 60:geo:10.6361495,60.9460302
END:VEVENT
BEGIN:VEVENT
DTSTART;TZID=Europe/Oslo:20200127T090000
DTEND;TZID=Europe/Oslo:20200128T150000
DTSTAMP:20260421T235508
CREATED:20200117T094401Z
LAST-MODIFIED:20200124T122806Z
UID:10011400-1580115600-1580223600@geoforum.no
SUMMARY:Lokale geomatikkdager GeoForum Hordaland 2020
DESCRIPTION:Velkommen til Lokale geomatikkdager i Hordaland 27.-28. januar 2020 på Scandic Ørnen i Bergen. \nKonferansen har overskriften Fremtidsrettet samfunn – digital verden og er rettet mot alle som jobber og/eller er interessert i geografisk informasjon og kart relaterte tema. \nPåmeldingsfrist var tirsdag 17. desember 2019\, men det er mulig med sen påmelding. Ved sen påmelding tilkommer et pristillegg på 500\,- \nProgram \nPåmelding \nInformasjon til utstillere \nOversikt utstilligsareal
URL:https://geoforum.no/event/lokale-geomatikkdager-geoforum-hordaland-2020/
CATEGORIES:Lokale geomatikkdager
END:VEVENT
BEGIN:VEVENT
DTSTART;TZID=Europe/Oslo:20200128T080000
DTEND;TZID=Europe/Oslo:20200129T140000
DTSTAMP:20260421T235508
CREATED:20200109T124208Z
LAST-MODIFIED:20200113T073116Z
UID:10011398-1580198400-1580306400@geoforum.no
SUMMARY:X\, Y og Z_2020
DESCRIPTION:Vi ønsker velkommen til helt nye Quality River Station i Drammen\, og vår infrastrukturkonferanse X\, Y og Z! \nProgram X\, Y og Z 2020 \nPåmelding
URL:https://geoforum.no/event/x-y-og-z_2020/
CATEGORIES:Konferanse
END:VEVENT
END:VCALENDAR