BEGIN:VCALENDAR
VERSION:2.0
PRODID:-//GeoForum - ECPv6.10.0//NONSGML v1.0//EN
CALSCALE:GREGORIAN
METHOD:PUBLISH
X-WR-CALNAME:GeoForum
X-ORIGINAL-URL:https://geoforum.no
X-WR-CALDESC:Arrangement for GeoForum
REFRESH-INTERVAL;VALUE=DURATION:PT1H
X-Robots-Tag:noindex
X-PUBLISHED-TTL:PT1H
BEGIN:VTIMEZONE
TZID:Europe/Oslo
BEGIN:DAYLIGHT
TZOFFSETFROM:+0100
TZOFFSETTO:+0200
TZNAME:CEST
DTSTART:20190331T010000
END:DAYLIGHT
BEGIN:STANDARD
TZOFFSETFROM:+0200
TZOFFSETTO:+0100
TZNAME:CET
DTSTART:20191027T010000
END:STANDARD
END:VTIMEZONE
BEGIN:VEVENT
DTSTART;TZID=Europe/Oslo:20191009T090000
DTEND;TZID=Europe/Oslo:20191009T150000
DTSTAMP:20260422T033600
CREATED:20190916T120256Z
LAST-MODIFIED:20190916T120306Z
UID:10011393-1570611600-1570633200@geoforum.no
SUMMARY:GeoForum Vestfold inviterer til fagdag
DESCRIPTION:GeoForum Vestfold inviterer til fagdag \, gratis for alle medlemmene. \nDe som melder seg inn ved påmelding slipper deltakeravgift og har fritt medlemskap ut 2019. \nMedlemskap koster kr 400 per år. \n  \nVedlagt følger informasjon om medlemsfordeler i GeoForum og program med svært aktuelle tema:\n• Kommunereform\n• Regionreform\n• Meglerinformasjon\, automatisk nabovarsel og elektroniske søknader\n• Kvalitetsheving av matrikkelen\n• Samarbeid mellom kommuner og private oppmålingsfirma\n• Arealoverføring\n• Autorisasjonsordning for landmålere \n  \nPåmelding til kare.conradsen@tonsberg.kommune.no innen 25.09.2019.
URL:https://geoforum.no/event/geoforum-vestfold-inviterer-til-fagdag/
LOCATION:Anton Jenssensgate 5\, Statens park Tønsberg.\,  Tønsberg
CATEGORIES:Temadag lokalt
END:VEVENT
BEGIN:VEVENT
DTSTART;TZID=Europe/Oslo:20191009T093000
DTEND;TZID=Europe/Oslo:20191009T160000
DTSTAMP:20260422T033600
CREATED:20190813T074736Z
LAST-MODIFIED:20191008T112013Z
UID:10011355-1570613400-1570636800@geoforum.no
SUMMARY:Høringsseminar - Forslag til endringer i matrikkelforskriften
DESCRIPTION:GeoForum inviterer til høringsseminar om forslag til endringer i matrikkelforskriften. \nKMD informerer om innholdet i forskriften og andre har innlegg for å få frem ulike synspunkt \nProgram 0910 \nPåmelding \n  \nMatrikkelforskrift flere tema \n  \n  \n  \n  \n  \n  \n 
URL:https://geoforum.no/event/horingsseminar-forslag-til-endringer-i-matrikkelforskriften/
LOCATION:Felix Konferansesenter\, Bryggetorget 3\, Oslo\, 0250
CATEGORIES:Seminar
END:VEVENT
BEGIN:VEVENT
DTSTART;TZID=Europe/Oslo:20191010T090000
DTEND;TZID=Europe/Oslo:20191010T150000
DTSTAMP:20260422T033600
CREATED:20190904T061410Z
LAST-MODIFIED:20190904T061450Z
UID:10011382-1570698000-1570719600@geoforum.no
SUMMARY:ISY WinMap Plandialog
DESCRIPTION:Norconsult informasjonssystemer inviterer til ISY WinMap Plandialog \nISY WinMap PlanDialog er deres realisering av plan- og bygningslovens krav til kommunene om digitalt planregister. \nMer informasjon finner du her
URL:https://geoforum.no/event/isy-winmap-plandialog/
LOCATION:Sandvika
CATEGORIES:Eksterne kurs og konferanser
END:VEVENT
BEGIN:VEVENT
DTSTART;TZID=Europe/Oslo:20191010T093000
DTEND;TZID=Europe/Oslo:20191010T160000
DTSTAMP:20260422T033600
CREATED:20190705T075812Z
LAST-MODIFIED:20191002T181309Z
UID:10011351-1570699800-1570723200@geoforum.no
SUMMARY:Det offentlige kartgrunnlagets juridiske rolle
DESCRIPTION:GeoForum i samarbeid med Plan- og temadatautvalg arrangerer Det offentlige Kartgrunnlagets juridiske rolle. \nFagdagen er tidligere arrangert i Drammen og Trøndelag for fulle hus. Det blir noen endringer i forhold til tidligere arrangement. \nProgram \nPåmelding
URL:https://geoforum.no/event/det-offentlige-kartgrunnlagets-juridiske-rolle/
LOCATION:Nationalteaterets konferansesenter\, Haakon VII s gate 9\, Oslo
CATEGORIES:Seminar
END:VEVENT
BEGIN:VEVENT
DTSTART;TZID=Europe/Oslo:20191014T090000
DTEND;TZID=Europe/Oslo:20191015T150000
DTSTAMP:20260422T033600
CREATED:20190819T094314Z
LAST-MODIFIED:20190819T094314Z
UID:10011372-1571043600-1571151600@geoforum.no
SUMMARY:Etablering av digitale reguleringsplaner i GISLINE Arealplan
DESCRIPTION:Les mer her: \nhttps://www.norkart.no/kurs/etablering-av-digitale-reguleringsplaner-i-gisline-arealplan-sandvika-okt19/
URL:https://geoforum.no/event/etablering-av-digitale-reguleringsplaner-i-gisline-arealplan-2/
LOCATION:Norkart Sandvika\, Løkketangen 20A
CATEGORIES:Eksterne kurs og konferanser
END:VEVENT
BEGIN:VEVENT
DTSTART;TZID=Europe/Oslo:20191016T090000
DTEND;TZID=Europe/Oslo:20191016T150000
DTSTAMP:20260422T033600
CREATED:20190819T094422Z
LAST-MODIFIED:20190819T094423Z
UID:10011374-1571216400-1571238000@geoforum.no
SUMMARY:Mottak og kontroll av plan i GISLINE Arealplan
DESCRIPTION:Les mer her: \nhttps://www.norkart.no/kurs/mottak-og-kontroll-av-plan-i-gisline-arealplan-sandvika-okt19/
URL:https://geoforum.no/event/mottak-og-kontroll-av-plan-i-gisline-arealplan-2/
LOCATION:Norkart Sandvika\, Løkketangen 20A
CATEGORIES:Eksterne kurs og konferanser
END:VEVENT
BEGIN:VEVENT
DTSTART;TZID=Europe/Oslo:20191016T100000
DTEND;TZID=Europe/Oslo:20191018T140000
DTSTAMP:20260422T033600
CREATED:20190926T152352Z
LAST-MODIFIED:20190926T152543Z
UID:10011277-1571220000-1571407200@geoforum.no
SUMMARY:e-kommune
DESCRIPTION:KS og KS Agenda ønsker velkommen til eKommune-konferansen \nKonferansen retter seg primært mot alle landets kommuner og er et tilbud til kommunene om oppdatert informasjon om det som skjer når det gjelder digitalisering innenfor sektoren. \nProgram og påmelding
URL:https://geoforum.no/event/e-kommune/
LOCATION:Thon Congress Gardermoen
CATEGORIES:Eksterne kurs og konferanser
END:VEVENT
BEGIN:VEVENT
DTSTART;TZID=Europe/Oslo:20191017T083000
DTEND;TZID=Europe/Oslo:20191017T160000
DTSTAMP:20260422T033600
CREATED:20190411T063709Z
LAST-MODIFIED:20191015T153034Z
UID:10011341-1571301000-1571328000@geoforum.no
SUMMARY:GIS-analyser 2019
DESCRIPTION:GeoForum og representanter fra bransjen inviterer til workshop om GIS-analyser den 17. oktober på Clarion Hotel & Congress Oslo Airport.\nHvordan analysere viktige DOK-data i forbindelse med en ny reguleringsplan?  \nArrangementet har som mål at deltakerne på en enkel måte skal kunne gjennomføre analyser av aktuelle datasett i nye planområder. Det anbefales å stille med både en person fra plan og en fra GIS-fagfeltet for å få mest mulig ut av workshopen. Mange kartlag med temadata må vurderes av planleggere for å bruke det riktig i planprosessen og samarbeid mellom avdelinger er derfor essensiell. Deltakerne deles i tre grupper etter hvilken programvare de benytter i det daglige – og skal jobbe med konkrete caser. Du møter eksperter fra Norkart\, Norconsult og Geodata som veiledere under workshopen.\nInvitasjon og program GIS-analyser 2019 \nPåmelding
URL:https://geoforum.no/event/gis-analyser-2019/
LOCATION:Clarion Hotel & Congress Oslo Airport
CATEGORIES:Seminar
END:VEVENT
BEGIN:VEVENT
DTSTART;TZID=Europe/Oslo:20191017T090000
DTEND;TZID=Europe/Oslo:20191017T160000
DTSTAMP:20260422T033600
CREATED:20190916T111606Z
LAST-MODIFIED:20190916T111937Z
UID:10011392-1571302800-1571328000@geoforum.no
SUMMARY:Mareano-konferansen 2019
DESCRIPTION:Program \nPåmelding
URL:https://geoforum.no/event/mareano-konferansen-2019/
LOCATION:Miljødirektoratet\, Oslo\, Gresesvingen 7\,  Oslo\, 0661
CATEGORIES:Eksterne kurs og konferanser
END:VEVENT
BEGIN:VEVENT
DTSTART;TZID=Europe/Oslo:20191021T080000
DTEND;TZID=Europe/Oslo:20191022T150000
DTSTAMP:20260422T033600
CREATED:20190121T122747Z
LAST-MODIFIED:20191020T180925Z
UID:10011308-1571644800-1571756400@geoforum.no
SUMMARY:Eiendomskonferansen 2019
DESCRIPTION:Programmet er allerede klart. \nOppdatert program Eiendomskonferansen 20.10.19 \nPåmelding
URL:https://geoforum.no/event/eiendomskonferansen-2019/
CATEGORIES:Lokale geomatikkdager
END:VEVENT
BEGIN:VEVENT
DTSTART;TZID=Europe/Oslo:20191023T090000
DTEND;TZID=Europe/Oslo:20191025T160000
DTSTAMP:20260422T033600
CREATED:20190313T104559Z
LAST-MODIFIED:20190313T104559Z
UID:10011335-1571821200-1572019200@geoforum.no
SUMMARY:Romlige analyser med ArcGIS Pro
DESCRIPTION:Undersøk trender og mønster\, gjør kalkulerte forutsigelser og få svar på spørsmål. \nProgram og påmelding
URL:https://geoforum.no/event/romlige-analyser-med-arcgis-pro/
LOCATION:Geodata Oslo\, Schweigaardsgate 28\, Oslo
CATEGORIES:Eksterne kurs og konferanser
END:VEVENT
BEGIN:VEVENT
DTSTART;TZID=Europe/Oslo:20191024T090000
DTEND;TZID=Europe/Oslo:20191024T140000
DTSTAMP:20260422T033600
CREATED:20190819T094531Z
LAST-MODIFIED:20190819T094531Z
UID:10011376-1571907600-1571925600@geoforum.no
SUMMARY:Norkart Tjenestepanel – ditt verktøy for kart på nett
DESCRIPTION:Webkurs! \nLes mer her: \nhttps://www.norkart.no/kurs/tjenestepanel-ditt-verktoy-for-kart-pa-nett-webkurs-oktober/
URL:https://geoforum.no/event/norkart-tjenestepanel-ditt-verktoy-for-kart-pa-nett-2/
LOCATION:WEB
CATEGORIES:Eksterne kurs og konferanser
END:VEVENT
BEGIN:VEVENT
DTSTART;TZID=Europe/Oslo:20191028T080000
DTEND;TZID=Europe/Oslo:20191029T170000
DTSTAMP:20260422T033600
CREATED:20190502T080142Z
LAST-MODIFIED:20190624T102944Z
UID:10011345-1572249600-1572368400@geoforum.no
SUMMARY:Norkarts brukermøte plan- og geodata 2019
DESCRIPTION:Norkart Brukermøte plan- og geodata 2019 arrangeres 28.-29 oktober på Quality Hotel Expo på Fornebu. \nProgram og informasjon \nPåmeldingsfrist 4. oktober.
URL:https://geoforum.no/event/brukermote-plan-og-geodata-2019/
LOCATION:Quality Hotel Expo\, Snarøyveien 20\, Oslo\, 1360
CATEGORIES:Eksterne kurs og konferanser
GEO:59.9024229;10.6280948
X-APPLE-STRUCTURED-LOCATION;VALUE=URI;X-ADDRESS=Quality Hotel Expo Snarøyveien 20 Oslo 1360;X-APPLE-RADIUS=500;X-TITLE=Snarøyveien 20:geo:10.6280948,59.9024229
END:VEVENT
BEGIN:VEVENT
DTSTART;TZID=Europe/Oslo:20191028T090000
DTEND;TZID=Europe/Oslo:20191028T150000
DTSTAMP:20260422T033600
CREATED:20190904T061814Z
LAST-MODIFIED:20190904T061814Z
UID:10011384-1572253200-1572274800@geoforum.no
SUMMARY:ISY WinMap mottak og kontroll av arealplaner
DESCRIPTION:Brukere av ISY WinMap som skal benytte programmet for mottak og kontroll av digitale reguleringsplaner. \nMer informasjon finner dere her \n 
URL:https://geoforum.no/event/isy-winmap-mottak-og-kontroll-av-arealplaner/
LOCATION:Sandvika
CATEGORIES:Eksterne kurs og konferanser
END:VEVENT
BEGIN:VEVENT
DTSTART;TZID=Europe/Oslo:20191029T083000
DTEND;TZID=Europe/Oslo:20191029T143000
DTSTAMP:20260422T033600
CREATED:20190925T111733Z
LAST-MODIFIED:20190930T095124Z
UID:10011274-1572337800-1572359400@geoforum.no
SUMMARY:Fagsamling  - plan\, tiltak og oppmålingsforretning GeoForum Finnmark
DESCRIPTION:GeoForum Finnmark inviterer til fagsamling på Thon Hotel Alta: \nPlan\, tiltak og oppmålingsforretning – kvalitet i plan og byggesaksbehandling \nMedlemmer: gratis\nAnsatte hos bedriftsmedlemmer: 1 ansatt gratis\, øvrige 500\,- per person\nIkke medlem: 1000\,- uten overnatting og 1500\,- med overnatting\nArrangementet inkluderer overnatting fra mandag til tirsdag med felles middag på hotellet for de som ønsker det. \nProgram \nPåmelding \nPåmeldingsfrist: 14. oktober
URL:https://geoforum.no/event/geoforum-finnmark-inviterer-til-fagdag-om-plan-tiltak-og-oppmalingsforretning-kvalitet-i-plan-og-byggesaksbehandling/
LOCATION:Thon Hotel Alta\, Alta
CATEGORIES:Temadag lokalt
END:VEVENT
BEGIN:VEVENT
DTSTART;TZID=Europe/Oslo:20191029T090000
DTEND;TZID=Europe/Oslo:20191029T150000
DTSTAMP:20260422T033600
CREATED:20190904T062052Z
LAST-MODIFIED:20190904T062105Z
UID:10011386-1572339600-1572361200@geoforum.no
SUMMARY:ISY WinMap Geosynkronisering av arealplaner
DESCRIPTION:Kurset passer for brukere av ISY WinMap som skal ta i bruk eller har tatt i bruk funksjonalitet for geosynkronisering av arealplan. \nMer informasjon og påmelding finner dere her
URL:https://geoforum.no/event/isy-winmap-geosynkronisering-av-arealplaner/
LOCATION:Sandvika
CATEGORIES:Eksterne kurs og konferanser
END:VEVENT
BEGIN:VEVENT
DTSTART;TZID=Europe/Oslo:20191029T090000
DTEND;TZID=Europe/Oslo:20191030T130000
DTSTAMP:20260422T033600
CREATED:20190730T112105Z
LAST-MODIFIED:20191014T085831Z
UID:10011352-1572339600-1572440400@geoforum.no
SUMMARY:Den Kloke Teknologi 2019
DESCRIPTION:DKT arrangeres for 16. gang nå i 2019! \nKonferansen arrangeres på Scandic Fornebu. \nProgram og all annen informasjon finnes her: https://www.denkloketeknologi.no/ \nPåmelding
URL:https://geoforum.no/event/den-kloke-teknologi-2019/
LOCATION:Scandic Fornebu\, Martin Linges vei 2\, Fornebu\, 1364
CATEGORIES:Konferanse
END:VEVENT
BEGIN:VEVENT
DTSTART;TZID=Europe/Oslo:20191030T101500
DTEND;TZID=Europe/Oslo:20191030T153000
DTSTAMP:20260422T033600
CREATED:20190925T113206Z
LAST-MODIFIED:20191004T081800Z
UID:10011275-1572430500-1572449400@geoforum.no
SUMMARY:Fagsamling - plan\, tiltak og oppmålingsforretning GeoForum Troms
DESCRIPTION:Geoforum Troms har gleden av å tilby fagsamling  om plan\, tiltak og oppmålingsforretning  – kvalitet i plan og byggesaksbehandling.\nFagsamlingen  foregår onsdag 30. oktober på hotell Raddison Blue i Tromsø sentrum (kl 1015 til 1530). \nProgram \nPåmelding
URL:https://geoforum.no/event/geoforum-troms-inviterer-til-fagdag-om-plan-tiltak-og-oppmalingsforretning-kvalitet-i-plan-og-byggesaksbehandling-2019/
LOCATION:Raddison Blu Hotel Tromsø\, Sjøgata 7\, Tromsø
CATEGORIES:Temadag lokalt
END:VEVENT
END:VCALENDAR