BEGIN:VCALENDAR
VERSION:2.0
PRODID:-//GeoForum - ECPv6.10.0//NONSGML v1.0//EN
CALSCALE:GREGORIAN
METHOD:PUBLISH
X-WR-CALNAME:GeoForum
X-ORIGINAL-URL:https://geoforum.no
X-WR-CALDESC:Arrangement for GeoForum
REFRESH-INTERVAL;VALUE=DURATION:PT1H
X-Robots-Tag:noindex
X-PUBLISHED-TTL:PT1H
BEGIN:VTIMEZONE
TZID:Europe/Oslo
BEGIN:DAYLIGHT
TZOFFSETFROM:+0100
TZOFFSETTO:+0200
TZNAME:CEST
DTSTART:20190331T010000
END:DAYLIGHT
BEGIN:STANDARD
TZOFFSETFROM:+0200
TZOFFSETTO:+0100
TZNAME:CET
DTSTART:20191027T010000
END:STANDARD
END:VTIMEZONE
BEGIN:VEVENT
DTSTART;TZID=Europe/Oslo:20190902T090000
DTEND;TZID=Europe/Oslo:20190903T160000
DTSTAMP:20260422T044314
CREATED:20190819T092235Z
LAST-MODIFIED:20190819T092235Z
UID:10011357-1567414800-1567526400@geoforum.no
SUMMARY:GISLINE grunnkurs
DESCRIPTION:Se mer her: \nhttps://www.norkart.no/kurs/gislinegrunnkurs-sept19/
URL:https://geoforum.no/event/gisline-grunnkurs/
LOCATION:Norkart Sandvika\, Løkketangen 20A
CATEGORIES:Eksterne kurs og konferanser
END:VEVENT
BEGIN:VEVENT
DTSTART;TZID=Europe/Oslo:20190903T090000
DTEND;TZID=Europe/Oslo:20190904T160000
DTSTAMP:20260422T044314
CREATED:20190819T092430Z
LAST-MODIFIED:20190819T092430Z
UID:10011358-1567501200-1567612800@geoforum.no
SUMMARY:Etablering av ledningsnett
DESCRIPTION:Les mer her: \nhttps://www.norkart.no/kurs/etablering-av-ledningsnett/
URL:https://geoforum.no/event/etablering-av-ledningsnett/
LOCATION:Sted uten navn\, Fjøsangerveien 50B\, Bergen
CATEGORIES:Eksterne kurs og konferanser
END:VEVENT
BEGIN:VEVENT
DTSTART;TZID=Europe/Oslo:20190904T090000
DTEND;TZID=Europe/Oslo:20190905T160000
DTSTAMP:20260422T044314
CREATED:20190619T102000Z
LAST-MODIFIED:20190619T102028Z
UID:10011349-1567587600-1567699200@geoforum.no
SUMMARY:Eiendomsrettseminar 2019
DESCRIPTION:Kartverket inviterer til det årlige eiendomsrettsseminaret\, 4.-5. september 2019 på Sundvolden Hotel. \nLink til program og påmelding \nPåmeldingsfrist 15. august.
URL:https://geoforum.no/event/eiendomsrettseminar-2019/
LOCATION:Sundvolden hotell\, Dronningveien 2\, Krokkleiva\, 3531
CATEGORIES:Eksterne kurs og konferanser
END:VEVENT
BEGIN:VEVENT
DTSTART;TZID=Europe/Oslo:20190905T080000
DTEND;TZID=Europe/Oslo:20190905T160000
DTSTAMP:20260422T044314
CREATED:20190819T092939Z
LAST-MODIFIED:20190819T092940Z
UID:10011361-1567670400-1567699200@geoforum.no
SUMMARY:Norkart Tjenestepanel – ditt verktøy for kart på nett
DESCRIPTION:Webkurs! \nLes mer her: \nhttps://www.norkart.no/kurs/tjenestepanel-ditt-verktoy-for-kart-pa-nett-webkurs-september/
URL:https://geoforum.no/event/norkart-tjenestepanel-ditt-verktoy-for-kart-pa-nett/
LOCATION:WEB
CATEGORIES:Eksterne kurs og konferanser
END:VEVENT
BEGIN:VEVENT
DTSTART;TZID=Europe/Oslo:20190905T090000
DTEND;TZID=Europe/Oslo:20190905T160000
DTSTAMP:20260422T044314
CREATED:20190819T092552Z
LAST-MODIFIED:20190819T092552Z
UID:10011359-1567674000-1567699200@geoforum.no
SUMMARY:KOMTEK Forvaltning – Vannmåler med årsoppgjør
DESCRIPTION:Les mer her: \nhttps://www.norkart.no/kurs/komtek-forvaltning-vannmaler-med-arsoppgjor-sandvika-2018-1-2/
URL:https://geoforum.no/event/komtek-forvaltning-vannmaler-med-arsoppgjor/
LOCATION:Norkart Sandvika\, Løkketangen 20A\, Sandvika
CATEGORIES:Eksterne kurs og konferanser
END:VEVENT
BEGIN:VEVENT
DTSTART;TZID=Europe/Oslo:20190905T090000
DTEND;TZID=Europe/Oslo:20190906T160000
DTSTAMP:20260422T044314
CREATED:20190819T092717Z
LAST-MODIFIED:20190819T092718Z
UID:10011360-1567674000-1567785600@geoforum.no
SUMMARY:VA-måledata fra entreprenør
DESCRIPTION:Les mer her: \nhttps://www.norkart.no/kurs/gisline_va-maledata_september/
URL:https://geoforum.no/event/va-maledata-fra-entreprenor/
LOCATION:Sted uten navn\, Fjøsangerveien 50B\, Bergen
CATEGORIES:Eksterne kurs og konferanser
END:VEVENT
BEGIN:VEVENT
DTSTART;TZID=Europe/Oslo:20190909T090000
DTEND;TZID=Europe/Oslo:20190909T160000
DTSTAMP:20260422T044314
CREATED:20190819T093548Z
LAST-MODIFIED:20190819T093548Z
UID:10011366-1568019600-1568044800@geoforum.no
SUMMARY:Eiendomslandmåling etter matrikkelloven
DESCRIPTION:Les mer her: \nhttps://www.norkart.no/kurs/eiendomslandmaling-etter-matrikkelloven-sandvika-april/
URL:https://geoforum.no/event/eiendomslandmaling-etter-matrikkelloven-2/
LOCATION:Norkart Sandvika\, Løkketangen 20A
CATEGORIES:Eksterne kurs og konferanser
END:VEVENT
BEGIN:VEVENT
DTSTART;TZID=Europe/Oslo:20190909T090000
DTEND;TZID=Europe/Oslo:20190910T160000
DTSTAMP:20260422T044314
CREATED:20190819T093048Z
LAST-MODIFIED:20190819T093048Z
UID:10011362-1568019600-1568131200@geoforum.no
SUMMARY:GISLINE grunnkurs
DESCRIPTION:Les mer her: \nhttps://www.norkart.no/kurs/gislinegrunnkurs_bergen-sept19/
URL:https://geoforum.no/event/gisline-grunnkurs-2/
LOCATION:Sted uten navn\, Fjøsangerveien 50B\, Bergen
CATEGORIES:Eksterne kurs og konferanser
END:VEVENT
BEGIN:VEVENT
DTSTART;TZID=Europe/Oslo:20190909T090000
DTEND;TZID=Europe/Oslo:20190911T160000
DTSTAMP:20260422T044314
CREATED:20190313T104220Z
LAST-MODIFIED:20190313T104230Z
UID:10011333-1568019600-1568217600@geoforum.no
SUMMARY:ArcGIS Enterprise: Administrative arbeidsflyter
DESCRIPTION:Nytt kurs! \nLær deg å mestre teknikker for å konfigurere og vedlikeholde ArcGIS Enterprise-løsninger som møter din organisasjons forretningsbehov. \nProgram og påmelding
URL:https://geoforum.no/event/arcgis-enterprise-administrative-arbeidsflyter/
LOCATION:Geodata Oslo\, Schweigaardsgate 28\, Oslo
CATEGORIES:Eksterne kurs og konferanser
END:VEVENT
BEGIN:VEVENT
DTSTART;TZID=Europe/Oslo:20190911T090000
DTEND;TZID=Europe/Oslo:20190912T160000
DTSTAMP:20260422T044314
CREATED:20190819T093204Z
LAST-MODIFIED:20190819T093204Z
UID:10011363-1568192400-1568304000@geoforum.no
SUMMARY:QGIS Grunnkurs
DESCRIPTION:Les mer her: \nhttps://www.norkart.no/kurs/qgis-grunnkurs-sandvika-sept19/
URL:https://geoforum.no/event/qgis-grunnkurs/
LOCATION:Norkart Sandvika\, Løkketangen 20A
CATEGORIES:Eksterne kurs og konferanser
END:VEVENT
BEGIN:VEVENT
DTSTART;TZID=Europe/Oslo:20190916T160000
DTEND;TZID=Europe/Oslo:20190917T150000
DTSTAMP:20260422T044314
CREATED:20190206T141140Z
LAST-MODIFIED:20190814T121445Z
UID:10011320-1568649600-1568732400@geoforum.no
SUMMARY:Fagdag GeoForum Sørlandet
DESCRIPTION:GeoForum Sørlandet arrangerer fagsamling: \nPlan\, tiltak og oppmålingsforretning – kvalitet i plan og byggesaksbehandling. \nProgram fagsamling Sørlandet 2019 \nPåmelding
URL:https://geoforum.no/event/fagdag-geoforum-sorlandet/
LOCATION:Mandal Hotel
CATEGORIES:Temadag lokalt
END:VEVENT
BEGIN:VEVENT
DTSTART;TZID=Europe/Oslo:20190917T090000
DTEND;TZID=Europe/Oslo:20190917T150000
DTSTAMP:20260422T044314
CREATED:20190819T094017Z
LAST-MODIFIED:20190819T094017Z
UID:10011370-1568710800-1568732400@geoforum.no
SUMMARY:Kartpresentasjon
DESCRIPTION:Les mer her: \nhttps://www.norkart.no/kurs/kartpresentasjon_sept19/
URL:https://geoforum.no/event/kartpresentasjon/
LOCATION:Sted uten navn\, Fjøsangerveien 50B\, Bergen
CATEGORIES:Eksterne kurs og konferanser
END:VEVENT
BEGIN:VEVENT
DTSTART;TZID=Europe/Oslo:20190919T090000
DTEND;TZID=Europe/Oslo:20190919T150000
DTSTAMP:20260422T044314
CREATED:20190819T093309Z
LAST-MODIFIED:20190819T093309Z
UID:10011364-1568883600-1568905200@geoforum.no
SUMMARY:KOMTEK Forvaltning – VA privat
DESCRIPTION:Les mer her: \nhttps://www.norkart.no/kurs/komtek-forvaltning-va-privat-sept/
URL:https://geoforum.no/event/komtek-forvaltning-va-privat/
LOCATION:Norkart Sandvika\, Løkketangen 20A
CATEGORIES:Eksterne kurs og konferanser
END:VEVENT
BEGIN:VEVENT
DTSTART;TZID=Europe/Oslo:20190923T090000
DTEND;TZID=Europe/Oslo:20190924T160000
DTSTAMP:20260422T044314
CREATED:20190313T104407Z
LAST-MODIFIED:20190313T104407Z
UID:10011334-1569229200-1569340800@geoforum.no
SUMMARY:Avansert FME Desktop
DESCRIPTION:Dette kurset egner seg for deg som allerede har noe erfaring i bruk av FME Desktop og ønsker å lære hvordan man kan effektivisere bruken av programvaren og lære seg nye teknikker for å sette opp sømløs dataflyt. \nProgram og påmelding
URL:https://geoforum.no/event/avansert-fme-desktop/
LOCATION:Geodata Oslo\, Schweigaardsgate 28\, Oslo
CATEGORIES:Eksterne kurs og konferanser
END:VEVENT
BEGIN:VEVENT
DTSTART;TZID=Europe/Oslo:20190923T090000
DTEND;TZID=Europe/Oslo:20190924T160000
DTSTAMP:20260422T044314
CREATED:20190819T093431Z
LAST-MODIFIED:20190819T093431Z
UID:10011365-1569229200-1569340800@geoforum.no
SUMMARY:Etablering av digitale reguleringsplaner i GISLINE Arealplan
DESCRIPTION:Les mer her: \nhttps://www.norkart.no/kurs/etablering-av-digitale-reguleringsplaner-i-gisline-arealplan-bergen-sept19/
URL:https://geoforum.no/event/etablering-av-digitale-reguleringsplaner-i-gisline-arealplan/
LOCATION:Sted uten navn\, Fjøsangerveien 50B\, Bergen
CATEGORIES:Eksterne kurs og konferanser
END:VEVENT
BEGIN:VEVENT
DTSTART;TZID=Europe/Oslo:20190924T090000
DTEND;TZID=Europe/Oslo:20190924T150000
DTSTAMP:20260422T044314
CREATED:20190705T074817Z
LAST-MODIFIED:20190705T074817Z
UID:10011350-1569315600-1569337200@geoforum.no
SUMMARY:Kartverket arrangerer DOK sett fra brukerens side
DESCRIPTION:Det offentlige kartgrunnlaget (DOK) – sett fra brukers side. Her får  dataeier en  mulighet til å komme i kontakt med brukerne av dataene dere leverer\, og få førstehånds tilbakemeldinger om hvordan dataene oppleves i bruk\, og hvordan de kan tilpasses og forbedres ytterligere. \nForeløpig program og påmelding
URL:https://geoforum.no/event/kartverket_dok/
LOCATION:Miljødirektoratets konferansesenter Helsfyr\, Fyrstikktorget\, Grensesvingen 7\, Oslo
CATEGORIES:Eksterne kurs og konferanser
END:VEVENT
BEGIN:VEVENT
DTSTART;TZID=Europe/Oslo:20190924T090000
DTEND;TZID=Europe/Oslo:20190925T150000
DTSTAMP:20260422T044314
CREATED:20190809T132838Z
LAST-MODIFIED:20190902T072926Z
UID:10011354-1569315600-1569423600@geoforum.no
SUMMARY:Planseminar Gjøvik 2019
DESCRIPTION:GeoForum Hedmark og Oppland inviterer til planseminar! \nMålgruppen er kommunale og private planleggere\, og andre som jobber med utarbeidelse\, behandling og bruk av arealplaner. Det vil bli fokus på den kommunale planprosessen\, forskrift om private reguleringsplaner med innspill og skråblikk fra kommuner\, statlige etater og private. Vi vil også ta opp tema som overvann og håndtering av dette i en planprosess for å unngå flom og skred. Andre dagen av seminaret har vi satt av til plan i 3D og arrangerer blant annet en VR-plan workshop. \nInvitasjon planseminar \nProgram planseminar Gjøvik \nPåmelding \nPåmeldingsfrist: 06. september
URL:https://geoforum.no/event/planseminar-gjovik-2019/
LOCATION:Grand Hotel Gjøvik\, Jernbaneveien 5\, Gjøvik
CATEGORIES:Seminar
END:VEVENT
BEGIN:VEVENT
DTSTART;TZID=Europe/Oslo:20190924T090000
DTEND;TZID=Europe/Oslo:20190925T160000
DTSTAMP:20260422T044314
CREATED:20190819T093648Z
LAST-MODIFIED:20190819T093649Z
UID:10011367-1569315600-1569427200@geoforum.no
SUMMARY:KOMTEK Forvaltning – Grunnkurs
DESCRIPTION:Les mer her: \nhttps://www.norkart.no/kurs/komtek-forvaltning-grunnkurs-2/
URL:https://geoforum.no/event/komtek-forvaltning-grunnkurs/
LOCATION:Norkart Sandvika\, Løkketangen 20A
CATEGORIES:Eksterne kurs og konferanser
END:VEVENT
BEGIN:VEVENT
DTSTART;TZID=Europe/Oslo:20190925T090000
DTEND;TZID=Europe/Oslo:20190925T150000
DTSTAMP:20260422T044314
CREATED:20190819T093755Z
LAST-MODIFIED:20190819T093756Z
UID:10011368-1569402000-1569423600@geoforum.no
SUMMARY:Mottak og kontroll av plan i GISLINE Arealplan
DESCRIPTION:Les mer her: \nhttps://www.norkart.no/kurs/mottak-og-kontroll-av-plan-i-gisline-arealplan-bergen-sept19/
URL:https://geoforum.no/event/mottak-og-kontroll-av-plan-i-gisline-arealplan/
LOCATION:Sted uten navn\, Fjøsangerveien 50B\, Bergen
CATEGORIES:Eksterne kurs og konferanser
END:VEVENT
BEGIN:VEVENT
DTSTART;TZID=Europe/Oslo:20190925T091500
DTEND;TZID=Europe/Oslo:20190925T150000
DTSTAMP:20260422T044314
CREATED:20190813T080409Z
LAST-MODIFIED:20190911T131014Z
UID:10011356-1569402900-1569423600@geoforum.no
SUMMARY:Fagdag matrikkel Sandnes
DESCRIPTION:GeoForum Rogaland inviterer til fagdag! \nKommunal- og moderniseringsdepartementet forteller om forslag til endringer i matrikkelforskriften. Vi får svar på vanlige problemstillinger rundt vei-eiendommer\, siste nytt fra Kartverket og om endringene som kommer når Fylkeskommunen overtar oppgaver fra Statens Vegvesen og kommunale gang- og sykkelveier. \nInvitasjon til fagdag GeoForum Rogaland høst 2019 rev 2 \nPåmelding
URL:https://geoforum.no/event/fagdag-matrikkel-sandnes/
LOCATION:Sandnes rådhus\, Rådusgata 1\, Sandnes
CATEGORIES:Temadag lokalt
END:VEVENT
BEGIN:VEVENT
DTSTART;TZID=Europe/Oslo:20190926T090000
DTEND;TZID=Europe/Oslo:20190926T150000
DTSTAMP:20260422T044314
CREATED:20190819T093909Z
LAST-MODIFIED:20190819T093910Z
UID:10011369-1569488400-1569510000@geoforum.no
SUMMARY:KOMTEK Forvaltning – Eiendomsskatt
DESCRIPTION:Les mer her: \nhttps://www.norkart.no/kurs/komtek-eiendomsskatt-sept19/
URL:https://geoforum.no/event/komtek-forvaltning-eiendomsskatt/
LOCATION:Norkart Sandvika\, Løkketangen 20A
CATEGORIES:Eksterne kurs og konferanser
END:VEVENT
END:VCALENDAR