BEGIN:VCALENDAR
VERSION:2.0
PRODID:-//GeoForum - ECPv6.10.0//NONSGML v1.0//EN
CALSCALE:GREGORIAN
METHOD:PUBLISH
X-WR-CALNAME:GeoForum
X-ORIGINAL-URL:https://geoforum.no
X-WR-CALDESC:Arrangement for GeoForum
REFRESH-INTERVAL;VALUE=DURATION:PT1H
X-Robots-Tag:noindex
X-PUBLISHED-TTL:PT1H
BEGIN:VTIMEZONE
TZID:Europe/Oslo
BEGIN:DAYLIGHT
TZOFFSETFROM:+0100
TZOFFSETTO:+0200
TZNAME:CEST
DTSTART:20190331T010000
END:DAYLIGHT
BEGIN:STANDARD
TZOFFSETFROM:+0200
TZOFFSETTO:+0100
TZNAME:CET
DTSTART:20191027T010000
END:STANDARD
END:VTIMEZONE
BEGIN:VEVENT
DTSTART;TZID=Europe/Oslo:20190507T100000
DTEND;TZID=Europe/Oslo:20190508T150000
DTSTAMP:20260422T094144
CREATED:20190313T100108Z
LAST-MODIFIED:20190313T100216Z
UID:10011325-1557223200-1557327600@geoforum.no
SUMMARY:Workshop om NADAG
DESCRIPTION:Kartverket Skien inviterer til Workshop om bruk av NADAG for lagring av lokale grunnundersøkelser. Workshopen består av en teoretisk og en praktisk del. Antall deltakere er begrenset. Se under for program og flere detaljer. \nPåmeldingsfrist fredag 26. april! \nProgram og påmelding
URL:https://geoforum.no/event/workshop-om-nadag/
LOCATION:Skien
CATEGORIES:Eksterne kurs og konferanser
END:VEVENT
BEGIN:VEVENT
DTSTART;TZID=Europe/Oslo:20190509T080000
DTEND;TZID=Europe/Oslo:20190510T170000
DTSTAMP:20260422T094144
CREATED:20190313T103746Z
LAST-MODIFIED:20190313T103746Z
UID:10011330-1557388800-1557507600@geoforum.no
SUMMARY:Introduksjon til GIS
DESCRIPTION:Nytt kurs! \nLær om de grunnleggende konseptene bak GIS-teknologi og geografiske data for å se mulighetene med geografiske informasjonssystemer. \nProgram og påmelding
URL:https://geoforum.no/event/introduksjon-til-gis/
LOCATION:Geodata Oslo\, Schweigaardsgate 28\, Oslo
CATEGORIES:Eksterne kurs og konferanser
END:VEVENT
BEGIN:VEVENT
DTSTART;TZID=Europe/Oslo:20190514T093000
DTEND;TZID=Europe/Oslo:20190514T151500
DTSTAMP:20260422T094144
CREATED:20190328T142535Z
LAST-MODIFIED:20190328T142535Z
UID:10011337-1557826200-1557846900@geoforum.no
SUMMARY:Fagdag plan\, bygg og oppmåling GeoForum Rogaland
DESCRIPTION:GeoForum Rogaland inviterer til fagdag.\nMålet for samlingen er å se på kvalitet i plan- og byggesaksbehandling og skape en bedre forståelse for sammenhengen mellom plan- og byggesaksbehandling og eiendomsforhold. \nSted:\nNye Sandnes rådhus\, Rådhusgata 1\, Sandnes. \nPris:\nKr 1000\,- for medlemmer i GeoForum eller ansatte hos bedriftsmedlemmer.\nEt tillegg på kr 500\,- for andre. Prisen inkluderer 1 lunsj\, pausebuffet m/ kaffe og te. \nPåmelding \nProgram \nKontaktperson:\nOle Grammeltvedt (ole.grammeltvedt@sandnes.kommune.no) 90472450
URL:https://geoforum.no/event/fagdag-plan-bygg-og-oppmaling-geoforum-rogaland/
LOCATION:Sandnes\, Jærveien 33
CATEGORIES:Temadag lokalt
GEO:58.8479149;5.7288478
X-APPLE-STRUCTURED-LOCATION;VALUE=URI;X-ADDRESS=Sandnes Jærveien 33;X-APPLE-RADIUS=500;X-TITLE=Jærveien 33:geo:5.7288478,58.8479149
END:VEVENT
BEGIN:VEVENT
DTSTART;TZID=Europe/Oslo:20190515T083000
DTEND;TZID=Europe/Oslo:20190515T160000
DTSTAMP:20260422T094144
CREATED:20190408T113922Z
LAST-MODIFIED:20190409T123903Z
UID:10011339-1557909000-1557936000@geoforum.no
SUMMARY:Fagdag og årsmøte 2019 GeoForum Hordaland
DESCRIPTION:GeoForum Hordaland holder fagdag og årsmøte i Auditorium hos Statens vegvesen (Nygårdsgaten 112) i Bergen onsdag 15. mai. \nInvitasjon og program \nPåmelding \nPåmelding – innen 3. mai
URL:https://geoforum.no/event/fagdag-og-arsmote-2019-geoforum-hordaland/
LOCATION:Statens vegvesen\, Nygårdsgaten 112\, Bergen\, 5008
CATEGORIES:Temadag lokalt
END:VEVENT
BEGIN:VEVENT
DTSTART;TZID=Europe/Oslo:20190527T080000
DTEND;TZID=Europe/Oslo:20190527T170000
DTSTAMP:20260422T094144
CREATED:20190408T115135Z
LAST-MODIFIED:20190409T131156Z
UID:10011340-1558944000-1558976400@geoforum.no
SUMMARY:Fagdag - plan\, bygg og oppmåling GeoForum Hedmark og Oppland
DESCRIPTION:I samarbeid med Einar Bergsholm og Fredrik Holth\, NMBU\, arrangerer Geoforum Hedmark og Oppland en fagdag «Plan\, bygg og oppmåling» mandag 27.mai 2019.\nDu inviteres med dette til å delta på en dag med faglig og juridisk påfyll i en ellers travel hverdag. Programmet er først og fremst rettet mot kommunale saksbehandlere og landmålere\, men er også aktuelt for private landmålerforetak. \nProgram \nPåmelding
URL:https://geoforum.no/event/fagdag-plan-bygg-og-oppmaling/
LOCATION:Statens vegvesen Lillehammer\, Industrigata 1\, Lillehammer\, 2619
CATEGORIES:Temadag lokalt
END:VEVENT
BEGIN:VEVENT
DTSTART;TZID=Europe/Oslo:20190529T090000
DTEND;TZID=Europe/Oslo:20190529T150000
DTSTAMP:20260422T094144
CREATED:20190503T082620Z
LAST-MODIFIED:20190503T082948Z
UID:10011346-1559120400-1559142000@geoforum.no
SUMMARY:Fagdag Plan\, byggesak og oppmåling GeoForum Østfold
DESCRIPTION:GeoForum Østfold inviterer til fagdag. \nMålet for fagdagen er å se på kvaliteten i plan- og byggesaksbehandlingen og skape en bedre forståelse for sammenhengen mellom plan- og byggesaksbehandling og eiendomsforhold. \nPris:\nKr 1000\,- for medlemmer i GeoForum eller ansatte hos bedriftsmedlemmer. Et tillegg på kr 500\,- for andre. Prisen inkluderer lunsj og kaffe/te. \nKontaktperson:\nEspen Danevad (esd@sarpsborg.com)\, mob: 99205831 \nPåmeldingsfrist:  24.mai \nPåmelding og program
URL:https://geoforum.no/event/fagdag-plan-byggesak-og-oppmaling-geoforum-ostfold/
LOCATION:Tune rådhus\, Tuneveien 95\, Sarpsborg\, Østfold\, 1712\, Norge
CATEGORIES:Temadag lokalt
END:VEVENT
BEGIN:VEVENT
DTSTART;TZID=Europe/Oslo:20190530T080000
DTEND;TZID=Europe/Oslo:20190530T170000
DTSTAMP:20260422T094144
CREATED:20180614T123643Z
LAST-MODIFIED:20180614T124220Z
UID:10011294-1559203200-1559235600@geoforum.no
SUMMARY:GeoForum 50 år
DESCRIPTION:Stiftelsesdato til GeoForum er 30. mai 1969. \nMarkeres med tilstelning for medlemmer. \n(30. mai er Kr. Himmelfartsdag)
URL:https://geoforum.no/event/geoforum-50-ar/
CATEGORIES:Konferanse
END:VEVENT
END:VCALENDAR