BEGIN:VCALENDAR
VERSION:2.0
PRODID:-//GeoForum - ECPv6.10.0//NONSGML v1.0//EN
CALSCALE:GREGORIAN
METHOD:PUBLISH
X-ORIGINAL-URL:https://geoforum.no
X-WR-CALDESC:Arrangement for GeoForum
REFRESH-INTERVAL;VALUE=DURATION:PT1H
X-Robots-Tag:noindex
X-PUBLISHED-TTL:PT1H
BEGIN:VTIMEZONE
TZID:Europe/Oslo
BEGIN:DAYLIGHT
TZOFFSETFROM:+0100
TZOFFSETTO:+0200
TZNAME:CEST
DTSTART:20190331T010000
END:DAYLIGHT
BEGIN:STANDARD
TZOFFSETFROM:+0200
TZOFFSETTO:+0100
TZNAME:CET
DTSTART:20191027T010000
END:STANDARD
END:VTIMEZONE
BEGIN:VEVENT
DTSTART;VALUE=DATE:20190205
DTEND;VALUE=DATE:20190207
DTSTAMP:20260422T144519
CREATED:20180611T111927Z
LAST-MODIFIED:20190204T134150Z
UID:10011292-1549324800-1549497599@geoforum.no
SUMMARY:Lokale geomatikkdager Hedmark og Oppland 2019
DESCRIPTION:I 2019 har GeoForum Hedmark og Oppland den glede å invitere til lokale geomatikkdager på Biri\, nærmere bestem på Honne Konferansesenter. \nVi har et variert program der vi blant annet viser de nye løsningene innen e-byggesak\, satellittposisjonering og  oppmålingsforretning. Det blir flere foredrag om matrikkelen. I tillegg er dette en mulighet til å treffe bransjefolk\, gamle og nye kolleger og kanskje løse noen verdensproblemer. \nDet er noe begrenset med overnattingsplasser på Honne\, så her gjelder «førstemann til mølla». \nPåmeldingsfristen er mandag 14. januar. \nProgram \nPåmelding
URL:https://geoforum.no/event/lokale-geomatikkdager-2019/
LOCATION:Honne konferansesenter\, Honnevegen 60\, Biri\, 2836
CATEGORIES:Lokale geomatikkdager
GEO:60.9460302;10.6361495
X-APPLE-STRUCTURED-LOCATION;VALUE=URI;X-ADDRESS=Honne konferansesenter Honnevegen 60 Biri 2836;X-APPLE-RADIUS=500;X-TITLE=Honnevegen 60:geo:10.6361495,60.9460302
END:VEVENT
BEGIN:VEVENT
DTSTART;TZID=Europe/Oslo:20190205T120000
DTEND;TZID=Europe/Oslo:20190205T173000
DTSTAMP:20260422T144519
CREATED:20190124T114632Z
LAST-MODIFIED:20190125T073219Z
UID:10011314-1549368000-1549387800@geoforum.no
SUMMARY:Temadag og årsmøte 2018 GeoForum Rogaland
DESCRIPTION:GeoForum Rogaland inviterer til temadag om beredskap 5. februar 2019. \nHer vil du få høre foredrag om beredskap fra Kartverket\, politiet og Norsk folkehjelp. \nProgram \nPåmelding
URL:https://geoforum.no/event/temadag-og-arsmote-2018-geoforum-rogaland/
LOCATION:Kartverket Rogaland\, Professor Olav Hanssens vei 10\, Stavanger
CATEGORIES:Temadag lokalt
GEO:58.9347523;5.702327
X-APPLE-STRUCTURED-LOCATION;VALUE=URI;X-ADDRESS=Kartverket Rogaland Professor Olav Hanssens vei 10 Stavanger;X-APPLE-RADIUS=500;X-TITLE=Professor Olav Hanssens vei 10:geo:5.702327,58.9347523
END:VEVENT
BEGIN:VEVENT
DTSTART;TZID=Europe/Oslo:20190211T090000
DTEND;TZID=Europe/Oslo:20190212T130000
DTSTAMP:20260422T144519
CREATED:20181205T120410Z
LAST-MODIFIED:20190107T085846Z
UID:10011301-1549875600-1549976400@geoforum.no
SUMMARY:Stikningskonferansen 2019
DESCRIPTION:11.-12. februar arrangerer vi Stikningskonferansen for 34. gang! \nKonferansen gjennomføres på Scandic Fornebu. \nKonferansen åpner med et foredrag fra Ragnhild Kvalshaugen fra Handelshøgskolen BI\, som har forsket på samhandling for vellykket gjennomføring av samferdselsprosjekter. Dette følges opp av Knut Paasche fra Norsk institutt for kulturminneforskning\, som vil fortelle om hvordan arkeologene der brukte blant annet georadar og laser da de oppdaget et nytt vikingskip i Halden tidligere i høst. \nEtter disse to åpningsforedragene skal vi innom tema som E6\, skanning og prosjekterfaringer. \nProgram og invitasjon Stikningskonferansen 2019 \nStikningskonferansen 2019 – invitasjon til utstillere \nPåmelding \n 
URL:https://geoforum.no/event/stikningskonferansen-2019/
LOCATION:Scandic Fornebu\, Martin Linges vei 2\, Fornebu\, Norge\, 1364\, Norge
CATEGORIES:Konferanse
ORGANIZER;CN="GeoForum":MAILTO:sverre@geoforum.no
END:VEVENT
BEGIN:VEVENT
DTSTART;TZID=Europe/Oslo:20190226T090000
DTEND;TZID=Europe/Oslo:20190226T160000
DTSTAMP:20260422T144519
CREATED:20190128T135830Z
LAST-MODIFIED:20190205T130220Z
UID:10011316-1551171600-1551196800@geoforum.no
SUMMARY:Fagdag og årsmøte i GeoForum Telemark 2019
DESCRIPTION:GeoForum Telemark holder fagdag og årsmøte på Thon Hotel Høyers tirsdag 26. februar.\nFagdagen og årsmøtet er GRATIS for personlige medlemmer i Geoforum.\n\nInvitasjon og Program-Fagdag-Årsmøte-2018\nPåmelding \n\nPåmeldingsfrist; tirsdag 5. februar.\n\nGeoforum fagdag informasjon om hotell og parkering
URL:https://geoforum.no/event/fagdag-og-arsmote-i-geoforum-telemark-2019/
LOCATION:Thon Hotel Høyers\, Kongens gate 6\, Skien
CATEGORIES:Temadag lokalt
END:VEVENT
BEGIN:VEVENT
DTSTART;TZID=Europe/Oslo:20190227T093000
DTEND;TZID=Europe/Oslo:20190301T150000
DTSTAMP:20260422T144519
CREATED:20181022T091156Z
LAST-MODIFIED:20181022T091156Z
UID:10011218-1551259800-1551452400@geoforum.no
SUMMARY:Geodata arrangerer GeoTek 2019
DESCRIPTION:GeoTek – en konferanse om geografiske data og teknologi. Vi lever i en geografisk tidsalder. Kart og geografisk informasjon er rundt oss hele tiden. De som vil lykkes i framtiden er de som klarer å utnytte innsikten disse dataene gir oss. \nLes mer
URL:https://geoforum.no/event/geodata-arrangerer-geotek-2019/
LOCATION:Oslo kongresssenter
CATEGORIES:Eksterne kurs og konferanser
END:VEVENT
END:VCALENDAR