BEGIN:VCALENDAR
VERSION:2.0
PRODID:-//GeoForum - ECPv6.10.0//NONSGML v1.0//EN
CALSCALE:GREGORIAN
METHOD:PUBLISH
X-ORIGINAL-URL:https://geoforum.no
X-WR-CALDESC:Arrangement for GeoForum
REFRESH-INTERVAL;VALUE=DURATION:PT1H
X-Robots-Tag:noindex
X-PUBLISHED-TTL:PT1H
BEGIN:VTIMEZONE
TZID:Europe/Oslo
BEGIN:DAYLIGHT
TZOFFSETFROM:+0100
TZOFFSETTO:+0200
TZNAME:CEST
DTSTART:20180325T010000
END:DAYLIGHT
BEGIN:STANDARD
TZOFFSETFROM:+0200
TZOFFSETTO:+0100
TZNAME:CET
DTSTART:20181028T010000
END:STANDARD
END:VTIMEZONE
BEGIN:VEVENT
DTSTART;TZID=Europe/Oslo:20181105T080000
DTEND;TZID=Europe/Oslo:20181106T170000
DTSTAMP:20260422T183841
CREATED:20180515T111055Z
LAST-MODIFIED:20180515T111055Z
UID:10011263-1541404800-1541523600@geoforum.no
SUMMARY:ISYdagene 2018
DESCRIPTION:
URL:https://geoforum.no/event/isydagene-2018/
LOCATION:Clarion Hotel & Congress\, Trondheim
CATEGORIES:Eksterne kurs og konferanser
END:VEVENT
BEGIN:VEVENT
DTSTART;TZID=Europe/Oslo:20181108T080000
DTEND;TZID=Europe/Oslo:20181108T170000
DTSTAMP:20260422T183841
CREATED:20180807T095125Z
LAST-MODIFIED:20181018T094358Z
UID:10011202-1541664000-1541696400@geoforum.no
SUMMARY:GeoKlar 2018
DESCRIPTION:GeoKlar setter søkelyset på det viktige samspillet mellom geodata og beredskap. \nGode kart over sjø og land og riktig bruk av geodata er avgjørende for enhver kriseplanlegging og krisehåndtering. \nProgramkomiteens ambisjon er å vise verdien av å ha gode geodata kombinert med effektive teknologiske systemer – og hvordan dette kan gjøre hverdagen sikrere og forbedre kriseberedskapen i Norge. Hovedmålgruppen for konferansen er beredskaps- og geodataansvarlige på ulike nivå i det offentlige og i det private. \nProgram_ GeoKlar_2018_ \nPåmelding
URL:https://geoforum.no/event/geoklar-2018/
LOCATION:Thon Hotel Arena\, Nesgata 1\, Lillestrøm
CATEGORIES:Konferanse
END:VEVENT
BEGIN:VEVENT
DTSTART;TZID=Europe/Oslo:20181112T090000
DTEND;TZID=Europe/Oslo:20181113T140000
DTSTAMP:20260422T183841
CREATED:20180823T073238Z
LAST-MODIFIED:20180823T073337Z
UID:10011208-1542013200-1542117600@geoforum.no
SUMMARY:Gemini brukerkonferanse
DESCRIPTION:Powel construction arrangerer brukerkonferansen på Clarion Hotel & Congress Oslo Airport mandag 12. og tirsdag 13. november.\nBrukerkonferansen vil i år fokusere på anvendelse av våre løsninger\, og programmet vil være bygd opp av foredrag fra kunder og ansatte. Vi vil tilby lynkurs om ulike fagområder\, samt gratis konsulenttjenester på deres prosjekt. \nProgrammet oppdateres fortløpende. Små endringer i program kan forekomme. \nSe program og meld deg på her   \nEarly bird-pris frem til 12. september
URL:https://geoforum.no/event/gemini-brukerkonferanse-2/
LOCATION:Clarion Hotel & Congress Oslo Airport
CATEGORIES:Eksterne kurs og konferanser
END:VEVENT
BEGIN:VEVENT
DTSTART;TZID=Europe/Oslo:20181113T090000
DTEND;TZID=Europe/Oslo:20181114T150000
DTSTAMP:20260422T183841
CREATED:20180405T133816Z
LAST-MODIFIED:20180927T142720Z
UID:10011257-1542099600-1542207600@geoforum.no
SUMMARY:Teknologiforum 2018
DESCRIPTION:Teknologiforum er et møtested for partene i Norge digitalt-samarbeidet der spørsmål knyttet til teknologi diskuteres. Fokus er på overordnede føringer og teknisk veiledning knyttet til tema som dataformater\, kvalitetskontroll\, tjenester og applikasjoner. \nProgram og påmelding  her \nPåmeldingsfrist er 10. oktober. \n 
URL:https://geoforum.no/event/teknologiforum-2018-2/
LOCATION:Park Inn Radisson Oslo Airport\, Gardermoen Hotel\, Gardermoen
CATEGORIES:Eksterne kurs og konferanser
GEO:60.1975501;11.1004152
END:VEVENT
BEGIN:VEVENT
DTSTART;TZID=Europe/Oslo:20181114T100000
DTEND;TZID=Europe/Oslo:20181116T150000
DTSTAMP:20260422T183841
CREATED:20180326T120408Z
LAST-MODIFIED:20180326T120408Z
UID:10011254-1542189600-1542380400@geoforum.no
SUMMARY:Danske Kortdager
DESCRIPTION:Geoforum Danmark arrangerer danske Kortdager i Aalborg. \nLes mer http://www.kortdage.dk/
URL:https://geoforum.no/event/danske-kortdager/
LOCATION:Aalborg Kongres & Kultur center\, Aalborg\, Danmark
CATEGORIES:Eksterne kurs og konferanser
END:VEVENT
BEGIN:VEVENT
DTSTART;TZID=Europe/Oslo:20181114T123000
DTEND;TZID=Europe/Oslo:20181114T174500
DTSTAMP:20260422T183841
CREATED:20180924T133914Z
LAST-MODIFIED:20181111T222053Z
UID:10011212-1542198600-1542217500@geoforum.no
SUMMARY:GIS-dagen 14. november 2018
DESCRIPTION:I anledning den internasjonale GIS-dagen\, 14. november 2018\, ønsker Geoforum Hordaland i samarbeid med Institutt for Geografi ved Universitetet i Bergen\, Høgskulen på Vestlandet og Geodata AS å invitere til et dagsseminar. Her vil ansatte og studenter med interesse for GIS og geomatikk få anledning til å møte geomatikkbrukere i offentlig forvaltning\, privat næringsliv og akademia\, samt utviklere av GIS-programmer og løsninger. \nKontaktperson: Vegard Eriksen med telefon 48028869 og e-post: vegard.eriksen@multiconsult.no \nProgram \nPåmelding
URL:https://geoforum.no/event/gis-dagen-14-november-2018/
LOCATION:Bergen\, Bergen
CATEGORIES:Temadag lokalt
END:VEVENT
BEGIN:VEVENT
DTSTART;TZID=Europe/Oslo:20181120T090000
DTEND;TZID=Europe/Oslo:20181121T150000
DTSTAMP:20260422T183841
CREATED:20180206T123120Z
LAST-MODIFIED:20181115T113716Z
UID:10011251-1542704400-1542812400@geoforum.no
SUMMARY:Regionale Geomatikkdager for Telemark\, Vestfold og Østfold 2018
DESCRIPTION:Foto: Nordic Choice Hotels \nSamfunnet er storbruker av stedfestet informasjon. GeoForum Telemark\, Østfold og Vestfold har etablert en fellesarena for vår region. Via foredrag\, utstilling og mingling vil praktiske utøvere og forvaltere av stedfestet informasjon kunne bli oppdatert og få utvekslet erfaring. \nI år skal vi servere aktuelle og spennede foredrag om følgende temaer: \n\nNy matrikkellov – hva har skjedd og hva skjer videre\nDigitalisering i offentlig sektor\nJuridiske problemstillinger i matrikkelarbeidet\nKommunikasjon med innbyggere\nOppmåling\nDroner\nEiendomsseksjonering\nPlan og 3D\n\nKonferansen starter og slutter med en fellessesjon\, men ellers vil det bli parallelle sesjoner for å få plass til flest mulig foredrag. \nProgram\nProgram – Geomatikkdager 2018 for Østfold\, Vestfold og Telemark \nPriser\n\nHele arrangementet (overnatting og full pensjon): kr 3 400 (ikke medlem kr 3 900)\nDagsbesøk\, 20. november: kr 1 700 (ikke medlem kr 1 950)\nDagsbesøk\, 20. november m/ middag: kr 2 200 (ikke medlem kr 2 550)\nDagsbesøk\, 21. november: kr 1 700 (ikke medlem kr 1 950)\nOvernatting 19. november : kr 1 100 (ikke medlem kr 1 100)\nUtstilling + 1 person hele arr.: kr 7 500 tilleggsperson kr. 3400\nStudenter deltar gratis på dagsbesøk.\nPensjonister deltar til halv pris på hele arrangementet og dagsbesøk.\n\nYtterligere info vedrørende arrangementet ta kontakt med:\n\nGeoForum Østfold: Espen Danevad 479 78 998\nGeoForum Vestfold: Kåre Conradsen 907 25 905\nGeoForum Telemark: Roar Borgerås 481 33 296\n\nPåmelding via denne lenken.\nPåmeldingsfrist: fredag 19. oktober.\nNB! Premie til de 30 første påmeldte 🙂
URL:https://geoforum.no/event/regionale-geomatikkdager-for-telemark-vestfold-og-ostfold-2018/
LOCATION:Quality Hotel Sarpsborg\, Bjørnstadveien 20\, Sarpsborg\, Østfold\, 1712\, Norge
CATEGORIES:Lokale geomatikkdager
END:VEVENT
BEGIN:VEVENT
DTSTART;TZID=Europe/Oslo:20181121T080000
DTEND;TZID=Europe/Oslo:20181122T150000
DTSTAMP:20260422T183841
CREATED:20180518T083250Z
LAST-MODIFIED:20181021T191627Z
UID:10011264-1542787200-1542898800@geoforum.no
SUMMARY:Geodesi og hydrografidagene 2018
DESCRIPTION:Årets Geodesi- og hydrografidager arrangeres i Stavanger. \nGeodesi- og hydrografidagene 2018 program \nPåmelding
URL:https://geoforum.no/event/geodesi-og-hydrografidagene-2018/
LOCATION:Quality Airport Hotel Stavanger\, Sømmevegen 1\, Sola\, 4055
CATEGORIES:Konferanse
GEO:58.8939604;5.6275956
X-APPLE-STRUCTURED-LOCATION;VALUE=URI;X-ADDRESS=Quality Airport Hotel Stavanger Sømmevegen 1 Sola 4055;X-APPLE-RADIUS=500;X-TITLE=Sømmevegen 1:geo:5.6275956,58.8939604
END:VEVENT
BEGIN:VEVENT
DTSTART;TZID=Europe/Oslo:20181129T100000
DTEND;TZID=Europe/Oslo:20181130T123000
DTSTAMP:20260422T183841
CREATED:20181106T143108Z
LAST-MODIFIED:20181106T143241Z
UID:10011220-1543485600-1543581000@geoforum.no
SUMMARY:Lansering av InSAR Norge
DESCRIPTION:Norges geologiske undersøkelse (NGU)\, Norges vassdrags- og energidirektorat (NVE) og Norsk Romsenter (NRS) inviterer til den offisielle lanseringen av InSAR Norge\, den mest ambisiøse nasjonalt finansierte jordobservasjonstjenesten i Europa. \nI nesten 20 år har NGU og partnere brukt data fra radarsatellitter til å måle bakkebevegelser. Ved å bruke bilder som er tatt opp hver sjette dag av European Copernicus-programmets Sentinel-1-satellitter\, kan vi nå måle og kontinuerlig overvåke alle disse bevegelsene med en nøyaktighet ned mot en millimeter per år for mer enn tre milliarder punkter i Norge. Denne nye tjenesten er åpen og gratis for alle; myndigheter\, industri og innbyggere. \nInformasjon og påmelding \n  \n 
URL:https://geoforum.no/event/lansering-av-insar-norge/
LOCATION:NGU\, Leiv Eirikssons vei 39\, Trondheim
CATEGORIES:Eksterne kurs og konferanser
END:VEVENT
END:VCALENDAR