BEGIN:VCALENDAR
VERSION:2.0
PRODID:-//GeoForum - ECPv6.10.0//NONSGML v1.0//EN
CALSCALE:GREGORIAN
METHOD:PUBLISH
X-ORIGINAL-URL:https://geoforum.no
X-WR-CALDESC:Arrangement for GeoForum
REFRESH-INTERVAL;VALUE=DURATION:PT1H
X-Robots-Tag:noindex
X-PUBLISHED-TTL:PT1H
BEGIN:VTIMEZONE
TZID:Europe/Oslo
BEGIN:DAYLIGHT
TZOFFSETFROM:+0100
TZOFFSETTO:+0200
TZNAME:CEST
DTSTART:20180325T010000
END:DAYLIGHT
BEGIN:STANDARD
TZOFFSETFROM:+0200
TZOFFSETTO:+0100
TZNAME:CET
DTSTART:20181028T010000
END:STANDARD
END:VTIMEZONE
BEGIN:VEVENT
DTSTART;TZID=Europe/Oslo:20181002T090000
DTEND;TZID=Europe/Oslo:20181002T200000
DTSTAMP:20260422T195051
CREATED:20180605T081219Z
LAST-MODIFIED:20180605T081234Z
UID:10011287-1538470800-1538510400@geoforum.no
SUMMARY:Fagdag matrikkel Trondheim
DESCRIPTION:Kartverket Trøndelag arrangerer fagdag matrikkel i Trondheim. \nMer informasjon legges ut her
URL:https://geoforum.no/event/fagdag-matrikkel-2/
LOCATION:Statens hus Trondheim
CATEGORIES:Eksterne kurs og konferanser
END:VEVENT
BEGIN:VEVENT
DTSTART;TZID=Europe/Oslo:20181003T100000
DTEND;TZID=Europe/Oslo:20181003T150000
DTSTAMP:20260422T195052
CREATED:20180605T081436Z
LAST-MODIFIED:20180605T082106Z
UID:10011288-1538560800-1538578800@geoforum.no
SUMMARY:Fagdag matrikkel Steinkjer
DESCRIPTION:Kartverket Trøndelag arrangerer fagdag matrikkel. Program legges ut etter sommerferien. Mer informasjon legges ut her
URL:https://geoforum.no/event/fagdag-matrikkel-steinkjer/
LOCATION:Statens Hus i Steinkjer
CATEGORIES:Eksterne kurs og konferanser
END:VEVENT
BEGIN:VEVENT
DTSTART;TZID=Europe/Oslo:20181009T090000
DTEND;TZID=Europe/Oslo:20181010T140000
DTSTAMP:20260422T195052
CREATED:20180802T111934Z
LAST-MODIFIED:20180802T112045Z
UID:10011300-1539075600-1539180000@geoforum.no
SUMMARY:Workshop - preparations for the Sentinels in Europe
DESCRIPTION:This workshop\, co-organized by EuroSDR\, Norwegian Space Centre and the Norwegian Mapping Authority\, aims to give the users of the Sentinel-2 satellites the latest information from ESA Ground Segment\, but also knowledge and experience from different national Collaborative Ground Segments (CGS). There will also be presentations from operational use of S-2 data\, and of course break out discussions. The program will be distributed here as soon it is ready. \nThe workshop will be free of charge\, coffee breaks and lunch both days included. \nProgram committee: Michael Hovenbitzer BKG-Germany\, Clement Mallet IGN-France\, Anja Strømme NSC-Norway\, Trygve Halsne MET-Norway\, Torgeir Ferdinand Klingenberg and Jon Arne Trollvik NMA-Norway
URL:https://geoforum.no/event/workshop-preparations-for-the-sentinels-in-europe/
LOCATION:Norsk Romsenter\, Drammensveien 165\, Oslo
CATEGORIES:Eksterne kurs og konferanser
GEO:59.9219549;10.6747286
X-APPLE-STRUCTURED-LOCATION;VALUE=URI;X-ADDRESS=Norsk Romsenter Drammensveien 165 Oslo;X-APPLE-RADIUS=500;X-TITLE=Drammensveien 165:geo:10.6747286,59.9219549
END:VEVENT
BEGIN:VEVENT
DTSTART;TZID=Europe/Oslo:20181015T090000
DTEND;TZID=Europe/Oslo:20181016T150000
DTSTAMP:20260422T195052
CREATED:20161117T142525Z
LAST-MODIFIED:20181015T062424Z
UID:10011190-1539594000-1539702000@geoforum.no
SUMMARY:Eiendomskonferansen 2018
DESCRIPTION:GeoForum Hordaland i samarbeid med Jordskifteretten\, Kartverket\, Statens vegvesen og Høgskolen i Bergen arrangerer den årlige Eiendomskonferansen på Solstrand. \ngeoforum_hordland_eiendomskonferansen_2018_rev2 \nPåmeldingen er nå stengt. Ved ønske om å delta\, send mail til Jan Erik Førde \n 
URL:https://geoforum.no/event/eiendomskonferansen-2018/
LOCATION:Solstrand Hotel & Bad\, Solstrandveien 200\, Os\, 5201
CATEGORIES:Lokale geomatikkdager
GEO:60.1890693;5.4876245
X-APPLE-STRUCTURED-LOCATION;VALUE=URI;X-ADDRESS=Solstrand Hotel & Bad Solstrandveien 200 Os 5201;X-APPLE-RADIUS=500;X-TITLE=Solstrandveien 200:geo:5.4876245,60.1890693
END:VEVENT
BEGIN:VEVENT
DTSTART;TZID=Europe/Oslo:20181018T090000
DTEND;TZID=Europe/Oslo:20181018T160000
DTSTAMP:20260422T195052
CREATED:20180606T084348Z
LAST-MODIFIED:20180926T124741Z
UID:10011290-1539853200-1539878400@geoforum.no
SUMMARY:FOSS4GNO 2018
DESCRIPTION:Sett av dagen til årets arrangement som samler entusiastiske teknologer for å prate om åpenhet. \nKonferansen viser frem hvordan forskjellige open source teknologier blir brukt innen geomatikk i Norge. Programmet vil dekke både avanserte teknologiemner\, erfaringer fra bruk\, samt de siste trendene. Gjennom dette er målet at flere får en bredere kompetanse innen bruk av open source i geomatikkbransjen\, og blir motiverte til å selv bidra med open source kode. \nProgram FOSS4GNO \nPåmelding \nMer om FOSS4GNO \n 
URL:https://geoforum.no/event/foss4g-nor-2018/
LOCATION:Felix konferansesenter\, Aker brygge\, Bryggetorget 3\, Oslo\, 0125
CATEGORIES:Seminar
GEO:59.9101662;10.7250782
X-APPLE-STRUCTURED-LOCATION;VALUE=URI;X-ADDRESS=Felix konferansesenter Aker brygge Bryggetorget 3 Oslo 0125;X-APPLE-RADIUS=500;X-TITLE=Bryggetorget 3:geo:10.7250782,59.9101662
END:VEVENT
BEGIN:VEVENT
DTSTART;TZID=Europe/Oslo:20181022T093000
DTEND;TZID=Europe/Oslo:20181023T150000
DTSTAMP:20260422T195052
CREATED:20180529T073920Z
LAST-MODIFIED:20180529T074211Z
UID:10011269-1540200600-1540306800@geoforum.no
SUMMARY:Norkarts brukermøte
DESCRIPTION:Mer informasjon finner du her
URL:https://geoforum.no/event/norkarts-brukermote/
LOCATION:Quality Hotel Expo\, Snarøyveien 20\, Oslo\, 1360
CATEGORIES:Eksterne kurs og konferanser
GEO:59.9024229;10.6280948
X-APPLE-STRUCTURED-LOCATION;VALUE=URI;X-ADDRESS=Quality Hotel Expo Snarøyveien 20 Oslo 1360;X-APPLE-RADIUS=500;X-TITLE=Snarøyveien 20:geo:10.6280948,59.9024229
END:VEVENT
BEGIN:VEVENT
DTSTART;TZID=Europe/Oslo:20181023T093000
DTEND;TZID=Europe/Oslo:20181024T150000
DTSTAMP:20260422T195052
CREATED:20180529T075512Z
LAST-MODIFIED:20180529T075855Z
UID:10011270-1540287000-1540393200@geoforum.no
SUMMARY:DKT 2018
DESCRIPTION:Les mer \n 
URL:https://geoforum.no/event/dkt-2018/
LOCATION:Scandic Fornebu
CATEGORIES:Konferanse
END:VEVENT
BEGIN:VEVENT
DTSTART;TZID=Europe/Oslo:20181026T080000
DTEND;TZID=Europe/Oslo:20181027T170000
DTSTAMP:20260422T195052
CREATED:20180524T113513Z
LAST-MODIFIED:20180524T113519Z
UID:10011267-1540540800-1540659600@geoforum.no
SUMMARY:#hack4no
DESCRIPTION:26.-27. oktober arrangerer  Kartverket og samarbeidspartnere #hack4no for fjerde gang.
URL:https://geoforum.no/event/hack4n0/
LOCATION:Sted uten navn\, Hønefoss
CATEGORIES:Eksterne kurs og konferanser
END:VEVENT
BEGIN:VEVENT
DTSTART;TZID=Europe/Oslo:20181030T100000
DTEND;TZID=Europe/Oslo:20181030T153000
DTSTAMP:20260422T195052
CREATED:20180710T073543Z
LAST-MODIFIED:20181009T114914Z
UID:10011299-1540893600-1540913400@geoforum.no
SUMMARY:Det juridiske kartgrunnlaget
DESCRIPTION:GeoForum\, Plannettverk Trøndelag og Trøndelag fylkeskommune inviterer til fagdagen: \nProgram \nPåmelding \nMålsetningen med fagdagen er å belyse problemstillinger rundt kommunens ansvar og rolle ved plan- og byggesaksbehandling.
URL:https://geoforum.no/event/det-juridiske-kartgrunnlaget/
LOCATION:Scandic Hell Hotel\, Sandfærhus 22\, Stjørdal\, 7500
CATEGORIES:Seminar,Temadag lokalt
GEO:63.4491051;10.9127574
X-APPLE-STRUCTURED-LOCATION;VALUE=URI;X-ADDRESS=Scandic Hell Hotel Sandfærhus 22 Stjørdal 7500;X-APPLE-RADIUS=500;X-TITLE=Sandfærhus 22:geo:10.9127574,63.4491051
END:VEVENT
END:VCALENDAR