BEGIN:VCALENDAR
VERSION:2.0
PRODID:-//GeoForum - ECPv6.10.0//NONSGML v1.0//EN
CALSCALE:GREGORIAN
METHOD:PUBLISH
X-ORIGINAL-URL:https://geoforum.no
X-WR-CALDESC:Arrangement for GeoForum
REFRESH-INTERVAL;VALUE=DURATION:PT1H
X-Robots-Tag:noindex
X-PUBLISHED-TTL:PT1H
BEGIN:VTIMEZONE
TZID:Europe/Oslo
BEGIN:DAYLIGHT
TZOFFSETFROM:+0100
TZOFFSETTO:+0200
TZNAME:CEST
DTSTART:20180325T010000
END:DAYLIGHT
BEGIN:STANDARD
TZOFFSETFROM:+0200
TZOFFSETTO:+0100
TZNAME:CET
DTSTART:20181028T010000
END:STANDARD
END:VTIMEZONE
BEGIN:VEVENT
DTSTART;TZID=Europe/Oslo:20180905T090000
DTEND;TZID=Europe/Oslo:20180906T150000
DTSTAMP:20260422T211205
CREATED:20180605T081907Z
LAST-MODIFIED:20180605T081907Z
UID:10011289-1536138000-1536246000@geoforum.no
SUMMARY:Eiendomsrettseminar 2018
DESCRIPTION:Kartverket inviterer til det årlege eiendomsrettsseminaret på Sundvolden Hotel. \nProgram \nPåmelding
URL:https://geoforum.no/event/eiendomsrettseminar-2018/
LOCATION:Sundvolden hotell\, 3531
CATEGORIES:Eksterne kurs og konferanser
END:VEVENT
BEGIN:VEVENT
DTSTART;TZID=Europe/Oslo:20180911T090000
DTEND;TZID=Europe/Oslo:20180912T150000
DTSTAMP:20260422T211205
CREATED:20180822T074605Z
LAST-MODIFIED:20180822T074605Z
UID:10011206-1536656400-1536764400@geoforum.no
SUMMARY:Adresseseminar
DESCRIPTION:Kartverket\, ved matrikkel- og stedsnavnavdelingen\, inviterer til høstens adresseseminar i regi av Norsk adresseforum. \nProgram \nPåmelding
URL:https://geoforum.no/event/adresseseminar/
LOCATION:Skatt øst\, Oslo\, Schweigaards gate 17 \, Oslo
CATEGORIES:Eksterne kurs og konferanser
GEO:59.9102633;10.7615018
X-APPLE-STRUCTURED-LOCATION;VALUE=URI;X-ADDRESS=Skatt øst Oslo Schweigaards gate 17  Oslo;X-APPLE-RADIUS=500;X-TITLE=Schweigaards gate 17:geo:10.7615018,59.9102633
END:VEVENT
BEGIN:VEVENT
DTSTART;TZID=Europe/Oslo:20180911T093000
DTEND;TZID=Europe/Oslo:20180912T140000
DTSTAMP:20260422T211205
CREATED:20180528T124149Z
LAST-MODIFIED:20180822T130613Z
UID:10011268-1536658200-1536760800@geoforum.no
SUMMARY:Planseminar
DESCRIPTION:GeoForum Hedmark og Oppland arrangerer planseminar på Spidsbergseter Resort Rondane\, 11. – 12. september \nOppdatert invitasjon og program Plansamling 2018 \nSeminaret er fulltegnet! \n  \nPris: Prisen på arrangementet er fastsatt etter forhåndsvarsel om tildelte midler fra KMD:\nMedlemmer i Geoforum; kr 1 800\,- for hele arrangementet.\nDeltakere som ikke er medlemmer; kr 2 300\,- for hele arrangementet.\nDagpakke (deltakelse uten overnatting); kr 500\,- per dag. Prisen inkluderer lunsj\, pausebuffet m/ kaffe og te. \nStudentmedlemmer betaler ½ pris for deltakelse.\nHele arrangementet inkluderer overnatting\, lunsj begge dager\, pausebuffet m/kaffe og te.\nVed avbestilling etter 26.august refunderes ikke avgiften.
URL:https://geoforum.no/event/plansamling/
LOCATION:Spitsbergseter
CATEGORIES:Temadag lokalt
END:VEVENT
BEGIN:VEVENT
DTSTART;TZID=Europe/Oslo:20180917T090000
DTEND;TZID=Europe/Oslo:20180919T150000
DTSTAMP:20260422T211205
CREATED:20180914T091107Z
LAST-MODIFIED:20180914T091107Z
UID:10011210-1537174800-1537369200@geoforum.no
SUMMARY:eKommune 2018
DESCRIPTION:KS arrangerer velkommen til eKommune-konferansen – denne gang på Clarion Hotel & Congress på Gardermoen.Hovedarrangementet vil foregå på “The Qube”. \nLes mer
URL:https://geoforum.no/event/ekommune-2018/
LOCATION:Clarion Hotel & Congress Oslo Airport.
CATEGORIES:Eksterne kurs og konferanser
END:VEVENT
BEGIN:VEVENT
DTSTART;TZID=Europe/Oslo:20180919T100000
DTEND;TZID=Europe/Oslo:20180919T160000
DTSTAMP:20260422T211205
CREATED:20180615T115626Z
LAST-MODIFIED:20180909T154427Z
UID:10011296-1537351200-1537372800@geoforum.no
SUMMARY:Protokoll kurs
DESCRIPTION:ProgramFormålet med kurset er å vise gode eksempler på protokoller fra oppmålingsforretninger. Hva kjennetegner en god protokoll? Hva er godt nok og hva bør være med i tillegg til forskriftenes krav? Noen har en skjematisk oppbygging av protokollen og andre skriver den mer som en historie. \nEllen Brevik Tetlie fra Trondheim kommune og Jan Erik Førde fra Bergen kommune vil ha hvert sitt innlegg om hvordan de skriver protokoller. \n“Norges største nabo” – Vegvesenet mottar oppmålingsprotokoller fra mange kommuner. Vi ser frem til å høre hva de mener kjennetegner en god protokoll. \nDette kurset er et tilbud til våre personlige medlemmer som en av medlemsfordelene ved å være personlig medlem i GeoForum. Det er selvfølgelig mulig å melde seg inn ved påmelding til kurset (egen avkryssing i påmeldingsskjema). GeoForum  vil ikke fakturere medlemskontingent for i år for de som melder seg inn nå. Du kan lese mer om medlemskap i GeoForum her . Medlemskontingenten for personlige medlem er kr 400 per år. \nProgram \nPåmelding  \nVi har fremdeles ledige plasser. Påmeldingen stenger den 13. september. Ønsker du å melde deg på etter det ta direkte kontakt med Marianne@geoforum.no \n  \n  \n  \n  \n  \n 
URL:https://geoforum.no/event/protokoll-kurs/
LOCATION:Felix Konferansesenter\, Aker brygge\, Bryggetorget 3\, Oslo
CATEGORIES:Kurs
END:VEVENT
BEGIN:VEVENT
DTSTART;TZID=Europe/Oslo:20180920T083000
DTEND;TZID=Europe/Oslo:20180920T163000
DTSTAMP:20260422T211205
CREATED:20180601T091132Z
LAST-MODIFIED:20180903T083654Z
UID:10011284-1537432200-1537461000@geoforum.no
SUMMARY:Workshop GIS-analyser
DESCRIPTION:«Utfør overvannsanalyser selv – uten bruk av konsulenter» \nGeoForum og representanter fra bransjen inviterer til workshop om GIS-analyser den 20. september på Clarion Hotel & Congress Oslo Airport. \nOppdatert program GIS-analyser 2018 \nPåmelding
URL:https://geoforum.no/event/workshop-gis-analyser/
LOCATION:Clarion Hotel & Congress Oslo Airport
CATEGORIES:Kurs
END:VEVENT
BEGIN:VEVENT
DTSTART;TZID=Europe/Oslo:20180924T130000
DTEND;TZID=Europe/Oslo:20180928T170000
DTSTAMP:20260422T211205
CREATED:20180523T093302Z
LAST-MODIFIED:20180523T093339Z
UID:10011265-1537794000-1538154000@geoforum.no
SUMMARY:FIG kommisjon 7 - årsmøte og konferanse
DESCRIPTION:Temaet for konferansen er Cadastre in a digital world – Nordic and Global Perspectives. \nProgram og registrering offentliggjøres snart – og det finner dere her
URL:https://geoforum.no/event/fig-kommisjon-7-arsmote-og-konferanse/
LOCATION:Hotel Zander K\, Zander Kaaes gate 8\, Bergen\, 5015
CATEGORIES:Eksterne kurs og konferanser
END:VEVENT
BEGIN:VEVENT
DTSTART;TZID=Europe/Oslo:20180924T170000
DTEND;TZID=Europe/Oslo:20180925T150000
DTSTAMP:20260422T211205
CREATED:20180615T120813Z
LAST-MODIFIED:20180911T080757Z
UID:10011297-1537808400-1537887600@geoforum.no
SUMMARY:GeoForum Sørlandet arrangerer fagsamling
DESCRIPTION:Det er fortsatt ledige plasser! \nOppdatert program fagsamling GeoForum Sørlandet \nPåmelding
URL:https://geoforum.no/event/geoforum-sorlandet-arrangerer-fagsamling/
LOCATION:Bokhotellet Lyngørporten\, Sliperiveien 29\, Gjeving\, 4912
CATEGORIES:Temadag lokalt
END:VEVENT
BEGIN:VEVENT
DTSTART;TZID=Europe/Oslo:20180925T080000
DTEND;TZID=Europe/Oslo:20180927T150000
DTSTAMP:20260422T211205
CREATED:20180601T091020Z
LAST-MODIFIED:20180806T084111Z
UID:10011273-1537862400-1538060400@geoforum.no
SUMMARY:Nordisk kartografikurs
DESCRIPTION:  \n  \n  \n  \n  \nGeoForum arrangerer kartografikurs i Tønsberg 25.-27. september. Kurset er rettet mot alle som jobber med kartografi i kommuner\, offentlige etater og private firma. \nHovedtema for konferansen vil være “grunnleggende kartografi”\, “generalisering” og “kartportaler”. Vi legger opp til både foredrag og god tid til øvinger. Det sosiale vil også bli godt ivaretatt\, med  o-løp\, ekskursjon og omvisning (og ølsmaking) på Færder mikrogbryggeri! \nPåmeldingsfrist er allerede 12. august! Fristen er endelig. \nProgram nordisk kartografikurs 2018  (det kan komme endringer) \nPåmelding
URL:https://geoforum.no/event/nordisk-kartografikurs/
LOCATION:Clarion Tønsberg
CATEGORIES:Kurs
END:VEVENT
BEGIN:VEVENT
DTSTART;TZID=Europe/Oslo:20180927T083000
DTEND;TZID=Europe/Oslo:20180928T130000
DTSTAMP:20260422T211205
CREATED:20180629T075720Z
LAST-MODIFIED:20180629T111408Z
UID:10011298-1538037000-1538139600@geoforum.no
SUMMARY:Geomatikktreff Rogaland 2018
DESCRIPTION:Velkommen til det 19. Geomatikktreffet i Rogaland! \nÅ skape kommunikasjon mellom de enkelte aktører er en viktig målsetning for Geomatikktreffet. I tillegg er det viktig å kunne påvise nytteverdien ved felles bruk av ny og aktuell teknologi. Samarbeid gir ikke bare økonomiske og tidsmessige besparelser\, men også et bedre tilbud til publikum. Målgruppen for Geomatikktreffet er både praktiske utøvere og forvaltere av stedfestet informasjon i privat og offentlig sektor. \nSentrale aktører i bransjen vil som vanlig være representert med utstilling\, som også i år vil være en viktig del av konferansen. Dette er hovedtemaer for årets Geomatikktreff: \n\nSmarte skyer\nGeodata – teknologi\nMatrikkel – landmåling\n\nGeomatikktreffet er et møtested hvor nyheter og erfaringer utveksles i hyggelig kollegial atmosfære både på dag- og kveldstid. Få derfor med deg hele Geomatikktreffet med festmiddag torsdag kveld! \nProgram \nPåmelding
URL:https://geoforum.no/event/geomatikktreff-rogaland-2018/
LOCATION:Sola Strand Hotel Stavanger
CATEGORIES:Lokale geomatikkdager
END:VEVENT
END:VCALENDAR