BEGIN:VCALENDAR
VERSION:2.0
PRODID:-//GeoForum - ECPv6.10.0//NONSGML v1.0//EN
CALSCALE:GREGORIAN
METHOD:PUBLISH
X-WR-CALNAME:GeoForum
X-ORIGINAL-URL:https://geoforum.no
X-WR-CALDESC:Arrangement for GeoForum
REFRESH-INTERVAL;VALUE=DURATION:PT1H
X-Robots-Tag:noindex
X-PUBLISHED-TTL:PT1H
BEGIN:VTIMEZONE
TZID:Europe/Oslo
BEGIN:DAYLIGHT
TZOFFSETFROM:+0100
TZOFFSETTO:+0200
TZNAME:CEST
DTSTART:20180325T010000
END:DAYLIGHT
BEGIN:STANDARD
TZOFFSETFROM:+0200
TZOFFSETTO:+0100
TZNAME:CET
DTSTART:20181028T010000
END:STANDARD
END:VTIMEZONE
BEGIN:VEVENT
DTSTART;TZID=Europe/Oslo:20180524T094500
DTEND;TZID=Europe/Oslo:20180524T150000
DTSTAMP:20260423T044559
CREATED:20180412T101410Z
LAST-MODIFIED:20180417T085910Z
UID:10011258-1527155100-1527174000@geoforum.no
SUMMARY:Fagdag nedbygging av jordbruksareal\, GeoForum Trøndelag
DESCRIPTION:GeoForum Trøndelag i samarbeid med NIBIO\, inviterer til fagdag for geomatikk-\, plan – og landbruksmiljøet i Trøndelag om temaet «Nedbygging av jordbruks-areal».\nUtgangspunktet for fagdagen er et prosjekt av SSB i samarbeid med NIBIO\, der man har kartlagt faktisk nedbygging og bruksendring av dyrka og dyrkbar jord. Prosjektet er basert på en geografisk analyse av digitale kartdata. Lenke til rapporten fra SSB/NIBIO: http://ssb.no/jord-skog-jakt-og-fiskeri/artikler-og-publikasjoner/nedbygging-av-jordbruksareal \nMalvik kommune og Nye veier AS skal også fortelle om sine erfaringer\, og hvordan de jobber med utfordringer rundt nedbygging av dyrka jord i planprosesser\nVi samles på Statens Hus\, Steinkjer som er fem minutter å gå fra togstasjonen. \nProgram \nPåmelding
URL:https://geoforum.no/event/fagdag-nedbygging-av-jordbruksareal-geoforum-trondelag/
LOCATION:Statens Hus\, Steinkjer\, Strandvegen 38\, Steinkjer\, 7713
CATEGORIES:Temadag lokalt
GEO:64.0083203;11.5015175
X-APPLE-STRUCTURED-LOCATION;VALUE=URI;X-ADDRESS=Statens Hus Steinkjer Strandvegen 38 Steinkjer 7713;X-APPLE-RADIUS=500;X-TITLE=Strandvegen 38:geo:11.5015175,64.0083203
END:VEVENT
END:VCALENDAR