BEGIN:VCALENDAR
VERSION:2.0
PRODID:-//GeoForum - ECPv6.10.0//NONSGML v1.0//EN
CALSCALE:GREGORIAN
METHOD:PUBLISH
X-ORIGINAL-URL:https://geoforum.no
X-WR-CALDESC:Arrangement for GeoForum
REFRESH-INTERVAL;VALUE=DURATION:PT1H
X-Robots-Tag:noindex
X-PUBLISHED-TTL:PT1H
BEGIN:VTIMEZONE
TZID:Europe/Oslo
BEGIN:DAYLIGHT
TZOFFSETFROM:+0100
TZOFFSETTO:+0200
TZNAME:CEST
DTSTART:20180325T010000
END:DAYLIGHT
BEGIN:STANDARD
TZOFFSETFROM:+0200
TZOFFSETTO:+0100
TZNAME:CET
DTSTART:20181028T010000
END:STANDARD
END:VTIMEZONE
BEGIN:VEVENT
DTSTART;TZID=Europe/Oslo:20180306T093000
DTEND;TZID=Europe/Oslo:20180307T140000
DTSTAMP:20260423T073313
CREATED:20170308T102912Z
LAST-MODIFIED:20180419T071939Z
UID:10011199-1520328600-1520431200@geoforum.no
SUMMARY:Lokale plan- og kartdagar 2018
DESCRIPTION:GeoForum Sogn og Fjordane arrangerer også i 2018 lokale kart- og plandager på Alexandra Hotel Loen med tur/retur med Skylift på Hoven. \n                        \n  \nProgram \nPåmelding
URL:https://geoforum.no/event/lokale-kart-og-plandagar-2018/
LOCATION:Hotel Alexandra\, Loen\, Loen\, 6789\, Norge
CATEGORIES:Lokale geomatikkdager
GEO:61.870556;6.856944
END:VEVENT
BEGIN:VEVENT
DTSTART;TZID=Europe/Oslo:20180307T090000
DTEND;TZID=Europe/Oslo:20180308T154000
DTSTAMP:20260423T073313
CREATED:20170601T113248Z
LAST-MODIFIED:20180112T194551Z
UID:10011219-1520413200-1520523600@geoforum.no
SUMMARY:Geomatikkdagene i Nordland 2018
DESCRIPTION:GeoForum Nordland arrangerer geomatikkdager på Radisson Blu hotell i Bodø! \nProgram Geomatikkdagene i Nordland_2018 \nPåmelding \nPåmeldingsfrist 6. februar
URL:https://geoforum.no/event/geomatikkdager-i-nordland/
LOCATION:Radisson Blu\, Storgata 2\, Bodø
CATEGORIES:Lokale geomatikkdager
GEO:67.2821285;14.3749816
X-APPLE-STRUCTURED-LOCATION;VALUE=URI;X-ADDRESS=Radisson Blu Storgata 2 Bodø;X-APPLE-RADIUS=500;X-TITLE=Storgata 2:geo:14.3749816,67.2821285
END:VEVENT
BEGIN:VEVENT
DTSTART;TZID=Europe/Oslo:20180313T100000
DTEND;TZID=Europe/Oslo:20180315T140000
DTSTAMP:20260423T073313
CREATED:20170518T091515Z
LAST-MODIFIED:20180208T193834Z
UID:10011133-1520935200-1521122400@geoforum.no
SUMMARY:Geomatikkdagene 2018
DESCRIPTION:Geomatikkdagene arrangeres på Clarion Hotel Energy i Stavanger 13.-15. mars! \nProgram og påmelding finnes på egne nettsider geomatikkdagene.no \n 
URL:https://geoforum.no/event/geomatikkdagene-2018-2/
LOCATION:Clarion Hotel Energy
CATEGORIES:Konferanse
END:VEVENT
BEGIN:VEVENT
DTSTART;TZID=Europe/Oslo:20180320T100000
DTEND;TZID=Europe/Oslo:20180322T160000
DTSTAMP:20260423T073313
CREATED:20170523T095311Z
LAST-MODIFIED:20170523T095455Z
UID:10011139-1521540000-1521734400@geoforum.no
SUMMARY:Svenske kartdager
DESCRIPTION:Les mer her \n 
URL:https://geoforum.no/event/svenske-kartdager/
LOCATION:Linköping\, Sverige
CATEGORIES:Eksterne kurs og konferanser
GEO:60.128161;18.643501
END:VEVENT
END:VCALENDAR