BEGIN:VCALENDAR
VERSION:2.0
PRODID:-//GeoForum - ECPv6.10.0//NONSGML v1.0//EN
CALSCALE:GREGORIAN
METHOD:PUBLISH
X-WR-CALNAME:GeoForum
X-ORIGINAL-URL:https://geoforum.no
X-WR-CALDESC:Arrangement for GeoForum
REFRESH-INTERVAL;VALUE=DURATION:PT1H
X-Robots-Tag:noindex
X-PUBLISHED-TTL:PT1H
BEGIN:VTIMEZONE
TZID:Europe/Oslo
BEGIN:DAYLIGHT
TZOFFSETFROM:+0100
TZOFFSETTO:+0200
TZNAME:CEST
DTSTART:20180325T010000
END:DAYLIGHT
BEGIN:STANDARD
TZOFFSETFROM:+0200
TZOFFSETTO:+0100
TZNAME:CET
DTSTART:20181028T010000
END:STANDARD
END:VTIMEZONE
BEGIN:VEVENT
DTSTART;TZID=Europe/Oslo:20180109T084500
DTEND;TZID=Europe/Oslo:20180110T133500
DTSTAMP:20260423T103247
CREATED:20171126T150702Z
LAST-MODIFIED:20171205T211906Z
UID:10011247-1515487500-1515591300@geoforum.no
SUMMARY:Den profesjonelle landmåler 2018
DESCRIPTION:Samfunnsutviklerne inviterer til kurs om landmålerens mange og viktige oppgaver. \nGeoForums medlemmer får redusert pris på deltakeravgiften\, kr  5 400. \nFor program og påmelding
URL:https://geoforum.no/event/den-profesjonelle-landmaler-2018/
LOCATION:Clarion Hotel og Congress\, Trondheim\, Brattørkaia 1\, Trondheim\, 7010
CATEGORIES:Eksterne kurs og konferanser
GEO:63.4399532;10.4020306
X-APPLE-STRUCTURED-LOCATION;VALUE=URI;X-ADDRESS=Clarion Hotel og Congress Trondheim Brattørkaia 1 Trondheim 7010;X-APPLE-RADIUS=500;X-TITLE=Brattørkaia 1:geo:10.4020306,63.4399532
END:VEVENT
BEGIN:VEVENT
DTSTART;TZID=Europe/Oslo:20180109T120000
DTEND;TZID=Europe/Oslo:20180110T130000
DTSTAMP:20260423T103247
CREATED:20171121T201222Z
LAST-MODIFIED:20171121T201223Z
UID:10011245-1515499200-1515589200@geoforum.no
SUMMARY:Lederkonferanse i GeoForum
DESCRIPTION:Lederkonferansen er et viktig samlingssted for lokalavdelingsledere\, faggruppeledere\, styret og sekretariat. \nHer drøftes viktige saker for GeoForum som en samlet en organisasjon. \nDet er sendt ut innkalling. Program sendes ut til de inviterte i  løpet av desember. \n 
URL:https://geoforum.no/event/lederkonferanse-i-geoforum/
LOCATION:Raddison Blu Oslo Plaza\, Sonja Henies plass 3\, Oslo\, 0185
CATEGORIES:Konferanse
GEO:59.9124687;10.75638
X-APPLE-STRUCTURED-LOCATION;VALUE=URI;X-ADDRESS=Raddison Blu Oslo Plaza Sonja Henies plass 3 Oslo 0185;X-APPLE-RADIUS=500;X-TITLE=Sonja Henies plass 3:geo:10.75638,59.9124687
END:VEVENT
BEGIN:VEVENT
DTSTART;TZID=Europe/Oslo:20180110T100000
DTEND;TZID=Europe/Oslo:20180112T120000
DTSTAMP:20260423T103247
CREATED:20171130T101944Z
LAST-MODIFIED:20171215T125339Z
UID:10011248-1515578400-1515758400@geoforum.no
SUMMARY:GeoAnalyseWorkshop 2018
DESCRIPTION:Velkommen til GeoAnlayseWorkshop 2018\, på Honne Konferansesenter 10.-12. januar.  \nGeoforum Hedmark og Oppland inviterer til GEO analyse workshop for kommunene og fylkesetatene i våre to fylker. Det blir noen foredrag\, men hovedfokus blir som vanlig på gruppeoppgavene med tid til å fordype seg i GEO analyser.  \nDette er en samling for å bli engasjert\, engasjere hverandre\, anvende kunnskap i praksis\, diskutere fag og bygge nettverk\, samt å få fram gode eksempler på hvordan GIS-analyser og kartdata kan brukes i praksis.  \nVi starter kl 10 på onsdag den 10. januar og avslutter med lunsj ca kl 12 på fredag den 12. januar. \nProgram _GEO Analyse Workshop _2018 \nInvitasjon \nPåmelding
URL:https://geoforum.no/event/geoanalyseworkshop-2018/
LOCATION:Honne konferansesenter\, Honnevegen 60\, Biri\, 2836
CATEGORIES:Kurs,Lokale geomatikkdager
GEO:60.9460302;10.6361495
X-APPLE-STRUCTURED-LOCATION;VALUE=URI;X-ADDRESS=Honne konferansesenter Honnevegen 60 Biri 2836;X-APPLE-RADIUS=500;X-TITLE=Honnevegen 60:geo:10.6361495,60.9460302
END:VEVENT
BEGIN:VEVENT
DTSTART;TZID=Europe/Oslo:20180115T080000
DTEND;TZID=Europe/Oslo:20180116T170000
DTSTAMP:20260423T103247
CREATED:20170622T133309Z
LAST-MODIFIED:20180123T112554Z
UID:10011225-1516003200-1516122000@geoforum.no
SUMMARY:Lokale geomatikkdager Kongsberg 2018
DESCRIPTION:I 2018 blir det lokale geomatikkdager for Buskerud\, Oslo og Akershus på Kongsberg. \nDet meste av programmet er nå klart og vi har åpnet for påmelding. \nInvitasjon \nProgram LG18_Kongsberg_08.01.18 \nPåmelding \nInfo om foredragene \nPresentasjoner
URL:https://geoforum.no/event/lokale-geomatikkdager-kongsberg-2018/
LOCATION:Kongsberg\, Chr. Augusts gate 2\, Kongsberg\, Buskerud\, Norge
CATEGORIES:Konferanse
GEO:59.6691918;9.6495744
X-APPLE-STRUCTURED-LOCATION;VALUE=URI;X-ADDRESS=Kongsberg Chr. Augusts gate 2 Kongsberg Buskerud Norge;X-APPLE-RADIUS=500;X-TITLE=Chr. Augusts gate 2:geo:9.6495744,59.6691918
END:VEVENT
BEGIN:VEVENT
DTSTART;TZID=Europe/Oslo:20180117T080000
DTEND;TZID=Europe/Oslo:20180118T130000
DTSTAMP:20260423T103247
CREATED:20170627T140514Z
LAST-MODIFIED:20171220T201130Z
UID:10011226-1516176000-1516280400@geoforum.no
SUMMARY:X\, Y og Z 2018
DESCRIPTION:Konferansen arrangeres 17.-18. januar på Scandic Neptun i Bergen! \nI tillegg til det faglige programmet jobber vi nå med å tilby noen spennende aktiviteter på ettermiddagen den 17. januar! \nVi vil også opprette et treffpunkt den 16. januar for dem som kommer tilreisende dagen før konferansen\, for uformell mingling! \nProgram XYZ 2018 \nPåmelding \nPåmeldingsfrist er 18. desember. Ved påmelding etter denne dato øker prisen med kr 500\,-
URL:https://geoforum.no/event/x-y-og-z-2018/
LOCATION:Scandic Neptun\, Bergen
CATEGORIES:Konferanse
GEO:60.3912628;5.3220544
END:VEVENT
BEGIN:VEVENT
DTSTART;TZID=Europe/Oslo:20180123T090000
DTEND;TZID=Europe/Oslo:20180124T150000
DTSTAMP:20260423T103247
CREATED:20170523T083715Z
LAST-MODIFIED:20171229T105725Z
UID:10011137-1516698000-1516806000@geoforum.no
SUMMARY:Lokale geomatikkdager i Trøndelag 2018
DESCRIPTION:GeoForum Trøndelag inviterer til lokale geomatikkdager på Værnes! \nDet legges opp til uformell aften den 22. januar for dem som ankommer da. Se mer i programmet. \nProgram lokale geomatikkdager i_Trøndelag_2018 \nPåmeldingen er stengt\, men dersom du ønsker å delta kan du sende en mail til bernt.audun.stromsli@kartverket.no  \n 
URL:https://geoforum.no/event/lokale-geomatikkdager-i-trondelag-2018/
LOCATION:Quality Airport Hotel Værnes\, Kjøpmannsgate 20  \, Stjørdal\, 7500
CATEGORIES:Lokale geomatikkdager
GEO:63.4679397;10.9202254
X-APPLE-STRUCTURED-LOCATION;VALUE=URI;X-ADDRESS=Quality Airport Hotel Værnes Kjøpmannsgate 20   Stjørdal 7500;X-APPLE-RADIUS=500;X-TITLE=Kjøpmannsgate 20:geo:10.9202254,63.4679397
END:VEVENT
BEGIN:VEVENT
DTSTART;TZID=Europe/Oslo:20180124T120000
DTEND;TZID=Europe/Oslo:20180124T173000
DTSTAMP:20260423T103247
CREATED:20180104T092054Z
LAST-MODIFIED:20180104T092125Z
UID:10011249-1516795200-1516815000@geoforum.no
SUMMARY:Temadag og årsmøte GeoForum Rogaland 2017
DESCRIPTION:GeoForum Rogaland inviterer til temadag og innkaller til årsmøte i Kartverkets lokaler på Ullandhaug 24. januar. \nSe mer informasjon i innkallingen! Påmeldingsfrist er 14. januar. \nÅrsmøte-innkalling 2017 GeoForum Rogaland \nPåmelding \n 
URL:https://geoforum.no/event/temadag-og-arsmote-geoforum-rogaland-2017/
LOCATION:Kartverket Rogaland\, Professor Olav Hanssens vei 10\, Stavanger
CATEGORIES:Temadag lokalt
GEO:58.9347523;5.702327
X-APPLE-STRUCTURED-LOCATION;VALUE=URI;X-ADDRESS=Kartverket Rogaland Professor Olav Hanssens vei 10 Stavanger;X-APPLE-RADIUS=500;X-TITLE=Professor Olav Hanssens vei 10:geo:5.702327,58.9347523
END:VEVENT
BEGIN:VEVENT
DTSTART;TZID=Europe/Oslo:20180130T093000
DTEND;TZID=Europe/Oslo:20180131T150000
DTSTAMP:20260423T103247
CREATED:20171019T132557Z
LAST-MODIFIED:20171114T135410Z
UID:10011239-1517304600-1517410800@geoforum.no
SUMMARY:Lokale geomatikkdager i Møre og Romsdal
DESCRIPTION:Programmet er klart! Velkommen til lokale geomatikkdager i Møre og Romsdal. \nVi håper at inntil 10 studentmedlemmer i GeoForum ønsker å komme på gratis dagsbesøk. Førstemann til mølla! \nProgram lokale geomatikkdager Møre og Romsdal 2018 \nPåmelding
URL:https://geoforum.no/event/lokale-geomatikkdager-i-more-og-romsdal/
LOCATION:Grand Hotel Bellevue\, Åndalgata 5\, Åndalsnes
CATEGORIES:Lokale geomatikkdager
END:VEVENT
BEGIN:VEVENT
DTSTART;TZID=Europe/Oslo:20180131T080000
DTEND;TZID=Europe/Oslo:20180201T150000
DTSTAMP:20260423T103247
CREATED:20171123T112710Z
LAST-MODIFIED:20180129T105201Z
UID:10011246-1517385600-1517497200@geoforum.no
SUMMARY:Lokale geomatikkdager i Kristiansand 2018 - Geoforum Sørlandet
DESCRIPTION:Program er under utarbeidelse og kommer snart. \nPåmelding \nProgram
URL:https://geoforum.no/event/lokale-geomatikkdager-pa-sorlandet-2018/
LOCATION:Scandic Sørlandet\, Kristiansand
CATEGORIES:Lokale geomatikkdager
END:VEVENT
END:VCALENDAR