BEGIN:VCALENDAR
VERSION:2.0
PRODID:-//GeoForum - ECPv6.10.0//NONSGML v1.0//EN
CALSCALE:GREGORIAN
METHOD:PUBLISH
X-ORIGINAL-URL:https://geoforum.no
X-WR-CALDESC:Arrangement for GeoForum
REFRESH-INTERVAL;VALUE=DURATION:PT1H
X-Robots-Tag:noindex
X-PUBLISHED-TTL:PT1H
BEGIN:VTIMEZONE
TZID:Europe/Oslo
BEGIN:DAYLIGHT
TZOFFSETFROM:+0100
TZOFFSETTO:+0200
TZNAME:CEST
DTSTART:20170326T010000
END:DAYLIGHT
BEGIN:STANDARD
TZOFFSETFROM:+0200
TZOFFSETTO:+0100
TZNAME:CET
DTSTART:20171029T010000
END:STANDARD
END:VTIMEZONE
BEGIN:VEVENT
DTSTART;TZID=Europe/Oslo:20171205T090000
DTEND;TZID=Europe/Oslo:20171205T150000
DTSTAMP:20260423T120204
CREATED:20171023T110309Z
LAST-MODIFIED:20171213T123025Z
UID:10011241-1512464400-1512486000@geoforum.no
SUMMARY:Lokal fagdag Buskerud - "Det juridiske kartgrunnlaget" i dagens samfunnsutvikling
DESCRIPTION:Geoforum Buskerud arrangerer sammen med plan- og temadatautvalget i Buskerud fagdagen «Det juridiske kartgrunnlaget» i dagens samfunnsutvikling\, den 5.desember på Marienlyst Arena\, Drammen.\nMålsettingen for dagen er å sette på dagsorden problemstillinger rundt kommunens ansvar og rolle ved planlegging og byggesaksbehandling i lys av den økende informasjonsmengde tilgjengelig gjennom digitale kart. Siktemålet er å få reist problemstillinger og starte diskusjonen. \nDeltagelsen er gratis. \nProgram \nPåmelding \nForedrag
URL:https://geoforum.no/event/lokal-fagdag-buskerud-det-juridiske-kartgrunnlaget-i-dagens-samfunnsutvikling/
CATEGORIES:Temadag lokalt
END:VEVENT
BEGIN:VEVENT
DTSTART;TZID=Europe/Oslo:20171212T140000
DTEND;TZID=Europe/Oslo:20171212T170000
DTSTAMP:20260423T120204
CREATED:20171121T115942Z
LAST-MODIFIED:20171121T115943Z
UID:10011244-1513087200-1513098000@geoforum.no
SUMMARY:QGIS Norge brukergruppe inviterer til årsmøte 2017 og medlemsmøte
DESCRIPTION:Etter årsmøte inviteres det til medlemsmøte og workshop. \nLes programmet her
URL:https://geoforum.no/event/qgis-norge-brukergruppe-inviterer-til-arsmote-2017-og-medlemsmote/
LOCATION:SSB\, Akersveien 26\, Oslo
CATEGORIES:Eksterne kurs og konferanser
GEO:59.9220303;10.7468519
X-APPLE-STRUCTURED-LOCATION;VALUE=URI;X-ADDRESS=SSB Akersveien 26 Oslo;X-APPLE-RADIUS=500;X-TITLE=Akersveien 26:geo:10.7468519,59.9220303
END:VEVENT
BEGIN:VEVENT
DTSTART;TZID=Europe/Oslo:20171213T090000
DTEND;TZID=Europe/Oslo:20171213T163000
DTSTAMP:20260423T120204
CREATED:20171103T094757Z
LAST-MODIFIED:20171103T094758Z
UID:10011242-1513155600-1513182600@geoforum.no
SUMMARY:GIS-analyser 2017
DESCRIPTION:I samarbeid med Godata\, Norkart og Norconsult informasjonssystemer arrangerer vi en workshop om GIS-analyser i Bergen 13. desember. \nTemaet er overvannsanalyser og laserdata! \nGIS-analyser 2017 program \nPåmelding
URL:https://geoforum.no/event/gis-analyser-2017/
LOCATION:Scandic Neptun\, Valkendorfsgaten 8\, Bergen\, 5012
CATEGORIES:Kurs
GEO:60.3943319;5.320021
X-APPLE-STRUCTURED-LOCATION;VALUE=URI;X-ADDRESS=Scandic Neptun Valkendorfsgaten 8 Bergen 5012;X-APPLE-RADIUS=500;X-TITLE=Valkendorfsgaten 8:geo:5.320021,60.3943319
END:VEVENT
BEGIN:VEVENT
DTSTART;TZID=Europe/Oslo:20171214T093000
DTEND;TZID=Europe/Oslo:20171214T143000
DTSTAMP:20260423T120204
CREATED:20171107T141919Z
LAST-MODIFIED:20171121T090229Z
UID:10011243-1513243800-1513261800@geoforum.no
SUMMARY:Julemøte 2017 - GeoForum Østfold
DESCRIPTION:GeoForum Østfold inviterer til julemøte torsdag 14. desember 2017 på Fredriksten Hotell i Halden\n\nProgram\n09:30 – 10:00 Året som har gått sett med Kartverket sine øyne\, med presentasjon av ny fylkeskartsjef  – Kartverket \n10:00 – 11:00 Status og veien videre Geovekst/Matrikkel/Temadata – Kartverket \nPAUSE \n11:10 – 11:25 Info fra Faggruppe EL-Ledning\, Kartverket eller et E-verk. \n11:25 – 12:00 Kommunesammenslåing\, status/innledende tanker fra Moss/Rygge og Hobøl/Spydeberg/Askim/Eidsberg/Trøgstad og informasjon fra Kartverket \nLUNSJ \n13:00 – 13:30 SFKB – erfaringer så langt\, Kommune \n13:30 – 14:15 BorderGO\, Kartverket
URL:https://geoforum.no/event/julemote-2017/
LOCATION:Fredriksten Hotell\, Generalveien 25-27\, Halden\, Østfold\, 1769\, Norge
GEO:59.1161757;11.394511
X-APPLE-STRUCTURED-LOCATION;VALUE=URI;X-ADDRESS=Fredriksten Hotell Generalveien 25-27 Halden Østfold 1769 Norge;X-APPLE-RADIUS=500;X-TITLE=Generalveien 25-27:geo:11.394511,59.1161757
END:VEVENT
END:VCALENDAR