BEGIN:VCALENDAR
VERSION:2.0
PRODID:-//GeoForum - ECPv6.10.0//NONSGML v1.0//EN
CALSCALE:GREGORIAN
METHOD:PUBLISH
X-WR-CALNAME:GeoForum
X-ORIGINAL-URL:https://geoforum.no
X-WR-CALDESC:Arrangement for GeoForum
REFRESH-INTERVAL;VALUE=DURATION:PT1H
X-Robots-Tag:noindex
X-PUBLISHED-TTL:PT1H
BEGIN:VTIMEZONE
TZID:Europe/Oslo
BEGIN:DAYLIGHT
TZOFFSETFROM:+0100
TZOFFSETTO:+0200
TZNAME:CEST
DTSTART:20170326T010000
END:DAYLIGHT
BEGIN:STANDARD
TZOFFSETFROM:+0200
TZOFFSETTO:+0100
TZNAME:CET
DTSTART:20171029T010000
END:STANDARD
END:VTIMEZONE
BEGIN:VEVENT
DTSTART;TZID=Europe/Oslo:20171004T094500
DTEND;TZID=Europe/Oslo:20171004T150000
DTSTAMP:20260423T144810
CREATED:20170825T071317Z
LAST-MODIFIED:20170925T084011Z
UID:10011232-1507110300-1507129200@geoforum.no
SUMMARY:Fagdag nedbygging av jordbruksareal
DESCRIPTION:GeoForum Trøndelag i samarbeid med NIBIO\, inviterer til fagdag for geomatikk– og landbruksmiljøet i Trøndelag om temaet «Nedbygging av jordbruksareal». Utgangspunktet for temaet er et prosjekt av SSB i samarbeid med NIBIO\, der man har kartlagt faktisk nedbygging og bruksendring av dyrka og dyrkbar jord. Prosjektet er basert på en geografisk analyse av digitale kartdata. Vi samles på Statens Hus\, Steinkjer som er fem minutter å gå fra togstasjonen.\nLenke til rapporten fra SSB/NIBIO \n  \nFagdagen utgår på grunn av for få påmeldte. \n  \nProgram fagdag nedbygging av jordbruksareal \n  \n  \n 
URL:https://geoforum.no/event/fagdag-nedbygging-av-jordbruksareal/
LOCATION:Statens Hus Steinkjer\, møterom Leka (1. etg)\, Strandvegen 38\, Steinkjer\, 7713
CATEGORIES:Temadag lokalt
GEO:64.0083203;11.5015175
X-APPLE-STRUCTURED-LOCATION;VALUE=URI;X-ADDRESS=Statens Hus Steinkjer møterom Leka (1. etg) Strandvegen 38 Steinkjer 7713;X-APPLE-RADIUS=500;X-TITLE=Strandvegen 38:geo:11.5015175,64.0083203
END:VEVENT
BEGIN:VEVENT
DTSTART;TZID=Europe/Oslo:20171012T090000
DTEND;TZID=Europe/Oslo:20171012T170000
DTSTAMP:20260423T144810
CREATED:20170403T104256Z
LAST-MODIFIED:20170403T104257Z
UID:10011205-1507798800-1507827600@geoforum.no
SUMMARY:Beredskapskonferanse i Reykjavik
DESCRIPTION:12. oktober arrangerer vår søsterorganisasjon LISA en beredskapskonferanse i Reykjavik. \nDe ønsker nå å få tilsendt forslag til foredrag om om bruk av geodata i beredskapssammenheng innen ulike områder; klimaendringer (herunder oversvømmelser\, skred etc)\, monitorering og analyse og nye kartleggingsmetoder. \nFrist for å sende inn forslag er 1. juni! \nLes mer om konferansen og hele call for abstracts her
URL:https://geoforum.no/event/beredskapskonferanse-i-reykjavik/
LOCATION:Grand Reykjavik\, Sigtún 38\,\, Reykjavik
CATEGORIES:Eksterne kurs og konferanser
GEO:64.1421947;-21.8866484
X-APPLE-STRUCTURED-LOCATION;VALUE=URI;X-ADDRESS=Grand Reykjavik Sigtún 38 Reykjavik;X-APPLE-RADIUS=500;X-TITLE=Sigtún 38\,:geo:-21.8866484,64.1421947
END:VEVENT
BEGIN:VEVENT
DTSTART;TZID=Europe/Oslo:20171016T090000
DTEND;TZID=Europe/Oslo:20171017T150000
DTSTAMP:20260423T144810
CREATED:20161117T141748Z
LAST-MODIFIED:20171020T132819Z
UID:10011189-1508144400-1508252400@geoforum.no
SUMMARY:Eiendomskonferansen 2017
DESCRIPTION:GeoForum Hordaland i samarbeid med Jordskifteretten\, Kartverket\, Statens vegvesen og Høgskolen på Vestlandet arrangerer den årlige Eiendomskonferansen på Solstrand. \nPåmeldingsfristen er 25. august. Rabatt på kr 200\,- per dag til alle som melder seg på før påmeldingsfristen går ut! \nProgram \nPåmelding
URL:https://geoforum.no/event/eiendomskonferansen-2017/
LOCATION:Solstrand Hotel & Bad\, Solstrandveien 200\, Os\, 5201
CATEGORIES:Lokale geomatikkdager
GEO:60.1890693;5.4876245
X-APPLE-STRUCTURED-LOCATION;VALUE=URI;X-ADDRESS=Solstrand Hotel & Bad Solstrandveien 200 Os 5201;X-APPLE-RADIUS=500;X-TITLE=Solstrandveien 200:geo:5.4876245,60.1890693
END:VEVENT
BEGIN:VEVENT
DTSTART;TZID=Europe/Oslo:20171016T100000
DTEND;TZID=Europe/Oslo:20171017T160000
DTSTAMP:20260423T144810
CREATED:20170601T095657Z
LAST-MODIFIED:20170601T095657Z
UID:10011213-1508148000-1508256000@geoforum.no
SUMMARY:GISLINE Brukermøte Tromsø
DESCRIPTION:Les mer
URL:https://geoforum.no/event/gisline-brukermote-tromso-2/
LOCATION:Clarion Hotel The Edge Tromsø
CATEGORIES:Eksterne kurs og konferanser
END:VEVENT
BEGIN:VEVENT
DTSTART;TZID=Europe/Oslo:20171017T100000
DTEND;TZID=Europe/Oslo:20171018T150000
DTSTAMP:20260423T144810
CREATED:20170703T083023Z
LAST-MODIFIED:20170831T103302Z
UID:10011227-1508234400-1508338800@geoforum.no
SUMMARY:Regionale geomatikkdager for Telemark\, Vestfold og Østfold 2017
DESCRIPTION:Samfunnet er storbruker av stedfestet informasjon. GeoForum Telemark\, Østfold og Vestfold har etablert en fellesarena for vår region.\nVia foredrag\, utstilling og mingling vil praktiske utøvere og forvaltere av stedfestet informasjon kunne bli oppdatert og få utvekslet erfaring.\nTema er blant annet kommunesammenslåing\, Matrikkelloven\, Eierseksjonsloven\, det offentlige kartgrunnlaget\, geosynkronisering\, 3D\, og ny nasjonal høydemodell. \nInvitasjon Regionale Geomatikkdager 2017 \nProgram Regionale Geomatikkdager 2017 \nPåmelding \nPåmeldingsfrist er 15. september
URL:https://geoforum.no/event/regionale-geomatikkdager-for-telemark-vestfold-og-ostfold-2017/
LOCATION:Quality Hotel Tønsberg\, Tønsberg
CATEGORIES:Lokale geomatikkdager
GEO:59.3085573;10.4272034
END:VEVENT
BEGIN:VEVENT
DTSTART;TZID=Europe/Oslo:20171023T080000
DTEND;TZID=Europe/Oslo:20171024T130000
DTSTAMP:20260423T144810
CREATED:20170316T103046Z
LAST-MODIFIED:20170830T131649Z
UID:10011201-1508745600-1508850000@geoforum.no
SUMMARY:Den Kloke Teknologi (DKT)
DESCRIPTION:Den Kloke Tegning har endret navn til Den Kloke Teknologi! På fjorårets konferanse opplevde vi noe så sjelden at konferansen var helt full – det var ingen ledige utstillerstander eller deltakerplasser. Vi håper å oppleve det samme igjen i oktober. \nProgram DKT 2017 \nPåmelding \n  \nFoto: Marius Fiskum \n 
URL:https://geoforum.no/event/den-kloke-teknologi-dkt/
LOCATION:Scandic Fornebu\, Martin Linges vei 2\, 1364
CATEGORIES:Konferanse
GEO:59.8972309;10.6323839
X-APPLE-STRUCTURED-LOCATION;VALUE=URI;X-ADDRESS=Scandic Fornebu Martin Linges vei 2 1364;X-APPLE-RADIUS=500;X-TITLE=Martin Linges vei 2:geo:10.6323839,59.8972309
END:VEVENT
BEGIN:VEVENT
DTSTART;TZID=Europe/Oslo:20171023T090000
DTEND;TZID=Europe/Oslo:20171024T160000
DTSTAMP:20260423T144810
CREATED:20170601T095842Z
LAST-MODIFIED:20170601T095842Z
UID:10011215-1508749200-1508860800@geoforum.no
SUMMARY:GISLINE Brukermøte Stavanger
DESCRIPTION:Les mer
URL:https://geoforum.no/event/gisline-brukermote-stavanger/
LOCATION:Sola Strand Hotel Stavanger
END:VEVENT
BEGIN:VEVENT
DTSTART;TZID=Europe/Oslo:20171024T100000
DTEND;TZID=Europe/Oslo:20171025T140000
DTSTAMP:20260423T144810
CREATED:20170613T195100Z
LAST-MODIFIED:20171018T085045Z
UID:10011222-1508839200-1508940000@geoforum.no
SUMMARY:Seksjoneringskurs i Tromsø
DESCRIPTION:GeoForum inviterer til seksjoneringskurs på Quality Hotel Saga \nNy lov om eierseksjoner trer i kraft fra 1. januar 2018\,  med ett unntak som er regelen om rett til å kreve seksjonering. Loven ble vedtatt 16. juni 2017. \nPå kurset blir det bl.a. en gjennomgang av de viktigste endringene i ny lov. Videre hvordan kommunale saksbehandlere og søkere skal forholde seg til nytt lovverk. \nKurset arrangeres i samarbeid med GeoForum Troms. Vi vil arrangere et tilsvarende kurs på Sola den 1. – 2. november. \nPåmeldingsfrist 20. oktober \nProgram \nPåmelding \n 
URL:https://geoforum.no/event/seksjoneringskurs-tromso/
LOCATION:Quality Hotel Tromsø\, Tromsø
CATEGORIES:Kurs
GEO:69.6492047;18.9553238
END:VEVENT
BEGIN:VEVENT
DTSTART;VALUE=DATE:20171026
DTEND;VALUE=DATE:20171027
DTSTAMP:20260423T144810
CREATED:20170713T115332Z
LAST-MODIFIED:20170809T084711Z
UID:10011230-1508976000-1509062399@geoforum.no
SUMMARY:Fagdag - Matrikkel
DESCRIPTION:GeoForum Finnmark arrangerer i samarbeid med Kartverket en fagdag med hovedtema matrikkel. \nPåmeldingsfrist 5. oktober 2017 \nFor mer informasjon\, program og påmelding Fagdag matrikkel Lakselv 26. oktober 2017 \n 
URL:https://geoforum.no/event/fagdag-matrikkel/
LOCATION:Lakselv Hotel\, Karasjokveien\, 9711 Lakselv\, Lakselv\, Finnmark\, Norge
GEO:70.0372695;24.9716771
X-APPLE-STRUCTURED-LOCATION;VALUE=URI;X-ADDRESS=Lakselv Hotel Karasjokveien 9711 Lakselv Lakselv Finnmark Norge;X-APPLE-RADIUS=500;X-TITLE=Karasjokveien\, 9711 Lakselv:geo:24.9716771,70.0372695
END:VEVENT
BEGIN:VEVENT
DTSTART;TZID=Europe/Oslo:20171030T100000
DTEND;TZID=Europe/Oslo:20171031T160000
DTSTAMP:20260423T144810
CREATED:20170601T094846Z
LAST-MODIFIED:20170601T094935Z
UID:10011145-1509357600-1509465600@geoforum.no
SUMMARY:GISLINE Brukermøte 2017 Gardermoen
DESCRIPTION:Les mer
URL:https://geoforum.no/event/gisline-brukermote-2017-gardermoen/
LOCATION:Clarion Hotel & Congress Oslo Airport
CATEGORIES:Eksterne kurs og konferanser
END:VEVENT
END:VCALENDAR