BEGIN:VCALENDAR
VERSION:2.0
PRODID:-//GeoForum - ECPv6.10.0//NONSGML v1.0//EN
CALSCALE:GREGORIAN
METHOD:PUBLISH
X-ORIGINAL-URL:https://geoforum.no
X-WR-CALDESC:Arrangement for GeoForum
REFRESH-INTERVAL;VALUE=DURATION:PT1H
X-Robots-Tag:noindex
X-PUBLISHED-TTL:PT1H
BEGIN:VTIMEZONE
TZID:Europe/Oslo
BEGIN:DAYLIGHT
TZOFFSETFROM:+0100
TZOFFSETTO:+0200
TZNAME:CEST
DTSTART:20170326T010000
END:DAYLIGHT
BEGIN:STANDARD
TZOFFSETFROM:+0200
TZOFFSETTO:+0100
TZNAME:CET
DTSTART:20171029T010000
END:STANDARD
END:VTIMEZONE
BEGIN:VEVENT
DTSTART;TZID=Europe/Oslo:20170905T100000
DTEND;TZID=Europe/Oslo:20170906T140000
DTSTAMP:20260423T174000
CREATED:20170807T105017Z
LAST-MODIFIED:20170807T105727Z
UID:10011231-1504605600-1504706400@geoforum.no
SUMMARY:Fagdag veg og AU-Basismøte
DESCRIPTION:Velkommen til en nyttig fagdag om veg\, den 5. september på Wadahl høgfjellshotell på Gålå. Vi vil ta for oss tema som; NVDB\, Vegkart\, Grunnerverv\, kontroll av ferdigveg-data samt andre tema. Fagdagen vil ha en praktisk tilnærming med eksempler som kommunen kan ha nytte av i hverdagen. Etter fagdagen er alle hjertelig velkommen til å være med på en 1-2 timers fottur i nærområdet- vi ønsker å vite hvor mange som blir med\, da det vil bli bestilt enkel mat til turen. Dette er i tillegg påmelding for AU-Basis møtet den 6. september. \nProgram Fagdag Veg 5 september \nPris for medlemmer av GeoForum: kr 500\, – \nPris for ikke-medlemmer; kr 800\, – \nPåmelding \nPåmeldingsfrist: 28. august
URL:https://geoforum.no/event/fagdag-veg-og-au-basismote/
LOCATION:Wadahl høyfjellshotell\, Gålå
CATEGORIES:Temadag lokalt
GEO:61.505723;9.7841956
END:VEVENT
BEGIN:VEVENT
DTSTART;TZID=Europe/Oslo:20170906T090000
DTEND;TZID=Europe/Oslo:20170907T153000
DTSTAMP:20260423T174000
CREATED:20170710T081957Z
LAST-MODIFIED:20170710T081958Z
UID:10011229-1504688400-1504798200@geoforum.no
SUMMARY:Eiendomsrettseminar
DESCRIPTION:Kartverket inviterer til det årlige eiendomsrettsseminaret\, 6.-7. september 2017 på Sundvolden Hotel. Til seminaret kommer spennende foredragsholdere som gir oss oppdaterte foredrag fra aktuelle temaer innenfor eiendomsrett og tinglysing. \nLink til mer informasjon\, program og påmelding \n 
URL:https://geoforum.no/event/eiendomsrettseminar/
LOCATION:Sundvolden hotell\, Dronningveien 2\, Krokkleiva\, 3531
CATEGORIES:Eksterne kurs og konferanser
GEO:60.0626708;10.3105253
X-APPLE-STRUCTURED-LOCATION;VALUE=URI;X-ADDRESS=Sundvolden hotell Dronningveien 2 Krokkleiva 3531;X-APPLE-RADIUS=500;X-TITLE=Dronningveien 2:geo:10.3105253,60.0626708
END:VEVENT
BEGIN:VEVENT
DTSTART;TZID=Europe/Oslo:20170925T120000
DTEND;TZID=Europe/Oslo:20170927T120000
DTSTAMP:20260423T174000
CREATED:20170828T083716Z
LAST-MODIFIED:20170828T083716Z
UID:10011234-1506340800-1506513600@geoforum.no
SUMMARY:Geo Workshop - Oppdatert situasjonsbilde: Operativ bruk av satellittdata i krise og beredskap
DESCRIPTION:EUs sitt jordobservasjonsprogram satellittprogram Copernicus\, som skal være Europas øye mot jorden og hvor ESA utvikler Sentinel-satellittene og EU utvikler tjenestene. \nDe første satellittene har vært oppe noen år og nye blir sendt opp med ennå flere muligheter for operativt bruk. Etter som Norge har bidratt med en god del penger inn i prosjektet er disse dataene GRATIS for oss\, så nå er det på tide at vi begynner å se mulighetene og tar disse dataene i bruk. \nMange etater og kommuner har de siste årene fått tilgang til en rekke “nye” data som\, Laser-data\, IR-data\, termisk-data osv. I tillegg er satellittdata fra EUs Copernicus program gjennom Sentinel satellittene nå fritt tilgjengelig for alle\, både etater\, kommuner\, industrien og allmenheten. Det gjelder å få kunnskap til å utnytte disse slik at de kan utnyttes i beredskap og krisesammenheng. Norge har etablert rask tilgang på flere av disse dataene og de er tilgjengelig innen minutter eller timer etter opptak. Dette gir mange nye muligheter. \nMed denne workshopen ønsker vi å samle alle interesserte som arbeider med beredskap og krisehåndtering\, spesielt de som jobber med å fremskaffe og tilgjengeliggjøre geodata og kart i hektiske situasjoner. Gjennom workshopen skal en få kunnskap om henting av data\, bearbeiding og konkret bruk i ulike situasjoner. \nDersom du har spørsmål\, ta kontakt med kursleder Stein Moen på telefon 908 24 889\, eller e-post: moen.stein@gmail.com
URL:https://geoforum.no/event/geo-workshop-oppdatert-situasjonsbilde-operativ-bruk-av-satellittdata-i-krise-og-beredskap/
LOCATION:Heggedal\, Underlandsveien 9\, Asker\, Norge
CATEGORIES:Eksterne kurs og konferanser
GEO:59.7848589;10.4269855
X-APPLE-STRUCTURED-LOCATION;VALUE=URI;X-ADDRESS=Heggedal Underlandsveien 9 Asker Norge;X-APPLE-RADIUS=500;X-TITLE=Underlandsveien 9:geo:10.4269855,59.7848589
END:VEVENT
BEGIN:VEVENT
DTSTART;TZID=Europe/Oslo:20170925T163000
DTEND;TZID=Europe/Oslo:20170926T150000
DTSTAMP:20260423T174000
CREATED:20170706T080748Z
LAST-MODIFIED:20170825T080831Z
UID:10011228-1506357000-1506438000@geoforum.no
SUMMARY:Fagsamling på Spangereid
DESCRIPTION:GeoForum Sørlandet inviterer til fagsamling på Spangereid. \nProgram \nPåmeldingsskjema \nPåmeldingsfrist er 1. september \n  \n  \n 
URL:https://geoforum.no/event/geoforum-sorlandet-fagsamling/
LOCATION:Lindesnes Havhotell\, Bålyveien 50\, Lindesnes\, 4521
CATEGORIES:Temadag lokalt
GEO:58.0397771;7.1518207
X-APPLE-STRUCTURED-LOCATION;VALUE=URI;X-ADDRESS=Lindesnes Havhotell Bålyveien 50 Lindesnes 4521;X-APPLE-RADIUS=500;X-TITLE=Bålyveien 50:geo:7.1518207,58.0397771
END:VEVENT
BEGIN:VEVENT
DTSTART;TZID=Europe/Oslo:20170927T093000
DTEND;TZID=Europe/Oslo:20170927T150000
DTSTAMP:20260423T174000
CREATED:20170825T105617Z
LAST-MODIFIED:20170829T072721Z
UID:10011233-1506504600-1506524400@geoforum.no
SUMMARY:Temadag Eiendom
DESCRIPTION:GeoForum Rogaland inviterer til temadag med fokus på kvalitetsheving av matrikkelen! \nSpørsmål fra deltakere som dere ønsker skal bli svart på under foredragene kan sendes til ole.grammeltvedt@sandnes.kommune.no \n  \nProgram Temadag eiendom 2017 \nPåmelding
URL:https://geoforum.no/event/temadag-eiendom/
LOCATION:Bystyresalen Sandnes kommune\, Jærveien 33
CATEGORIES:Temadag lokalt
ORGANIZER;CN="GeoForum Rogaland":MAILTO:ole.grammeltvedt@sandnes.kommune.no
GEO:58.8479149;5.7288478
X-APPLE-STRUCTURED-LOCATION;VALUE=URI;X-ADDRESS=Bystyresalen Sandnes kommune Jærveien 33;X-APPLE-RADIUS=500;X-TITLE=Jærveien 33:geo:5.7288478,58.8479149
END:VEVENT
END:VCALENDAR