BEGIN:VCALENDAR
VERSION:2.0
PRODID:-//GeoForum - ECPv6.10.0//NONSGML v1.0//EN
CALSCALE:GREGORIAN
METHOD:PUBLISH
X-ORIGINAL-URL:https://geoforum.no
X-WR-CALDESC:Arrangement for GeoForum
REFRESH-INTERVAL;VALUE=DURATION:PT1H
X-Robots-Tag:noindex
X-PUBLISHED-TTL:PT1H
BEGIN:VTIMEZONE
TZID:Europe/Oslo
BEGIN:DAYLIGHT
TZOFFSETFROM:+0100
TZOFFSETTO:+0200
TZNAME:CEST
DTSTART:20170326T010000
END:DAYLIGHT
BEGIN:STANDARD
TZOFFSETFROM:+0200
TZOFFSETTO:+0100
TZNAME:CET
DTSTART:20171029T010000
END:STANDARD
END:VTIMEZONE
BEGIN:VEVENT
DTSTART;TZID=Europe/Oslo:20170406T093000
DTEND;TZID=Europe/Oslo:20170406T151500
DTSTAMP:20260424T013856
CREATED:20170303T082353Z
LAST-MODIFIED:20170320T084931Z
UID:10011198-1491471000-1491491700@geoforum.no
SUMMARY:Fagdag om datafangst i felt med mobile enheter
DESCRIPTION:Geoforum Hedmark/Oppland inviterer til fagdag om datafangst i felt med mobile enheter 6. april. \nProgram fagdag datafangst med mobile løsninger_ \nMarkedet tilbyr et stadig større spekter av app-er for telefon og nettbrett der enhetens GPS og bakgrunnskart brukes for innsamling av posisjonsdata i felt\, og for drift og vedlikehold av infrastruktur. \nVi vil på denne fagdagen vise noen av mulighetene som ligger i slike kart-applikasjoner og hvordan de er tatt i bruk i fylkene våre. \nPåmelding \nPåmeldingsfrist 31. mars \nEndelig program kommer snart.
URL:https://geoforum.no/event/fagdag-om-datafangst-i-felt-med-mobile-enheter/
LOCATION:Sted uten navn\, Vangsvegen 73\, Hamar
CATEGORIES:Temadag lokalt
GEO:60.7955363;11.0809682
X-APPLE-STRUCTURED-LOCATION;VALUE=URI;X-ADDRESS=Sted uten navn Vangsvegen 73 Hamar;X-APPLE-RADIUS=500;X-TITLE=Vangsvegen 73:geo:11.0809682,60.7955363
END:VEVENT
BEGIN:VEVENT
DTSTART;TZID=Europe/Oslo:20170427T083000
DTEND;TZID=Europe/Oslo:20170427T160000
DTSTAMP:20260424T013856
CREATED:20170407T070346Z
LAST-MODIFIED:20170428T105849Z
UID:10011207-1493281800-1493308800@geoforum.no
SUMMARY:Fagdag rettigheter og tinglysing
DESCRIPTION:Torsdag 27. april arrangerer GeoForum Hordaland kombinert fagdag og årsmøte. \nFagdagen vil ha tinglysing og rettigheter som hovedtema. Vi vil få høre om e-tinglysing og hva det betyr for oss. Statsarkivet presenterer den ny løsningen på digitalarkivet og viser oss hvordan vi finner blant annet gamle skylddelinger. I tillegg vil vi se litt på rettigheter for fast eiendom. \ngeoforum_hordland_fagdag tinglysing og rettingheter_2017_ \nKonferansen retter seg mot alle som arbeider med og/eller har interesse av eiendomsfaglige tema og spørsmål. \nMeld deg på innen 24. april. NB\, maks 50 deltakere. \nPåmeldingen er nå stengt. Ta kontakt med Jan Erik Førde dersom du har spørsmål om deltakelse – janerik.forde@bergen.kommune.no \n 
URL:https://geoforum.no/event/fagdag-rettigheter-og-tinglysing/
LOCATION:Norconsult AS\, Valkendorfsgaten 7\, Bergen\, 5012
CATEGORIES:Temadag lokalt
GEO:60.394272;5.320888
X-APPLE-STRUCTURED-LOCATION;VALUE=URI;X-ADDRESS=Norconsult AS Valkendorfsgaten 7 Bergen 5012;X-APPLE-RADIUS=500;X-TITLE=Valkendorfsgaten 7:geo:5.320888,60.394272
END:VEVENT
END:VCALENDAR