BEGIN:VCALENDAR
VERSION:2.0
PRODID:-//GeoForum - ECPv6.10.0//NONSGML v1.0//EN
CALSCALE:GREGORIAN
METHOD:PUBLISH
X-ORIGINAL-URL:https://geoforum.no
X-WR-CALDESC:Arrangement for GeoForum
REFRESH-INTERVAL;VALUE=DURATION:PT1H
X-Robots-Tag:noindex
X-PUBLISHED-TTL:PT1H
BEGIN:VTIMEZONE
TZID:Europe/Oslo
BEGIN:DAYLIGHT
TZOFFSETFROM:+0100
TZOFFSETTO:+0200
TZNAME:CEST
DTSTART:20170326T010000
END:DAYLIGHT
BEGIN:STANDARD
TZOFFSETFROM:+0200
TZOFFSETTO:+0100
TZNAME:CET
DTSTART:20171029T010000
END:STANDARD
END:VTIMEZONE
BEGIN:VEVENT
DTSTART;TZID=Europe/Oslo:20170302T090000
DTEND;TZID=Europe/Oslo:20170302T160000
DTSTAMP:20260424T025821
CREATED:20170214T112331Z
LAST-MODIFIED:20170214T112656Z
UID:10011196-1488445200-1488470400@geoforum.no
SUMMARY:Fagdag og årsmøte GeoForum Telemark 2017
DESCRIPTION:Fagdagen og årsmøtet er gratis for medlemmer\, men pga. matbestilling må vi ha påmelding. For ikke-medlemmer er prisen kr 600\,- inkl. lunsj. \nPåmelding sendes til anna.svalbjorg@bo.kommune.no innen 15. februar. \nInvitasjon og Program-Fagdag-Årsmøte2017 \n 
URL:https://geoforum.no/event/fagdag-og-arsmote-geoforum-telemark-2017/
LOCATION:Bø Hotell\, Gullbringvegen 32\, Bø i Telemark\, 3800
CATEGORIES:Temadag lokalt
GEO:59.4116358;9.0619341
X-APPLE-STRUCTURED-LOCATION;VALUE=URI;X-ADDRESS=Bø Hotell Gullbringvegen 32 Bø i Telemark 3800;X-APPLE-RADIUS=500;X-TITLE=Gullbringvegen 32:geo:9.0619341,59.4116358
END:VEVENT
BEGIN:VEVENT
DTSTART;TZID=Europe/Oslo:20170307T100000
DTEND;TZID=Europe/Oslo:20170308T150000
DTSTAMP:20260424T025821
CREATED:20161101T113708Z
LAST-MODIFIED:20161101T113708Z
UID:10011187-1488880800-1488985200@geoforum.no
SUMMARY:Lokale plan og kartdagar for Sogn og Fjordane
DESCRIPTION:GeoForum Sogn og Fjordane arrangerer også i år lokale kart- og plandager på Alexandra Hotel Loen. \nMer info kommer.
URL:https://geoforum.no/event/lokale-plan-og-kartdagar-for-sogn-og-fjordane/
LOCATION:Hotel Alexandra\, Loen\, Loen\, 6789\, Norge
CATEGORIES:Lokale geomatikkdager
ATTACH;FMTTYPE=image/jpeg:https://geoforum.no/wp-content/uploads/2016/11/alexandra.jpg
GEO:61.870556;6.856944
END:VEVENT
BEGIN:VEVENT
DTSTART;TZID=Europe/Oslo:20170308T100000
DTEND;TZID=Europe/Oslo:20170309T150000
DTSTAMP:20260424T025821
CREATED:20161017T204207Z
LAST-MODIFIED:20170307T113049Z
UID:10011186-1488967200-1489071600@geoforum.no
SUMMARY:Lokale geomatikkdager Troms og Finnmark 2017
DESCRIPTION:Program-lGD-8-9-mars \nPåmelding \nPåmeldingsfrist 10. februar \n \n 
URL:https://geoforum.no/event/lokale-geomatikkdager-troms-og-finnmark/
LOCATION:Quality Hotel Saga
CATEGORIES:Lokale geomatikkdager
END:VEVENT
BEGIN:VEVENT
DTSTART;TZID=Europe/Oslo:20170315T090000
DTEND;TZID=Europe/Oslo:20170316T154500
DTSTAMP:20260424T025821
CREATED:20170123T122751Z
LAST-MODIFIED:20170214T111918Z
UID:10011192-1489568400-1489679100@geoforum.no
SUMMARY:Geomatikkdagene i Nordland 2017
DESCRIPTION:En faglig samling for brukere\, forvaltere og produsenter innenfor geomatikk\, kart/oppmåling\, GIS og geodata. \nProgram Geomatikkdagene i Nordland 2017 v 20170214 \nPåmelding \nPåmeldingsfrist; 17. februar. Ved påmelding etter 17. februar øker prisen med kr 250\,-/500\,- avhengig av type deltakelse.
URL:https://geoforum.no/event/geomatikkdagene-i-nordland-2017/
LOCATION:Thon Hotell Nordlys\, Moloveien 14\, Bodø\, 8003
CATEGORIES:Lokale geomatikkdager
GEO:67.2808057;14.3729354
X-APPLE-STRUCTURED-LOCATION;VALUE=URI;X-ADDRESS=Thon Hotell Nordlys Moloveien 14 Bodø 8003;X-APPLE-RADIUS=500;X-TITLE=Moloveien 14:geo:14.3729354,67.2808057
END:VEVENT
BEGIN:VEVENT
DTSTART;TZID=Europe/Oslo:20170328T100000
DTEND;TZID=Europe/Oslo:20170330T150000
DTSTAMP:20260424T025821
CREATED:20160831T094718Z
LAST-MODIFIED:20160831T172900Z
UID:10011174-1490695200-1490886000@geoforum.no
SUMMARY:Geomatikkdagene 2017
DESCRIPTION:Oppdatert informasjon legges her
URL:https://geoforum.no/event/geomatikkdagene-2017/
LOCATION:Lillehammer Hotell\, Turisthotellvegen 6\, Lillhammer\, 2609
CATEGORIES:Konferanse
GEO:61.1173308;10.4771352
X-APPLE-STRUCTURED-LOCATION;VALUE=URI;X-ADDRESS=Lillehammer Hotell Turisthotellvegen 6 Lillhammer 2609;X-APPLE-RADIUS=500;X-TITLE=Turisthotellvegen 6:geo:10.4771352,61.1173308
END:VEVENT
END:VCALENDAR