BEGIN:VCALENDAR
VERSION:2.0
PRODID:-//GeoForum - ECPv6.10.0//NONSGML v1.0//EN
CALSCALE:GREGORIAN
METHOD:PUBLISH
X-ORIGINAL-URL:https://geoforum.no
X-WR-CALDESC:Arrangement for GeoForum
REFRESH-INTERVAL;VALUE=DURATION:PT1H
X-Robots-Tag:noindex
X-PUBLISHED-TTL:PT1H
BEGIN:VTIMEZONE
TZID:Europe/Oslo
BEGIN:DAYLIGHT
TZOFFSETFROM:+0100
TZOFFSETTO:+0200
TZNAME:CEST
DTSTART:20160327T010000
END:DAYLIGHT
BEGIN:STANDARD
TZOFFSETFROM:+0200
TZOFFSETTO:+0100
TZNAME:CET
DTSTART:20161030T010000
END:STANDARD
END:VTIMEZONE
BEGIN:VEVENT
DTSTART;TZID=Europe/Oslo:20161017T080000
DTEND;TZID=Europe/Oslo:20161018T150000
DTSTAMP:20260424T133846
CREATED:20160624T103410Z
LAST-MODIFIED:20160930T082031Z
UID:10011158-1476691200-1476802800@geoforum.no
SUMMARY:Eiendomskonferansen 2016
DESCRIPTION:GeoForum Hordaland i samarbeid med Jordskifteretten\, Kartverket\, Statens veg-vesen og Høgskolen i Bergen ønsker velkommen til den årlige EIENDOMS-KONFERANSEN. \n  \ngeoforum_hordland_eiendomskonferansen_2016 \nPåmelding
URL:https://geoforum.no/event/eiendomskonferansen-2016/
LOCATION:Solstrand Hotel & Bad\, Solstrandveien 200\, Os\, 5201
CATEGORIES:Lokale geomatikkdager
GEO:60.1890693;5.4876245
X-APPLE-STRUCTURED-LOCATION;VALUE=URI;X-ADDRESS=Solstrand Hotel & Bad Solstrandveien 200 Os 5201;X-APPLE-RADIUS=500;X-TITLE=Solstrandveien 200:geo:5.4876245,60.1890693
END:VEVENT
BEGIN:VEVENT
DTSTART;TZID=Europe/Oslo:20161018T080000
DTEND;TZID=Europe/Oslo:20161020T170000
DTSTAMP:20260424T133846
CREATED:20160615T103201Z
LAST-MODIFIED:20160615T103201Z
UID:10011155-1476777600-1476982800@geoforum.no
SUMMARY:Analyse-workshop 2016
DESCRIPTION:18.-20. oktober 2016. Laserforvaltning og NorgeIBilder som introduksjonstema. Opplysninger om sted og mer om innholdet kommer senere.
URL:https://geoforum.no/event/analyse-workshop-2016/
CATEGORIES:Temadag lokalt
END:VEVENT
BEGIN:VEVENT
DTSTART;TZID=Europe/Oslo:20161018T090000
DTEND;TZID=Europe/Oslo:20161019T150000
DTSTAMP:20260424T133846
CREATED:20160701T071905Z
LAST-MODIFIED:20160912T103506Z
UID:10011160-1476781200-1476889200@geoforum.no
SUMMARY:Regionale geomatikkdager for Telemark\, Vestfold og Østfold 2016
DESCRIPTION:endelig-program_2016 \nPåmelding
URL:https://geoforum.no/event/regionale-geomatikkdager-teelemark-vestfold-og-ostfold-2016/
LOCATION:Quality Hotel Skjærgården\, Stathelleveien 35\, Langesund\, 3970
CATEGORIES:Lokale geomatikkdager
GEO:59.0140261;9.7448604
X-APPLE-STRUCTURED-LOCATION;VALUE=URI;X-ADDRESS=Quality Hotel Skjærgården Stathelleveien 35 Langesund 3970;X-APPLE-RADIUS=500;X-TITLE=Stathelleveien 35:geo:9.7448604,59.0140261
END:VEVENT
BEGIN:VEVENT
DTSTART;TZID=Europe/Oslo:20161018T093000
DTEND;TZID=Europe/Oslo:20161019T150000
DTSTAMP:20260424T133846
CREATED:20160419T075455Z
LAST-MODIFIED:20160419T081725Z
UID:10011146-1476783000-1476889200@geoforum.no
SUMMARY:GISLINE brukermøte Trondheim
DESCRIPTION:Norkart arrangerer GISLINE brukermøte 5 ulike steder. \nMer informasjon finner du på her
URL:https://geoforum.no/event/gisline-brukermote-2016-trondheim/
LOCATION:Clarion Hotel & Congress Trondheim\, Brattørkaia 1\, Trondheim 7010 Trondheim\, 7010
CATEGORIES:Eksterne kurs og konferanser
GEO:63.4338348;10.4021128
X-APPLE-STRUCTURED-LOCATION;VALUE=URI;X-ADDRESS=Clarion Hotel & Congress Trondheim Brattørkaia 1 Trondheim 7010 Trondheim 7010;X-APPLE-RADIUS=500;X-TITLE=Brattørkaia 1:geo:10.4021128,63.4338348
END:VEVENT
BEGIN:VEVENT
DTSTART;TZID=Europe/Oslo:20161018T100000
DTEND;TZID=Europe/Oslo:20161020T130000
DTSTAMP:20260424T133846
CREATED:20160905T095038Z
LAST-MODIFIED:20160906T103633Z
UID:10011180-1476784800-1476968400@geoforum.no
SUMMARY:GeoAnalyse workshop
DESCRIPTION:GeoForum Hedmark og Oppland inviterer til GeoAnalyse workshop på Honne konferansesenter\, Biri. \nInvitasjon_Geoanalyseworkshop_Honne_2016 \nProgram _GEO Analyse Workshop _2016 \nPåmelding
URL:https://geoforum.no/event/geoanalyse-workshop/
LOCATION:Honne konferansesenter\, Honnevegen 60\, Biri\, 2836
CATEGORIES:Temadag lokalt
GEO:60.9460302;10.6361495
X-APPLE-STRUCTURED-LOCATION;VALUE=URI;X-ADDRESS=Honne konferansesenter Honnevegen 60 Biri 2836;X-APPLE-RADIUS=500;X-TITLE=Honnevegen 60:geo:10.6361495,60.9460302
END:VEVENT
BEGIN:VEVENT
DTSTART;TZID=Europe/Oslo:20161024T093000
DTEND;TZID=Europe/Oslo:20161025T150000
DTSTAMP:20260424T133846
CREATED:20160419T075626Z
LAST-MODIFIED:20160419T082103Z
UID:10011147-1477301400-1477407600@geoforum.no
SUMMARY:GISLINE brukermøte Kristiansand
DESCRIPTION:Norkart arrangerer brukermøte på 5 ulike steder. \nMer informasjon finner du her
URL:https://geoforum.no/event/gisline-brukermote-kristiansand/
LOCATION:Clarion Hotel Ernst\, Rådhusgata 2 \, Kristiansand\, 4664
CATEGORIES:Eksterne kurs og konferanser
GEO:58.144367;7.9926587
X-APPLE-STRUCTURED-LOCATION;VALUE=URI;X-ADDRESS=Clarion Hotel Ernst Rådhusgata 2  Kristiansand 4664;X-APPLE-RADIUS=500;X-TITLE=Rådhusgata 2:geo:7.9926587,58.144367
END:VEVENT
BEGIN:VEVENT
DTSTART;TZID=Europe/Oslo:20161025T080000
DTEND;TZID=Europe/Oslo:20161026T140000
DTSTAMP:20260424T133846
CREATED:20160401T071828Z
LAST-MODIFIED:20160927T140629Z
UID:10011140-1477382400-1477490400@geoforum.no
SUMMARY:DKT 2016
DESCRIPTION:Norges største konferanse om digital utveksling og tverrfaglig samarbeid skal fylle Scandic Fornebu i oktober. \nprogram-dkt-2016 \nPåmelding \n 
URL:https://geoforum.no/event/dkt-2016/
LOCATION:Scandic Fornebu\, Martin Linges vei 2\, 1364
CATEGORIES:Konferanse
GEO:59.8972309;10.6323839
X-APPLE-STRUCTURED-LOCATION;VALUE=URI;X-ADDRESS=Scandic Fornebu Martin Linges vei 2 1364;X-APPLE-RADIUS=500;X-TITLE=Martin Linges vei 2:geo:10.6323839,59.8972309
END:VEVENT
BEGIN:VEVENT
DTSTART;TZID=Europe/Oslo:20161026T093000
DTEND;TZID=Europe/Oslo:20161027T150000
DTSTAMP:20260424T133846
CREATED:20160419T080129Z
LAST-MODIFIED:20160419T080129Z
UID:10011148-1477474200-1477580400@geoforum.no
SUMMARY:GISLINE brukermøte Gardermoen
DESCRIPTION:Norkart arrangerer brukermøte 5 ulike steder i Norge
URL:https://geoforum.no/event/gisline-brukermote-gardermoen/
LOCATION:Clarion Hotel Oslo Airport\, Hans Gaarders vei 15\, Gardermoen\, Skedsmo\, 2060\, Norge
CATEGORIES:Eksterne kurs og konferanser
GEO:60.1975501;11.1004153
X-APPLE-STRUCTURED-LOCATION;VALUE=URI;X-ADDRESS=Clarion Hotel Oslo Airport Hans Gaarders vei 15 Gardermoen Skedsmo 2060 Norge;X-APPLE-RADIUS=500;X-TITLE=Hans Gaarders vei 15:geo:11.1004153,60.1975501
END:VEVENT
BEGIN:VEVENT
DTSTART;TZID=Europe/Oslo:20161028T083000
DTEND;TZID=Europe/Oslo:20161029T180000
DTSTAMP:20260424T133846
CREATED:20160929T151613Z
LAST-MODIFIED:20160929T151613Z
UID:10011183-1477643400-1477764000@geoforum.no
SUMMARY:Kartverket og Difi arrangerer #hack4no
DESCRIPTION:Kartverket og 11 andre statlige etater og virksomheter gjør nå et felles fremstøt for å få gründere\, næringsliv\, studenter og barn til å ta i bruk datasett som det offentlige har frigitt. \nMer info
URL:https://geoforum.no/event/kartverket-og-difi-arrangerer-hack4no/
LOCATION:Høgskolen i Sørøst-Norge\, Campus Ringerike\, Bredalsveien 14\, Hønefoss
CATEGORIES:Eksterne kurs og konferanser
GEO:60.1530363;10.2627709
X-APPLE-STRUCTURED-LOCATION;VALUE=URI;X-ADDRESS=Høgskolen i Sørøst-Norge Campus Ringerike Bredalsveien 14 Hønefoss;X-APPLE-RADIUS=500;X-TITLE=Bredalsveien 14:geo:10.2627709,60.1530363
END:VEVENT
BEGIN:VEVENT
DTSTART;TZID=Europe/Oslo:20161031T100000
DTEND;TZID=Europe/Oslo:20161031T140000
DTSTAMP:20260424T133846
CREATED:20160901T150201Z
LAST-MODIFIED:20160901T150741Z
UID:10011175-1477908000-1477922400@geoforum.no
SUMMARY:Trimble Express 2016\, Oslo
DESCRIPTION:Norgeodesi AS inviterer til Trimble Express 2016. \nLes mer \n 
URL:https://geoforum.no/event/trimble-express-2016/
LOCATION:Norgeodesi Vøyenenga (Oslo)
CATEGORIES:Eksterne kurs og konferanser
END:VEVENT
END:VCALENDAR