BEGIN:VCALENDAR
VERSION:2.0
PRODID:-//GeoForum - ECPv6.10.0//NONSGML v1.0//EN
CALSCALE:GREGORIAN
METHOD:PUBLISH
X-ORIGINAL-URL:https://geoforum.no
X-WR-CALDESC:Arrangement for GeoForum
REFRESH-INTERVAL;VALUE=DURATION:PT1H
X-Robots-Tag:noindex
X-PUBLISHED-TTL:PT1H
BEGIN:VTIMEZONE
TZID:Europe/Oslo
BEGIN:DAYLIGHT
TZOFFSETFROM:+0100
TZOFFSETTO:+0200
TZNAME:CEST
DTSTART:20160327T010000
END:DAYLIGHT
BEGIN:STANDARD
TZOFFSETFROM:+0200
TZOFFSETTO:+0100
TZNAME:CET
DTSTART:20161030T010000
END:STANDARD
END:VTIMEZONE
BEGIN:VEVENT
DTSTART;TZID=Europe/Oslo:20160610T120000
DTEND;TZID=Europe/Oslo:20160610T153000
DTSTAMP:20260424T185114
CREATED:20160502T194703Z
LAST-MODIFIED:20160509T090027Z
UID:10011153-1465560000-1465572600@geoforum.no
SUMMARY:Temadag om utbygging av Follobanen
DESCRIPTION:GeoForum Oslo og Akershus arrangerer temadag om Follobanen 10. juni\, i Jernbaneverkets lokaler i Bispegata 13. \nTemadagen er gratis for GeoForums medlemmer. Det blir enkel servering av kjeks og frukt. \nDen faglige delen av temadagen avsluttes med en guidet vandring ved Middelalderparken\, hvor vi har god oversikt over anleggsområdet. \nVi kommer til å bestille bord ved et egnet sted i nærheten\, hvor vi kan samles etter den faglige delen av temdagen\, for en matbit og noe godt å drikke. Dette for egen regning. Husk å krysse av for dette også\, så bestiller vi bord til riktig antall personer. \nMeld deg på her.\nPå den faglige biten er det en grense på maks 30 deltakere.
URL:https://geoforum.no/event/temadag-om-utbygging-av-follobanen/
LOCATION:JBV anleggskontor\, Bispegata 13\, Oslo\, Oslo\, Norge
ORGANIZER;CN="GeoForum Oslo og Akershus":MAILTO:even.stangebye@avinor.no
GEO:59.9057263;10.7677219
X-APPLE-STRUCTURED-LOCATION;VALUE=URI;X-ADDRESS=JBV anleggskontor Bispegata 13 Oslo Oslo Norge;X-APPLE-RADIUS=500;X-TITLE=Bispegata 13:geo:10.7677219,59.9057263
END:VEVENT
END:VCALENDAR