BEGIN:VCALENDAR
VERSION:2.0
PRODID:-//GeoForum - ECPv6.10.0//NONSGML v1.0//EN
CALSCALE:GREGORIAN
METHOD:PUBLISH
X-WR-CALNAME:GeoForum
X-ORIGINAL-URL:https://geoforum.no
X-WR-CALDESC:Arrangement for GeoForum
REFRESH-INTERVAL;VALUE=DURATION:PT1H
X-Robots-Tag:noindex
X-PUBLISHED-TTL:PT1H
BEGIN:VTIMEZONE
TZID:Europe/Oslo
BEGIN:DAYLIGHT
TZOFFSETFROM:+0100
TZOFFSETTO:+0200
TZNAME:CEST
DTSTART:20160327T010000
END:DAYLIGHT
BEGIN:STANDARD
TZOFFSETFROM:+0200
TZOFFSETTO:+0100
TZNAME:CET
DTSTART:20161030T010000
END:STANDARD
END:VTIMEZONE
BEGIN:VEVENT
DTSTART;TZID=Europe/Oslo:20160229T080000
DTEND;TZID=Europe/Oslo:20160302T150000
DTSTAMP:20260424T222919
CREATED:20151203T102555Z
LAST-MODIFIED:20151210T133240Z
UID:10011071-1456732800-1456930800@geoforum.no
SUMMARY:Landmåling etter matrikkelloven
DESCRIPTION:Høgskolen i Bergen arrangerer videreutdanning innen landmåling etter matrikkelloven. \nLes mer \nMer informasjon kommer her
URL:https://geoforum.no/event/landmaling-etter-matrikkelloven-2/
LOCATION:Høgskolens i Bergen\, Campus Kronstad\, Inndalsveien 28\, Bergen\, 5063
GEO:60.3691397;5.3495817
X-APPLE-STRUCTURED-LOCATION;VALUE=URI;X-ADDRESS=Høgskolens i Bergen Campus Kronstad Inndalsveien 28 Bergen 5063;X-APPLE-RADIUS=500;X-TITLE=Inndalsveien 28:geo:5.3495817,60.3691397
END:VEVENT
BEGIN:VEVENT
DTSTART;TZID=Europe/Oslo:20160303T110000
DTEND;TZID=Europe/Oslo:20160303T113000
DTSTAMP:20260424T222919
CREATED:20160211T122605Z
LAST-MODIFIED:20160211T122621Z
UID:10011134-1457002800-1457004600@geoforum.no
SUMMARY:Gratis webinar Gemini 3D|Felt - Entreprenør
DESCRIPTION:Bruk 3D|Felt til å ta med deg prosjektet i 3D ut på anleggsplassen. Kommuniser med andre prosjektdeltagere og ha tilgang til oppdatert informasjon. Registrer objekt med din posisjon og koble mot kontrakt direkte. \n  \nVi vil gjennomgå: \n– Prosjektoppsett og kommunikasjon \n– Brukergrensesnitt \n– Registrering i felt \n– Informasjonsflyt \n  \nPåmelding: https://attendee.gotowebinar.com/register/2302520656386495234 \n 
URL:https://geoforum.no/event/gratis-webinar-gemini-3dfelt-entreprenor/
CATEGORIES:Eksterne kurs og konferanser
END:VEVENT
BEGIN:VEVENT
DTSTART;TZID=Europe/Oslo:20160303T123000
DTEND;TZID=Europe/Oslo:20160303T130000
DTSTAMP:20260424T222919
CREATED:20160211T122738Z
LAST-MODIFIED:20160211T122738Z
UID:10011136-1457008200-1457010000@geoforum.no
SUMMARY:Gratis webinar Gemini 3D|Felt – Prosjektering
DESCRIPTION:Bruk 3D|Felt i plan- og prosjekteringsfasen for en felles plattform for innsyn og kommunikasjon gjennom hele prosjektet. Ha full oversikt på oppdaterte data i prosjektmøter og ta med oppdatert prosjekt i 3D ut i felt. Register objekt med din posisjon som vil ha konsekvenser for prosjektet og ta raske beslutninger. \n  \nVi vil gjennomgå: \n– Prosjektoppsett og kommunikasjon \n– Brukergrensesnitt \n– 3D|Felt som innsynsløsning \n– 3D|Felt som feltløsning \n– Informasjonsflyt \n  \nPåmelding: https://attendee.gotowebinar.com/register/7450822225238382594 \n  \n 
URL:https://geoforum.no/event/gratis-webinar-gemini-3dfelt-prosjektering/
END:VEVENT
BEGIN:VEVENT
DTSTART;TZID=Europe/Oslo:20160307T080000
DTEND;TZID=Europe/Oslo:20160308T170000
DTSTAMP:20260424T222919
CREATED:20150925T102939Z
LAST-MODIFIED:20150925T103145Z
UID:10011122-1457337600-1457456400@geoforum.no
SUMMARY:E-læringskurs i regi av EuroSDR
DESCRIPTION:EuroSDR (European Spatial Data Research)\, arbeider med forskning på vegne av 18 Kartverk og i samarbeid med akademiske institusjoner og privat bransje fra hele Europa. Forskningsresultater formidles gjennom publikasjoner\, workshops og kurs. \nVåren 2016 tilbys 4 e-læringskurs  på områder med nylig avsluttede forsknings­prosjekter eller spesielle fokusområder. Kursholdere er internasjonalt ledende eksperter på sitt område. Hvert kurs gjennomføres over en to ukers periode i tidsrommet mars til juni og krever ca 30 timers innsats\, der man kan ha direkte kontakt med kursholderne. \nKursavgift: €600 for 1-2 kurs\, og €700 for 3-4. Avgift for kun å delta på introduksjonsseminaret €100. \nMer om kursene og lenke til påmelding finner du her: http://www.eurosdr.net/education/current. Alternativt\, ta kontakt med Jon.Arne.trollvik@kartverket.no\, for mer informasjon. \nE-læringskurs infoskriv
URL:https://geoforum.no/event/e-laeringskurs-i-regi-av-eurosdr/
CATEGORIES:Eksterne kurs og konferanser
END:VEVENT
BEGIN:VEVENT
DTSTART;TZID=Europe/Oslo:20160308T080000
DTEND;TZID=Europe/Oslo:20160310T170000
DTSTAMP:20260424T222919
CREATED:20151203T102243Z
LAST-MODIFIED:20151203T115431Z
UID:10011069-1457424000-1457629200@geoforum.no
SUMMARY:Landmåling etter matrikkelloven
DESCRIPTION:Høgskolen i Bergen arrangerer videreutdanning innen landmåling etter matrikkelloven. \nLes mer \nMer info kommer her
URL:https://geoforum.no/event/landmaling-etter-matrikkelloven/
LOCATION:Høgskolens i Bergen\, Campus Kronstad\, Inndalsveien 28\, Bergen\, 5063
CATEGORIES:Eksterne kurs og konferanser
GEO:60.3691397;5.3495817
X-APPLE-STRUCTURED-LOCATION;VALUE=URI;X-ADDRESS=Høgskolens i Bergen Campus Kronstad Inndalsveien 28 Bergen 5063;X-APPLE-RADIUS=500;X-TITLE=Inndalsveien 28:geo:5.3495817,60.3691397
END:VEVENT
BEGIN:VEVENT
DTSTART;TZID=Europe/Oslo:20160308T090000
DTEND;TZID=Europe/Oslo:20160310T140000
DTSTAMP:20260424T222919
CREATED:20150706T084431Z
LAST-MODIFIED:20160306T152027Z
UID:10011112-1457427600-1457618400@geoforum.no
SUMMARY:Geomatikkdagene 2016
DESCRIPTION:All info om Geomatikkdagene finner dere her \nSe egen fane på geoforum.no.
URL:https://geoforum.no/event/geomatikkdagene-2016/
LOCATION:Scandic Parken Ålesund\, Storgata 16\, Ålesund\, 6002
CATEGORIES:Konferanse
GEO:62.473715;6.1587144
X-APPLE-STRUCTURED-LOCATION;VALUE=URI;X-ADDRESS=Scandic Parken Ålesund Storgata 16 Ålesund 6002;X-APPLE-RADIUS=500;X-TITLE=Storgata 16:geo:6.1587144,62.473715
END:VEVENT
END:VCALENDAR