BEGIN:VCALENDAR
VERSION:2.0
PRODID:-//GeoForum - ECPv6.10.0//NONSGML v1.0//EN
CALSCALE:GREGORIAN
METHOD:PUBLISH
X-WR-CALNAME:GeoForum
X-ORIGINAL-URL:https://geoforum.no
X-WR-CALDESC:Arrangement for GeoForum
REFRESH-INTERVAL;VALUE=DURATION:PT1H
X-Robots-Tag:noindex
X-PUBLISHED-TTL:PT1H
BEGIN:VTIMEZONE
TZID:Europe/Oslo
BEGIN:DAYLIGHT
TZOFFSETFROM:+0100
TZOFFSETTO:+0200
TZNAME:CEST
DTSTART:20160327T010000
END:DAYLIGHT
BEGIN:STANDARD
TZOFFSETFROM:+0200
TZOFFSETTO:+0100
TZNAME:CET
DTSTART:20161030T010000
END:STANDARD
END:VTIMEZONE
BEGIN:VEVENT
DTSTART;TZID=Europe/Oslo:20160201T090000
DTEND;TZID=Europe/Oslo:20160202T130000
DTSTAMP:20260424T234507
CREATED:20150706T084122Z
LAST-MODIFIED:20160130T162254Z
UID:10011111-1454317200-1454418000@geoforum.no
SUMMARY:Stikningskonferansen 2016
DESCRIPTION:Endelig er programmet for Stikningskonferansen 2016 klart! \nProgram Stikningskonferansen til deltakere \nPåmelding  \n  \n  \n  \n  \n 
URL:https://geoforum.no/event/stikningskonferansen-2016/
LOCATION:Clarion Hotel Oslo Airport\, Hans Gaarders vei 15\, Gardermoen\, Skedsmo\, 2060\, Norge
CATEGORIES:Konferanse
GEO:60.1975501;11.1004153
X-APPLE-STRUCTURED-LOCATION;VALUE=URI;X-ADDRESS=Clarion Hotel Oslo Airport Hans Gaarders vei 15 Gardermoen Skedsmo 2060 Norge;X-APPLE-RADIUS=500;X-TITLE=Hans Gaarders vei 15:geo:11.1004153,60.1975501
END:VEVENT
BEGIN:VEVENT
DTSTART;TZID=Europe/Oslo:20160203T120000
DTEND;TZID=Europe/Oslo:20160203T150000
DTSTAMP:20260424T234507
CREATED:20160114T132652Z
LAST-MODIFIED:20160114T132652Z
UID:10011130-1454500800-1454511600@geoforum.no
SUMMARY:Fagdag/årsmøte GeoForum Rogaland
DESCRIPTION:GeoForum Rogaland inviterer sine medlemmer til en kombinert fagdag/årsmøte hos Statens vegvesen i Lagårdsveien 80. \n  \nÅrsmøte-innkalling 2015 GeoForum Rogaland \nPåmelding
URL:https://geoforum.no/event/fagdagarsmote-geoforum-rogaland/
LOCATION:Statens vegvesen\, Lagårdsveien 80\, Stavanger\, 4010
CATEGORIES:Temadag lokalt
GEO:58.9574234;5.740779
X-APPLE-STRUCTURED-LOCATION;VALUE=URI;X-ADDRESS=Statens vegvesen Lagårdsveien 80 Stavanger 4010;X-APPLE-RADIUS=500;X-TITLE=Lagårdsveien 80:geo:5.740779,58.9574234
END:VEVENT
BEGIN:VEVENT
DTSTART;TZID=Europe/Oslo:20160210T093000
DTEND;TZID=Europe/Oslo:20160211T150000
DTSTAMP:20260424T234507
CREATED:20151218T084421Z
LAST-MODIFIED:20151218T093938Z
UID:10011126-1455096600-1455202800@geoforum.no
SUMMARY:Lokale geomatikkdager på Sørlandet
DESCRIPTION:  \nPåmelding
URL:https://geoforum.no/event/lokale-geomatikkdager-pa-sorlandet/
LOCATION:Quality Hotel & Resort Kristiansand\, Travparkveien 14\, \, Kristiansand\, 4636 
CATEGORIES:Lokale geomatikkdager
GEO:58.1798995;8.1448978
X-APPLE-STRUCTURED-LOCATION;VALUE=URI;X-ADDRESS=Quality Hotel & Resort Kristiansand Travparkveien 14  Kristiansand 4636;X-APPLE-RADIUS=500;X-TITLE=Travparkveien 14\,:geo:8.1448978,58.1798995
END:VEVENT
BEGIN:VEVENT
DTSTART;TZID=Europe/Oslo:20160210T100000
DTEND;TZID=Europe/Oslo:20160211T150000
DTSTAMP:20260424T234507
CREATED:20150531T174209Z
LAST-MODIFIED:20150531T191943Z
UID:10005859-1455098400-1455202800@geoforum.no
SUMMARY:Brukermøte Blinken
DESCRIPTION:Mer informasjon kommer.
URL:https://geoforum.no/event/brukermote-blinken/
LOCATION:Støtvig Hotel\, Larkollveien 801\, Larkollen\, 1560\, Norge
CATEGORIES:Eksterne kurs og konferanser
GEO:59.3291158;10.6684666
X-APPLE-STRUCTURED-LOCATION;VALUE=URI;X-ADDRESS=Støtvig Hotel Larkollveien 801 Larkollen 1560 Norge;X-APPLE-RADIUS=500;X-TITLE=Larkollveien 801:geo:10.6684666,59.3291158
END:VEVENT
BEGIN:VEVENT
DTSTART;TZID=Europe/Oslo:20160210T100000
DTEND;TZID=Europe/Oslo:20160211T150000
DTSTAMP:20260424T234507
CREATED:20151203T105528Z
LAST-MODIFIED:20151203T105652Z
UID:10011073-1455098400-1455202800@geoforum.no
SUMMARY:Blinkens brukermøte 2016
DESCRIPTION:Invitasjon \nProgram \nPåmeldingskjema \n 
URL:https://geoforum.no/event/blinkens-brukermote-2016/
LOCATION:Støvig hotel\, Larkollveien 801\, Larkollen\, 1560
CATEGORIES:Eksterne kurs og konferanser
GEO:59.3291158;10.6684666
X-APPLE-STRUCTURED-LOCATION;VALUE=URI;X-ADDRESS=Støvig hotel Larkollveien 801 Larkollen 1560;X-APPLE-RADIUS=500;X-TITLE=Larkollveien 801:geo:10.6684666,59.3291158
END:VEVENT
BEGIN:VEVENT
DTSTART;TZID=Europe/Oslo:20160216T090000
DTEND;TZID=Europe/Oslo:20160216T090000
DTSTAMP:20260424T234507
CREATED:20151222T184353Z
LAST-MODIFIED:20160211T214237Z
UID:10011128-1455613200-1455613200@geoforum.no
SUMMARY:Lokale geomatikkdager for Hedmark og Oppland 2016
DESCRIPTION:GeoForum Hedmark og Oppland i samarbeid med Kartverket Hamar inviterer til lokale geomatikkdager 2016 på Hotell Scandic Elgstua\, Elverum.   \nPåmeldingsfrist er 11. januar. \nProgram \nPåmelding \n  \n 
URL:https://geoforum.no/event/lokale-geomatikkdager-hedmark-og-oppland-2016/
LOCATION:Hotell Scandic Elgstua
CATEGORIES:Lokale geomatikkdager
ATTACH;FMTTYPE=image/jpeg:https://geoforum.no/wp-content/uploads/2015/12/Scandic-Elgstua-Elverum-entrance-exterior-facade.jpg
END:VEVENT
BEGIN:VEVENT
DTSTART;TZID=Europe/Oslo:20160217T090000
DTEND;TZID=Europe/Oslo:20160218T160000
DTSTAMP:20260424T234507
CREATED:20150522T122009Z
LAST-MODIFIED:20160223T093824Z
UID:10005858-1455699600-1455811200@geoforum.no
SUMMARY:GeoNordland 2016
DESCRIPTION:“GeoNordland 2016” – lokale Geomatikkdager i Nordland \n17. februar 2016 kl. 09:00 – 18. februar 2016 kl. 16:00 \nGeoNordland 2016 ble arrangert på Havet hotell i Bodø\, 17. og 18. februar 2016. \nGeoForum Nordland fyller 40år i 2016 og det skal vi feire med faglig påfyll\, sosialt samvær og overraskelser.  Hver 10. påmeldte deltaker kan vente seg en liten premie. \nProgram og invitasjon GeoNordland 2016 \nForedrag \n 
URL:https://geoforum.no/event/geonordland-2016/
LOCATION:Havet hotell\, Tollbugata 5\, Bodø\, 8006
CATEGORIES:Lokale geomatikkdager
GEO:67.2839843;14.3749054
X-APPLE-STRUCTURED-LOCATION;VALUE=URI;X-ADDRESS=Havet hotell Tollbugata 5 Bodø 8006;X-APPLE-RADIUS=500;X-TITLE=Tollbugata 5:geo:14.3749054,67.2839843
END:VEVENT
BEGIN:VEVENT
DTSTART;TZID=Europe/Oslo:20160223T090000
DTEND;TZID=Europe/Oslo:20160224T140000
DTSTAMP:20260424T234507
CREATED:20151104T084219Z
LAST-MODIFIED:20160201T212539Z
UID:10011059-1456218000-1456322400@geoforum.no
SUMMARY:Lokale kart- og plandagar
DESCRIPTION:GeoForum Sogn og Fjordane arrangerer lokale kart- og plandagar 23. og 24. februar 2016. \nProgram \nPåmeldingsfrist: Så snart som muleg\, og seinast torsdag 11. februar 2016! \nTil: ola.forde@gloppen.kommune.no \nmobil 908 70 343 \nel. privat 907 51 952 \n  \n 
URL:https://geoforum.no/event/lokale-kart-og-plandagar/
LOCATION:Hotel Alexandra\, Loen\, Loen\, 6789\, Norge
CATEGORIES:Lokale geomatikkdager
ATTACH;FMTTYPE=image/jpeg:https://geoforum.no/wp-content/uploads/2015/11/010_lite.jpg
GEO:61.870556;6.856944
END:VEVENT
BEGIN:VEVENT
DTSTART;TZID=Europe/Oslo:20160229T080000
DTEND;TZID=Europe/Oslo:20160302T150000
DTSTAMP:20260424T234507
CREATED:20151203T102555Z
LAST-MODIFIED:20151210T133240Z
UID:10011071-1456732800-1456930800@geoforum.no
SUMMARY:Landmåling etter matrikkelloven
DESCRIPTION:Høgskolen i Bergen arrangerer videreutdanning innen landmåling etter matrikkelloven. \nLes mer \nMer informasjon kommer her
URL:https://geoforum.no/event/landmaling-etter-matrikkelloven-2/
LOCATION:Høgskolens i Bergen\, Campus Kronstad\, Inndalsveien 28\, Bergen\, 5063
GEO:60.3691397;5.3495817
X-APPLE-STRUCTURED-LOCATION;VALUE=URI;X-ADDRESS=Høgskolens i Bergen Campus Kronstad Inndalsveien 28 Bergen 5063;X-APPLE-RADIUS=500;X-TITLE=Inndalsveien 28:geo:5.3495817,60.3691397
END:VEVENT
END:VCALENDAR