BEGIN:VCALENDAR
VERSION:2.0
PRODID:-//GeoForum - ECPv6.10.0//NONSGML v1.0//EN
CALSCALE:GREGORIAN
METHOD:PUBLISH
X-WR-CALNAME:GeoForum
X-ORIGINAL-URL:https://geoforum.no
X-WR-CALDESC:Arrangement for GeoForum
REFRESH-INTERVAL;VALUE=DURATION:PT1H
X-Robots-Tag:noindex
X-PUBLISHED-TTL:PT1H
BEGIN:VTIMEZONE
TZID:Europe/Oslo
BEGIN:DAYLIGHT
TZOFFSETFROM:+0100
TZOFFSETTO:+0200
TZNAME:CEST
DTSTART:20150329T010000
END:DAYLIGHT
BEGIN:STANDARD
TZOFFSETFROM:+0200
TZOFFSETTO:+0100
TZNAME:CET
DTSTART:20151025T010000
END:STANDARD
END:VTIMEZONE
BEGIN:VEVENT
DTSTART;TZID=Europe/Oslo:20151102T093000
DTEND;TZID=Europe/Oslo:20151103T150000
DTSTAMP:20260425T032821
CREATED:20150609T200430Z
LAST-MODIFIED:20150609T200430Z
UID:10011105-1446456600-1446562800@geoforum.no
SUMMARY:ISYdagene 2015
DESCRIPTION:ISYdagene er NoIS tradisjonsrike brukermøte og arrangeres i år 2.-3. november på Clarion Hotel Oslo Airport. Dette er et bransjetreff der du får faglig inspirasjon til bruk av deres løsninger. \nMer informasjon kommer her
URL:https://geoforum.no/event/isydagene-2015/
LOCATION:Clarion Hotel Oslo Airport\, Hans Gaarders vei 15\, Gardermoen\, Skedsmo\, 2060\, Norge
CATEGORIES:Eksterne kurs og konferanser
ATTACH;FMTTYPE=image/jpeg:https://geoforum.no/wp-content/uploads/2015/06/nc2-0764_400x250px.jpg
ORGANIZER;CN="Norconsult Informasjonssytemer":MAILTO:merethe.wold.sagen@norconsult.com
GEO:60.1975501;11.1004153
X-APPLE-STRUCTURED-LOCATION;VALUE=URI;X-ADDRESS=Clarion Hotel Oslo Airport Hans Gaarders vei 15 Gardermoen Skedsmo 2060 Norge;X-APPLE-RADIUS=500;X-TITLE=Hans Gaarders vei 15:geo:11.1004153,60.1975501
END:VEVENT
BEGIN:VEVENT
DTSTART;TZID=Europe/Oslo:20151111T100000
DTEND;TZID=Europe/Oslo:20151111T153000
DTSTAMP:20260425T032821
CREATED:20151101T161424Z
LAST-MODIFIED:20151101T162343Z
UID:10011057-1447236000-1447255800@geoforum.no
SUMMARY:Seminar - Digitale reguleringsbestemmelser
DESCRIPTION:Kommunal og moderniseringsdepartementet har satt sammen en arbeidsgruppe som skal arbeide med digitale reguleringsbestemmelser. I forbindelse med oppstart av dette arbeidet inviterer vi til et seminar der vi ønsker å både informere og hente kunnskap inn i arbeidet. Påmelding innen 5. november. \nProgram og påmelding
URL:https://geoforum.no/event/seminar-digitale-reguleringsbestemmelser/
LOCATION:Holmen fjordhotell\, Slemmestadveien 64\, Nesbru\, Asker\, 1394 \, Norge
CATEGORIES:Eksterne kurs og konferanser
GEO:59.8513033;10.494808
X-APPLE-STRUCTURED-LOCATION;VALUE=URI;X-ADDRESS=Holmen fjordhotell Slemmestadveien 64 Nesbru Asker 1394  Norge;X-APPLE-RADIUS=500;X-TITLE=Slemmestadveien 64:geo:10.494808,59.8513033
END:VEVENT
BEGIN:VEVENT
DTSTART;TZID=Europe/Oslo:20151112T100000
DTEND;TZID=Europe/Oslo:20151112T120000
DTSTAMP:20260425T032821
CREATED:20151109T140059Z
LAST-MODIFIED:20151109T140059Z
UID:10011063-1447322400-1447329600@geoforum.no
SUMMARY:WEBINAR - NYHETER GEMINI TERRENG & ENTREPRENØR
DESCRIPTION:Ny skanndatamodul og 3D triangulering! \nI forbindelse med servicerelease for versjon 11 lanserer Powel en ny lisensiert modul for punktprosessering og 3D triangulering. \nBli med på webinar og se hvordan ny teknologi kan løse komplekse situasjoner uten bruk av triangulering langs linje. \nSe de nye funksjonene for bearbeiding og redigering av skanndata. \nWebinaret vil på en kortfattet måte vise ny funksjonalitet og muligheter på reelle prosjektdata. \n• Import av punktskyer direkte fra Leica MS50/MS60\n• Automatiske metoder for prosessering av punktskyer\n• Manuell redigering av puntkskyer i 3D\n• 3D triangulering av punktskyer\n• Geometrisk kontroll av modeller med punktskydata \nEtter registrering vil du få en epost med informasjon og lenke til webinar. \nREGISTRERING:\nhttps://attendee.gotowebinar.com/register/5401010393184959745 \nTIDSPUNKT:\nTorsdag 12. november\, 2015 10:00
URL:https://geoforum.no/event/webinar-nyheter-gemini-terreng-entreprenor/
CATEGORIES:Eksterne kurs og konferanser
END:VEVENT
BEGIN:VEVENT
DTSTART;TZID=Europe/Oslo:20151116T120000
DTEND;TZID=Europe/Oslo:20151117T130000
DTSTAMP:20260425T032821
CREATED:20151104T205531Z
LAST-MODIFIED:20151118T093300Z
UID:10011061-1447675200-1447765200@geoforum.no
SUMMARY:GeoForums lederkonferanse 2015
DESCRIPTION:GeoForums lederkonferanse er en viktig fellesarena for GeoForums tillitsvalgte. Her møtes lokalavdelingsledere\, faggruppeledere\, sekretariatet og styret til informasjons- og erfaringsutveksling.  Innspillene fra lederkonferansen tas med i styrets arbeid for å nå GeoForums mål. Sekretariatet ønsker tilbakemeldinger om hvilke forventninger dere har til sekretariatet. Hva er bra\, hva kan gjøres bedre? \nStyret vil informere om forslag til strategiplanen for 2016- 2018. Denne  skal legges frem til behandling på representantskapsmøte 2016. Styrets forslag til arbeidsprogram og budsjett presenteres på lederkonferansen før behandling av styret. \nProgram \n  \n  \n 
URL:https://geoforum.no/event/geoforums-lederkonferanse-2015/
LOCATION:Scandic Oslo City\, Europarådets plass 1\, Oslo\, 0154
CATEGORIES:Konferanse
GEO:59.9119683;10.7492356
X-APPLE-STRUCTURED-LOCATION;VALUE=URI;X-ADDRESS=Scandic Oslo City Europarådets plass 1 Oslo 0154;X-APPLE-RADIUS=500;X-TITLE=Europarådets plass 1:geo:10.7492356,59.9119683
END:VEVENT
BEGIN:VEVENT
DTSTART;TZID=Europe/Oslo:20151118T090000
DTEND;TZID=Europe/Oslo:20151119T153000
DTSTAMP:20260425T032821
CREATED:20150511T120541Z
LAST-MODIFIED:20151019T122206Z
UID:10005855-1447837200-1447947000@geoforum.no
SUMMARY:Geodesi- og hydrografidagene 2015
DESCRIPTION:Geodesi- og hydrografidagene 2015 arrangeres på Sundvolden hotell 18.-19. november. \nProgram Geodesi- og hydrografidagene 2015 \nPåmelding
URL:https://geoforum.no/event/geodesi-og-hydrografidagene-2015/
LOCATION:Sundvolden hotell\, Dronningveien 2\, Krokkleiva\, 3531
CATEGORIES:Konferanse
GEO:60.0620401;10.3104302
X-APPLE-STRUCTURED-LOCATION;VALUE=URI;X-ADDRESS=Sundvolden hotell Dronningveien 2 Krokkleiva 3531;X-APPLE-RADIUS=500;X-TITLE=Dronningveien 2:geo:10.3104302,60.0620401
END:VEVENT
BEGIN:VEVENT
DTSTART;TZID=Europe/Oslo:20151118T093000
DTEND;TZID=Europe/Oslo:20151118T140000
DTSTAMP:20260425T032821
CREATED:20151019T062330Z
LAST-MODIFIED:20151104T082237Z
UID:10011123-1447839000-1447855200@geoforum.no
SUMMARY:Fagdag om punktskyer og bruk av laserdata
DESCRIPTION:Program-fagdag-laserdata \nPåmelding
URL:https://geoforum.no/event/fagdag-om-forvaltning-og-bruk-av-laserdata/
LOCATION:Høgskolen i Gjøvik\, Teknologivegen 22\, Gjøvik\, 2815
CATEGORIES:Temadag lokalt
GEO:60.7888182;10.6808757
X-APPLE-STRUCTURED-LOCATION;VALUE=URI;X-ADDRESS=Høgskolen i Gjøvik Teknologivegen 22 Gjøvik 2815;X-APPLE-RADIUS=500;X-TITLE=Teknologivegen 22:geo:10.6808757,60.7888182
END:VEVENT
BEGIN:VEVENT
DTSTART;TZID=Europe/Oslo:20151118T110000
DTEND;TZID=Europe/Oslo:20151118T180000
DTSTAMP:20260425T032821
CREATED:20151026T134034Z
LAST-MODIFIED:20151209T140234Z
UID:10011055-1447844400-1447869600@geoforum.no
SUMMARY:GIS-dagen i Bergen
DESCRIPTION:I anledning den internasjonale GIS dagen\, 18. november 2015\, ønsker Geoforum Hordaland i samarbeid med Institutt for Geografi ved Universitet i Bergen\, Institutt for byggfag ved Høgskolen i Bergen og Geodata AS å invitere til et dagsseminar. Her vil ansatte og studenter med interesse for GIS og geomatikk få anledning til å møte geomatikkbrukere i offentlig forvaltning og privat næringsliv\, samt utviklere av GIS-programmer og løsninger. \n  \nGIS_DAGEN_18nov2015_0911 \nPåmelding
URL:https://geoforum.no/event/gis-dagen-i-bergen-2/
LOCATION:Det akademiske kvarter (Tivoli)\, Olav Kyrres gate 9\, Bergen
CATEGORIES:Temadag lokalt
GEO:60.3923519;5.3248503
X-APPLE-STRUCTURED-LOCATION;VALUE=URI;X-ADDRESS=Det akademiske kvarter (Tivoli) Olav Kyrres gate 9 Bergen;X-APPLE-RADIUS=500;X-TITLE=Olav Kyrres gate 9:geo:5.3248503,60.3923519
END:VEVENT
BEGIN:VEVENT
DTSTART;TZID=Europe/Oslo:20151123T093000
DTEND;TZID=Europe/Oslo:20151124T150000
DTSTAMP:20260425T032821
CREATED:20150302T102339Z
LAST-MODIFIED:20151015T123418Z
UID:10011101-1448271000-1448377200@geoforum.no
SUMMARY:Regionale geomatikkdager Telemark\, Vestfold og Østfold
DESCRIPTION:Regionale geomatikkdager for Telemark\, Vestfold og Østfold arrangeres i år i Son. \nRegionale Geomatikkdager 2015 Østfold-Vestfold-Telemark \nPåmelding
URL:https://geoforum.no/event/regionale-geomatikkdager-telemark-vestfold-og-ostfold/
LOCATION:Quality Spa & Resort Son\, Hollandvnvei 30\, Son\, 1555
CATEGORIES:Lokale geomatikkdager
ATTACH;FMTTYPE=image/jpeg:https://geoforum.no/wp-content/uploads/2015/03/vikfoto-son-spa-4479.jpg
GEO:59.5216705;10.6884938
X-APPLE-STRUCTURED-LOCATION;VALUE=URI;X-ADDRESS=Quality Spa & Resort Son Hollandvnvei 30 Son 1555;X-APPLE-RADIUS=500;X-TITLE=Hollandvnvei 30:geo:10.6884938,59.5216705
END:VEVENT
BEGIN:VEVENT
DTSTART;TZID=Europe/Oslo:20151124T080000
DTEND;TZID=Europe/Oslo:20151124T170000
DTSTAMP:20260425T032821
CREATED:20150819T122654Z
LAST-MODIFIED:20151005T115902Z
UID:10011116-1448352000-1448384400@geoforum.no
SUMMARY:GeoKlar - nasjonal beredskapskonferanse
DESCRIPTION:GeoForum og Kartverket skal også i år arrangere en beredskapskonferanse med utgangspunkt i geografiske data. Kart og geodata er et viktig informasjonsgrunnlag for nasjonale nødetater og beredskapsorganisasjoner\, og gode kart over sjø og land er avgjørende for enhver kriseplanlegging og – håndtering. Konferansen skal synliggjøre hvilke data som er tilgjengelig i dag\, og vise hvordan et felles kartgrunnlag kan skape bedre samhandling mellom aktørene i en beredskapssituasjon. Det vil også bli foredrag fra kommuner og andre beredskapsaktører. \nInvitasjon og program GeoKlar 2015 \nPåmelding
URL:https://geoforum.no/event/geoklar-nasjonal-beredskapskonferanse-3/
LOCATION:Clarion Hotel Oslo Airport\, Hans Gaarders vei 15\, Gardermoen\, Skedsmo\, 2060\, Norge
CATEGORIES:Konferanse
GEO:60.1975501;11.1004153
X-APPLE-STRUCTURED-LOCATION;VALUE=URI;X-ADDRESS=Clarion Hotel Oslo Airport Hans Gaarders vei 15 Gardermoen Skedsmo 2060 Norge;X-APPLE-RADIUS=500;X-TITLE=Hans Gaarders vei 15:geo:11.1004153,60.1975501
END:VEVENT
END:VCALENDAR