BEGIN:VCALENDAR
VERSION:2.0
PRODID:-//GeoForum - ECPv6.10.0//NONSGML v1.0//EN
CALSCALE:GREGORIAN
METHOD:PUBLISH
X-ORIGINAL-URL:https://geoforum.no
X-WR-CALDESC:Arrangement for GeoForum
REFRESH-INTERVAL;VALUE=DURATION:PT1H
X-Robots-Tag:noindex
X-PUBLISHED-TTL:PT1H
BEGIN:VTIMEZONE
TZID:Europe/Oslo
BEGIN:DAYLIGHT
TZOFFSETFROM:+0100
TZOFFSETTO:+0200
TZNAME:CEST
DTSTART:20150329T010000
END:DAYLIGHT
BEGIN:STANDARD
TZOFFSETFROM:+0200
TZOFFSETTO:+0100
TZNAME:CET
DTSTART:20151025T010000
END:STANDARD
END:VTIMEZONE
BEGIN:VEVENT
DTSTART;TZID=Europe/Oslo:20151012T083000
DTEND;TZID=Europe/Oslo:20151013T150000
DTSTAMP:20260425T044934
CREATED:20150810T115422Z
LAST-MODIFIED:20150903T080337Z
UID:10011114-1444638600-1444748400@geoforum.no
SUMMARY:Eiendomskonferansen 2015
DESCRIPTION:GeoForum Hordaland i samarbeid med Jordskifterettene i Hordaland\, Kartverket i Bergen og Høgskolen i Bergen ønsker velkommen til den årlige EIENDOMSKONFERANSEN.\nProgram Eiendomskonferansen 2015 \nPåmeldingen er nå stengt. De som ønsker å etterregistrere seg tar direkte kontakt med Torbjørn Steffensen\, tst(a)os-ho.kommune.no. \nPåmeldingsfrist: 31. august. Maks antall deltakere: 200
URL:https://geoforum.no/event/eiendomskonferansen-2015-2/
LOCATION:Solstrand Hotel & Bad\, Solstrandveien 200\, Os\, 5201
CATEGORIES:Konferanse
ATTACH;FMTTYPE=image/jpeg:https://geoforum.no/wp-content/uploads/2015/06/img.jpg
GEO:60.1890693;5.4876245
X-APPLE-STRUCTURED-LOCATION;VALUE=URI;X-ADDRESS=Solstrand Hotel & Bad Solstrandveien 200 Os 5201;X-APPLE-RADIUS=500;X-TITLE=Solstrandveien 200:geo:5.4876245,60.1890693
END:VEVENT
BEGIN:VEVENT
DTSTART;TZID=Europe/Oslo:20151013T090000
DTEND;TZID=Europe/Oslo:20151014T130000
DTSTAMP:20260425T044934
CREATED:20150511T115743Z
LAST-MODIFIED:20150511T120210Z
UID:10005854-1444726800-1444827600@geoforum.no
SUMMARY:Den Kloke Tegning 2015
DESCRIPTION:13.-14. oktober arrangeres Den Kloke Tegning\, på Scandic Fornebu. \nCall for papers \nPåmelding
URL:https://geoforum.no/event/den-kloke-tegning-2015/
LOCATION:Scandic Fornebu\, Martin Linges vei 2\, 1364
CATEGORIES:Konferanse
ATTACH;FMTTYPE=image/jpeg:https://geoforum.no/wp-content/uploads/2014/07/Lengdeprofil-DEG-med-logo-for-web.jpg
GEO:59.8972309;10.6323839
X-APPLE-STRUCTURED-LOCATION;VALUE=URI;X-ADDRESS=Scandic Fornebu Martin Linges vei 2 1364;X-APPLE-RADIUS=500;X-TITLE=Martin Linges vei 2:geo:10.6323839,59.8972309
END:VEVENT
BEGIN:VEVENT
DTSTART;TZID=Europe/Oslo:20151014T170000
DTEND;TZID=Europe/Oslo:20151015T150000
DTSTAMP:20260425T044934
CREATED:20150914T125230Z
LAST-MODIFIED:20150914T125230Z
UID:10011119-1444842000-1444921200@geoforum.no
SUMMARY:Fagsamling GeoForum Sørlandet
DESCRIPTION:GeoForum Sørlandet inviterer til fagsamling den 14. og 15. oktober på Strand Hotell Fevik. \n  \nProgram fagsamling GeoForum Sørlandet \nPåmelding
URL:https://geoforum.no/event/fagsamling-geoforum-sorlandet/
LOCATION:Strand Hotell Fevik\, Nedre Hausland 80\, Fevik\, 4870
GEO:58.3733551;8.6639375
X-APPLE-STRUCTURED-LOCATION;VALUE=URI;X-ADDRESS=Strand Hotell Fevik Nedre Hausland 80 Fevik 4870;X-APPLE-RADIUS=500;X-TITLE=Nedre Hausland 80:geo:8.6639375,58.3733551
END:VEVENT
BEGIN:VEVENT
DTSTART;TZID=Europe/Oslo:20151019T093000
DTEND;TZID=Europe/Oslo:20151019T150000
DTSTAMP:20260425T044934
CREATED:20150908T103806Z
LAST-MODIFIED:20151021T094822Z
UID:10011118-1445247000-1445266800@geoforum.no
SUMMARY:GeoForum Oslo/Akershus og Buskerud arangerer fagdag om forvaltning og bruk av laserdata
DESCRIPTION:Målgruppen for fagdagen «forvaltning og bruk av laserdata» er alle som jobber med kartdata\, herunder landmålere og arealplanleggere. Fagdagen vil gi en introduksjon til laserdata og vise status i de nasjonale prosjektene med å formidle laserdata og detaljerte høydemodeller til kartbrukere. Programvareleverandører vil også demonstrere bruk av laserdata og detaljerte høydemodeller i forvaltningsoppgaver og analyser. \nProgram \nPåmelding \nForedrag fra fagdagen
URL:https://geoforum.no/event/geoforum-osloakershus-og-buskerud-arangerer-fagdag-om-forvaltning-og-bruk-av-laserdata/
LOCATION:Norconsult i Sandvika\, Vestfjordgaten 4\, Sandvika\, Bærum\, Norge
CATEGORIES:Temadag lokalt
GEO:59.8906275;10.5221008
X-APPLE-STRUCTURED-LOCATION;VALUE=URI;X-ADDRESS=Norconsult i Sandvika Vestfjordgaten 4 Sandvika Bærum Norge;X-APPLE-RADIUS=500;X-TITLE=Vestfjordgaten 4:geo:10.5221008,59.8906275
END:VEVENT
BEGIN:VEVENT
DTSTART;TZID=Europe/Oslo:20151023T090000
DTEND;TZID=Europe/Oslo:20151023T093000
DTSTAMP:20260425T044934
CREATED:20151021T092353Z
LAST-MODIFIED:20151021T092353Z
UID:10011124-1445590800-1445592600@geoforum.no
SUMMARY:Gratis webinar Open Source/FME
DESCRIPTION:Norkart tilbyr gratis webinarer hver fredag fra 09-09.30. Deltar du på webinarer kan du får svar på dine spørsmål fra Norkarts FME og Open Source-eksperter! \nFME Workspace / kildekode\, eksempeldata og videoopptak samt en oppsummering vil bli delt med alle som har meldt seg på webinaret\, i etterkant av møtet. \nLes mer og meld deg på webinarer her \n  \nMulig innhold relatert til FME: \nSend inn dine caser og hva DU har mest nytte av å få mer informasjon om allerede nå ved å melde deg på nedenfor \nInnhold: \n\nIntro til ett tema (f.eks. SOSI\, 3D\, BIM\, Laser +++)\nGjennomgang av case fra brukere og delvise løsninger på disse.\n\nEksempel på tema: \n\nNyttige tips og triks for avanserte brukere?\nHvordan generere en terrengmodell fra laserdata?\nHvordan laste inn en WMS i FME?\nHvordan lese inn SOSI på en god måte med FME?\nHvordan skrive SOSI på en god måte med FME?\nHvordan sette opp en nedlastingsportal basert på FME Cloud / Server?\nHvordan validere data før skriving til en database?\nHvordan generere en PDF-rapport med kart og noe data?\n\nMulig innhold relatert til Open Source: \nSend inn dine caser og hva DU har mest nytte av å få mer informasjon om allerede nå ved å melde deg på nedenfor \n\nQGIS\nCartoDB\nMapbox\nGeoserver\nPostGIS\nLeaflet\nOpenlayers\nÅpne data\nTips og triks og arbeidsflyt\nHvordan få data inn og ut av klientene.
URL:https://geoforum.no/event/gratis-webinar-open-sourcefme/2015-10-23/
CATEGORIES:Eksterne kurs og konferanser
END:VEVENT
BEGIN:VEVENT
DTSTART;TZID=Europe/Oslo:20151026T090000
DTEND;TZID=Europe/Oslo:20151027T150000
DTSTAMP:20260425T044934
CREATED:20150924T090345Z
LAST-MODIFIED:20150924T090411Z
UID:10011121-1445850000-1445958000@geoforum.no
SUMMARY:Teknologiforum 2015
DESCRIPTION:Teknologiforum er en viktig del av Norge digitalt-samarbeidet. Forumet skal være et møtested for partene i Norge digitalt\, der felles løsninger på teknologiske utfordringer i tilknytning til den geografiske infrastrukturen diskuteres. Påmeldingsfrist  9. oktober. \nProgram og påmelding – trykk her \nForumet vil i år legge vekt på å trekke fram diskusjoner om effektivisering\, samordning og bruk av standarder i forvaltningen\, foredling av tjenester fra test til profesjonell drift og ytterligere belyse utfordringer og muligheter innen BIM og 3D. \nDet er stadig økende forventninger til leveranser til samfunnet fra offentlig forvaltning og kanskje spesielt til Norge digitalt samarbeidet\, inklusiv alle aktørene rundt som sikrer realisering av nye og videreutviklete løsninger. Vi håper at årets forum og workshops skal bidra positivt for å innfri forventningene!
URL:https://geoforum.no/event/teknologiforum-2015/
LOCATION:Clarion Hotel Oslo Airport\, Hans Gaarders vei 15\, Gardermoen\, Skedsmo\, 2060\, Norge
CATEGORIES:Eksterne kurs og konferanser
GEO:60.1975501;11.1004153
X-APPLE-STRUCTURED-LOCATION;VALUE=URI;X-ADDRESS=Clarion Hotel Oslo Airport Hans Gaarders vei 15 Gardermoen Skedsmo 2060 Norge;X-APPLE-RADIUS=500;X-TITLE=Hans Gaarders vei 15:geo:11.1004153,60.1975501
END:VEVENT
BEGIN:VEVENT
DTSTART;TZID=Europe/Oslo:20151028T093000
DTEND;TZID=Europe/Oslo:20151030T150000
DTSTAMP:20260425T044934
CREATED:20150609T194021Z
LAST-MODIFIED:20150609T194340Z
UID:10005860-1446024600-1446217200@geoforum.no
SUMMARY:GISLINE Brukermøte 2015
DESCRIPTION:GISLINE Brukermøte 2015 arrangeres  i år 28.-30. oktober på Hotell Expo Fornebu i Oslo.\nHer vil du møte flere hundre brukere innen ditt fagfelt\, og du vil få en miks av faglig påfyll\, teknologi og sosialt samvær med god underholdning.  Vi forsetter suksessen med en egen kursdag på onsdagen. \nMer informasjon og foreløpig program vil bli annonsert før sommerferien her \n 
URL:https://geoforum.no/event/gisline-brukermote-2015/
CATEGORIES:Eksterne kurs og konferanser
ATTACH;FMTTYPE=image/jpeg:https://geoforum.no/wp-content/uploads/2015/06/main_expo_jpg.jpg
END:VEVENT
END:VCALENDAR