BEGIN:VCALENDAR
VERSION:2.0
PRODID:-//GeoForum - ECPv6.10.0//NONSGML v1.0//EN
CALSCALE:GREGORIAN
METHOD:PUBLISH
X-WR-CALNAME:GeoForum
X-ORIGINAL-URL:https://geoforum.no
X-WR-CALDESC:Arrangement for GeoForum
REFRESH-INTERVAL;VALUE=DURATION:PT1H
X-Robots-Tag:noindex
X-PUBLISHED-TTL:PT1H
BEGIN:VTIMEZONE
TZID:Europe/Oslo
BEGIN:DAYLIGHT
TZOFFSETFROM:+0100
TZOFFSETTO:+0200
TZNAME:CEST
DTSTART:20150329T010000
END:DAYLIGHT
BEGIN:STANDARD
TZOFFSETFROM:+0200
TZOFFSETTO:+0100
TZNAME:CET
DTSTART:20151025T010000
END:STANDARD
END:VTIMEZONE
BEGIN:VEVENT
DTSTART;TZID=Europe/Oslo:20150414T100000
DTEND;TZID=Europe/Oslo:20150415T153000
DTSTAMP:20260425T123538
CREATED:20150325T103317Z
LAST-MODIFIED:20150325T103317Z
UID:10011102-1429005600-1429111800@geoforum.no
SUMMARY:Temadager dokumentasjon fra oppmålingsforretning\, tinglysning og seksjonering
DESCRIPTION:Etter ønske fra kommunene arrangerer GeoForum Trøndelag i samarbeid med Kartverket Steinkjer og Kartverket Trondheim temadager i dokumentasjon fra oppmålingsforretning\, tinglysning og seksjonering. \nVi oppfordrer dem som jobber med dette til å sette av disse to dagene før feltsesongen starter til faglig påfyll med smakebiter fra disse temaene. \nTemadagene arrangeres 14 – 15. april på Statens Hus på Steinkjer og i Trondheim. \n  \nProgram temadager Steinkjer og Trondheim \nPåmelding \n 
URL:https://geoforum.no/event/temadager-dokumentasjon-fra-oppmalingsforretning-tinglysning-og-seksjonering/
LOCATION:Steinkjer og Trondheim
CATEGORIES:Temadag lokalt
END:VEVENT
BEGIN:VEVENT
DTSTART;VALUE=DATE:20150422
DTEND;VALUE=DATE:20150423
DTSTAMP:20260425T123538
CREATED:20150409T073235Z
LAST-MODIFIED:20150416T114036Z
UID:10011103-1429660800-1429747199@geoforum.no
SUMMARY:Fagdag i oppmålingsforretning GeoForum Nordland
DESCRIPTION:Geoforum Nordland i samarbeid med Kartverket inviterer til fagdag i oppmålingsforretning. \n22. april kl 08.30 i bystyresalen på rådhuset i Bodø kommune. \nPris: 300\,- \nPåmeldingsfrist: 17. april \nInvitasjon Fagdag oppmålingsforretning \nPåmelding \n 
URL:https://geoforum.no/event/fagdag-i-oppmalingsforretning-geoforum-nordland/
LOCATION:Bystyresalen rådhuset i Bodø
CATEGORIES:Temadag lokalt
END:VEVENT
BEGIN:VEVENT
DTSTART;TZID=Europe/Oslo:20150423T090000
DTEND;TZID=Europe/Oslo:20150423T170000
DTSTAMP:20260425T123538
CREATED:20150413T095225Z
LAST-MODIFIED:20150413T095225Z
UID:10005851-1429779600-1429808400@geoforum.no
SUMMARY:GIS dagen i Bergen
DESCRIPTION:GeoForum Hordaland i samarbeid med Høgskolen i Bergen inviterer til GIS dagen 2015. \nGIS_DAGEN_2015 \nPåmelding
URL:https://geoforum.no/event/gis-dagen-i-bergen/
LOCATION:Høgskolen i Bergen\, Campus Krokstad\, Innendalsveien 28\, Bergen
CATEGORIES:Temadag lokalt
GEO:60.3691397;5.3495817
X-APPLE-STRUCTURED-LOCATION;VALUE=URI;X-ADDRESS=Høgskolen i Bergen Campus Krokstad Innendalsveien 28 Bergen;X-APPLE-RADIUS=500;X-TITLE=Innendalsveien 28:geo:5.3495817,60.3691397
END:VEVENT
END:VCALENDAR