BEGIN:VCALENDAR
VERSION:2.0
PRODID:-//GeoForum - ECPv6.10.0//NONSGML v1.0//EN
CALSCALE:GREGORIAN
METHOD:PUBLISH
X-WR-CALNAME:GeoForum
X-ORIGINAL-URL:https://geoforum.no
X-WR-CALDESC:Arrangement for GeoForum
REFRESH-INTERVAL;VALUE=DURATION:PT1H
X-Robots-Tag:noindex
X-PUBLISHED-TTL:PT1H
BEGIN:VTIMEZONE
TZID:Europe/Oslo
BEGIN:DAYLIGHT
TZOFFSETFROM:+0100
TZOFFSETTO:+0200
TZNAME:CEST
DTSTART:20150329T010000
END:DAYLIGHT
BEGIN:STANDARD
TZOFFSETFROM:+0200
TZOFFSETTO:+0100
TZNAME:CET
DTSTART:20151025T010000
END:STANDARD
END:VTIMEZONE
BEGIN:VEVENT
DTSTART;TZID=Europe/Oslo:20150202T093000
DTEND;TZID=Europe/Oslo:20150203T150000
DTSTAMP:20260425T152514
CREATED:20140918T212021Z
LAST-MODIFIED:20150108T142435Z
UID:10011088-1422869400-1422975600@geoforum.no
SUMMARY:Stikningskonferansen 2015
DESCRIPTION:Aktiviteten innen bygg- og anleggsnæringen er stor\, og prosjektene er mange og ofte kompliserte. De formelle rammene er i forandring\, krav til kompetanse og dokumentasjon øker og ny teknologi\, og programvare er i stadig utvikling. Med dette som bakgrunn ønsker GeoForum i samarbeid med bransjen å gjennomføre Stikningskonferansen for 31. gang med fokus på brukerne. Dette for å skape en felles arena for praktiske utøvere innen offentlig og privat virksomhet\, både de som direkte arbeider med oppmåling som for eksempel anleggs- og byggrelatert stikning\, oppmålingsfirma og store og små entreprenørfirma\, samt leverandører av produkter og tjenester. \n  \nProgram-Stikningskonferansen-2015 \nPåmelding
URL:https://geoforum.no/event/stikningskonferansen-2015/
LOCATION:Clarion Hotel Oslo Airport\, Hans Gaarders vei 15\, Gardermoen\, Skedsmo\, 2060\, Norge
CATEGORIES:Konferanse
ORGANIZER;CN="GeoForum":MAILTO:marianne@geoforum.no
GEO:60.1975501;11.1004153
X-APPLE-STRUCTURED-LOCATION;VALUE=URI;X-ADDRESS=Clarion Hotel Oslo Airport Hans Gaarders vei 15 Gardermoen Skedsmo 2060 Norge;X-APPLE-RADIUS=500;X-TITLE=Hans Gaarders vei 15:geo:11.1004153,60.1975501
END:VEVENT
BEGIN:VEVENT
DTSTART;TZID=Europe/Oslo:20150204T080000
DTEND;TZID=Europe/Oslo:20150205T160000
DTSTAMP:20260425T152514
CREATED:20141016T101634Z
LAST-MODIFIED:20141017T125953Z
UID:10011094-1423036800-1423152000@geoforum.no
SUMMARY:Esri norsk brukerkonferanse
DESCRIPTION:  \nGeodata inviterertil Esri norsk brukerkonferanse\,\n\n \nMer informasjon om brukerkonferansen
URL:https://geoforum.no/event/esri-norsk-brukerkonferanse/
LOCATION:Scandic Hotel Fornebu\, Martin Lingesvei 2 \, Forebu\, 1384
CATEGORIES:Eksterne kurs og konferanser
ATTACH;FMTTYPE=image/jpeg:https://geoforum.no/wp-content/uploads/2014/10/geodata_nyhetbr_spar15_sh_lilla_600x150.jpg
GEO:59.8972309;10.6323839
X-APPLE-STRUCTURED-LOCATION;VALUE=URI;X-ADDRESS=Scandic Hotel Fornebu Martin Lingesvei 2  Forebu 1384;X-APPLE-RADIUS=500;X-TITLE=Martin Lingesvei 2:geo:10.6323839,59.8972309
END:VEVENT
BEGIN:VEVENT
DTSTART;TZID=Europe/Oslo:20150226T091500
DTEND;TZID=Europe/Oslo:20150226T150000
DTSTAMP:20260425T152514
CREATED:20141218T110959Z
LAST-MODIFIED:20141219T072728Z
UID:10011099-1424942100-1424962800@geoforum.no
SUMMARY:Temadag deling av eiendom
DESCRIPTION:GeoForum Rogaland inviterer til temadag – deling av eiendom\, som avholdes i auditoriet hos Vegvesenet  i Stavanger. \nMålgruppen for konferansen er de som arbeider som saksbehandlere i delingssaker og de som gjennomfører oppmålingsforretningen \n  \nTemadag deling av eiendom \nPåmeldingsskjema
URL:https://geoforum.no/event/temadag-deling-av-eiendom/
LOCATION:Statens vegvesen\, Lagårdsveien 80\, Stavanger\, 4010
CATEGORIES:Temadag lokalt
GEO:58.9574234;5.740779
X-APPLE-STRUCTURED-LOCATION;VALUE=URI;X-ADDRESS=Statens vegvesen Lagårdsveien 80 Stavanger 4010;X-APPLE-RADIUS=500;X-TITLE=Lagårdsveien 80:geo:5.740779,58.9574234
END:VEVENT
END:VCALENDAR