BEGIN:VCALENDAR
VERSION:2.0
PRODID:-//GeoForum - ECPv6.10.0//NONSGML v1.0//EN
CALSCALE:GREGORIAN
METHOD:PUBLISH
X-WR-CALNAME:GeoForum
X-ORIGINAL-URL:https://geoforum.no
X-WR-CALDESC:Arrangement for GeoForum
REFRESH-INTERVAL;VALUE=DURATION:PT1H
X-Robots-Tag:noindex
X-PUBLISHED-TTL:PT1H
BEGIN:VTIMEZONE
TZID:Europe/Oslo
BEGIN:DAYLIGHT
TZOFFSETFROM:+0100
TZOFFSETTO:+0200
TZNAME:CEST
DTSTART:20150329T010000
END:DAYLIGHT
BEGIN:STANDARD
TZOFFSETFROM:+0200
TZOFFSETTO:+0100
TZNAME:CET
DTSTART:20151025T010000
END:STANDARD
END:VTIMEZONE
BEGIN:VEVENT
DTSTART;TZID=Europe/Oslo:20150113T093000
DTEND;TZID=Europe/Oslo:20150114T150000
DTSTAMP:20260425T165647
CREATED:20140918T211655Z
LAST-MODIFIED:20141215T122956Z
UID:10011087-1421141400-1421247600@geoforum.no
SUMMARY:X\, Y og Z
DESCRIPTION:Arrangementet er en felles arena for både beslutningstakere og praktiske utøvere som arbeider med infrastruktur både over og under bakken. Målgruppen er således utøvere/landmålere\, bestillere\, forvaltere\, systemleverandører og systemeiere. Disse kan for eksempel komme fra privat og offentlige organisasjoner som entreprenører\, NSB\, Statnett\, kommuner\, vegvesen\, kabel-/fiberleggere\, energiselskap\, konsulenter\, olje/gass osv.\nDet er rikelig med pauser/utstillingsvandring\, og en lav terskel for å kommentere og å stille spørsmål. Det er ønskelig å samle store og små aktører innen VA\, el og tele/fiber. Det vil bli satt opp tema for felles interesse\, både i plenum og parallelle sesjoner. \n  \nInvitasjon_XYZ_2015_ \nPåmelding
URL:https://geoforum.no/event/x-y-og-z/
LOCATION:Raddisson Blu Norge\, Bergen\,  Nedre Ole Bulls Plass 4 \, Bergen\, Bergen\, 5807\, Norge
CATEGORIES:Konferanse
ORGANIZER;CN="GeoForum":MAILTO:marianne@geoforum.no
GEO:60.391448;5.3234523
X-APPLE-STRUCTURED-LOCATION;VALUE=URI;X-ADDRESS=Raddisson Blu Norge Bergen  Nedre Ole Bulls Plass 4  Bergen Bergen 5807 Norge;X-APPLE-RADIUS=500;X-TITLE=Nedre Ole Bulls Plass 4:geo:5.3234523,60.391448
END:VEVENT
BEGIN:VEVENT
DTSTART;TZID=Europe/Oslo:20150119T093000
DTEND;TZID=Europe/Oslo:20150120T153000
DTSTAMP:20260425T165647
CREATED:20140731T101702Z
LAST-MODIFIED:20141023T081246Z
UID:10011070-1421659800-1421767800@geoforum.no
SUMMARY:GeoForum Buskerud\, Oslo og Akershus arrangerer lokale geomatikkdager på Norefjell
DESCRIPTION:GeoForum Buskerud og GeoForum Oslo og Akershus fortsetter samarbeidet og ønsker velkommen til lokale geomatikkdager 2015. \nProgrammet spenner som vanlig over mange interessante temaer \ninnenfor Geomatikkbransjen\, og vi håper du finner foredrag som fanger nettopp din nysgjerrighet. \nProgram \nPåmelding
URL:https://geoforum.no/event/geoforum-buskerud-oslo-og-akershus-arrangerer-lokale-geomatikkdager-pa-norefjell/
LOCATION:Quality Spa & resort\, Norefjell\,  Bøeseter\, 3536\, Norge
CATEGORIES:Lokale geomatikkdager
ATTACH;FMTTYPE=image/jpeg:https://geoforum.no/wp-content/uploads/2014/07/Norefjell2013-001.jpg
ORGANIZER;CN="GeoForum Buskerud%2C Oslo og Akershus":MAILTO:marius.garnaas@hallingkonsult.no
END:VEVENT
BEGIN:VEVENT
DTSTART;TZID=Europe/Oslo:20150120T090000
DTEND;TZID=Europe/Oslo:20150121T140000
DTSTAMP:20260425T165647
CREATED:20141116T211424Z
LAST-MODIFIED:20150113T214918Z
UID:10011097-1421744400-1421848800@geoforum.no
SUMMARY:Lokale geomatikkdager i Trøndelag
DESCRIPTION:GeoForum Trøndelag inviterer til lokale Geomatikkdager 2015\, årets forum for produsenter og brukere av geografisk informasjon i Trøndelagsregionen. I år ønsker vi velkommen til Røros Hotell for faglig utveksling\, nettverksbygging og sosialt samvær. Vi har valgt å treffes på et historisk sted fordi vi i år feire at GeoForum Trøndelag fyller 50 år i 2015!  \nPåmeldingsfrist er 1. desember. \n  \nPROGRAM_Geomatikdagerne 20-21 januar_2015 \nGeomatikdagerne_20-21 januar_2015 \nPåmelding
URL:https://geoforum.no/event/lokale-geomatikkdager-i-trondelag/
LOCATION:Røros Hotell\, An-Margitts vei\, Røros\, 7374
ATTACH;FMTTYPE=image/png:https://geoforum.no/wp-content/uploads/2014/11/GeoForumTrøndelag_50år.png
GEO:62.5748112;11.3841068
X-APPLE-STRUCTURED-LOCATION;VALUE=URI;X-ADDRESS=Røros Hotell An-Margitts vei Røros 7374;X-APPLE-RADIUS=500;X-TITLE=An-Margitts vei:geo:11.3841068,62.5748112
END:VEVENT
END:VCALENDAR