BEGIN:VCALENDAR
VERSION:2.0
PRODID:-//GeoForum - ECPv6.10.0//NONSGML v1.0//EN
CALSCALE:GREGORIAN
METHOD:PUBLISH
X-ORIGINAL-URL:https://geoforum.no
X-WR-CALDESC:Arrangement for GeoForum
REFRESH-INTERVAL;VALUE=DURATION:PT1H
X-Robots-Tag:noindex
X-PUBLISHED-TTL:PT1H
BEGIN:VTIMEZONE
TZID:Europe/Oslo
BEGIN:DAYLIGHT
TZOFFSETFROM:+0100
TZOFFSETTO:+0200
TZNAME:CEST
DTSTART:20140330T010000
END:DAYLIGHT
BEGIN:STANDARD
TZOFFSETFROM:+0200
TZOFFSETTO:+0100
TZNAME:CET
DTSTART:20141026T010000
END:STANDARD
END:VTIMEZONE
BEGIN:VEVENT
DTSTART;TZID=Europe/Oslo:20141103T090000
DTEND;TZID=Europe/Oslo:20141104T130000
DTSTAMP:20260425T192546
CREATED:20140918T194221Z
LAST-MODIFIED:20150609T201052Z
UID:10011081-1415005200-1415106000@geoforum.no
SUMMARY:ISY dagene 2014
DESCRIPTION:ISY dagene er Noconult informasjonssystemers brukermøte.  \nFor mer informasjon\, program og påmelding
URL:https://geoforum.no/event/isy-dagene/
LOCATION:Clarion Hotel & Congress Trondheim\, Brattørkaia 1\, Trondheim 7010 Trondheim\, 7010
CATEGORIES:Eksterne kurs og konferanser
ORGANIZER;CN="Norconsult Informasjonssytemer":MAILTO:merethe.wold.sagen@norconsult.com
GEO:63.4338348;10.4021128
X-APPLE-STRUCTURED-LOCATION;VALUE=URI;X-ADDRESS=Clarion Hotel & Congress Trondheim Brattørkaia 1 Trondheim 7010 Trondheim 7010;X-APPLE-RADIUS=500;X-TITLE=Brattørkaia 1:geo:10.4021128,63.4338348
END:VEVENT
BEGIN:VEVENT
DTSTART;TZID=Europe/Oslo:20141106T092500
DTEND;TZID=Europe/Oslo:20141106T150000
DTSTAMP:20260425T192546
CREATED:20140918T195107Z
LAST-MODIFIED:20141107T100555Z
UID:10011082-1415265900-1415286000@geoforum.no
SUMMARY:Oppmålingsforretning\, fra vedtak til matrikkelføring
DESCRIPTION:Seminaret har som mål at deltakerne skal etablere gode rutiner for gjennomføring av oppmålingssaker etter matrikkelloven i sin kommune.\nProgram \nForedrag \n 
URL:https://geoforum.no/event/oppmalingsforretning-fra-vedtak-til-matrikkelforing/
LOCATION:Clarion Hotel Oslo Airport\, Hans Gaarders vei 15\, Gardermoen\, Skedsmo\, 2060\, Norge
CATEGORIES:Seminar
ATTACH;FMTTYPE=image/jpeg:https://geoforum.no/wp-content/uploads/2014/09/IMG_0796.jpg
ORGANIZER;CN="GeoForum":MAILTO:marianne@geoforum.no
GEO:60.1975501;11.1004153
X-APPLE-STRUCTURED-LOCATION;VALUE=URI;X-ADDRESS=Clarion Hotel Oslo Airport Hans Gaarders vei 15 Gardermoen Skedsmo 2060 Norge;X-APPLE-RADIUS=500;X-TITLE=Hans Gaarders vei 15:geo:11.1004153,60.1975501
END:VEVENT
BEGIN:VEVENT
DTSTART;TZID=Europe/Oslo:20141110T083000
DTEND;TZID=Europe/Oslo:20141110T153000
DTSTAMP:20260425T192546
CREATED:20141018T093608Z
LAST-MODIFIED:20141114T092311Z
UID:10011096-1415608200-1415633400@geoforum.no
SUMMARY:GeoForum Oslo og Akershus arangerer fagdag om kvalitetsheving av Matrikkelen i en kommunal hverdag
DESCRIPTION:Program \nForedrag fra fagdagen
URL:https://geoforum.no/event/geoforum-oslo-og-akershus-arangerer-fagdag-om-kvalitetsheving-av-matrikkelen-i-en-kommunal-hverdag/
LOCATION:Plan- og bygningsetaten\, Oslo kommune\, Vahls gate 1\, Oslo\, 0187
CATEGORIES:Temadag lokalt
ORGANIZER;CN="GeoForum Oslo og Akershus":MAILTO:even.stangebye@avinor.no
GEO:59.9159233;10.7632498
X-APPLE-STRUCTURED-LOCATION;VALUE=URI;X-ADDRESS=Plan- og bygningsetaten Oslo kommune Vahls gate 1 Oslo 0187;X-APPLE-RADIUS=500;X-TITLE=Vahls gate 1:geo:10.7632498,59.9159233
END:VEVENT
BEGIN:VEVENT
DTSTART;TZID=Europe/Oslo:20141111T100000
DTEND;TZID=Europe/Oslo:20141112T150000
DTSTAMP:20260425T192546
CREATED:20141001T085524Z
LAST-MODIFIED:20141001T085524Z
UID:10011093-1415700000-1415804400@geoforum.no
SUMMARY:Kartverket arrangerer Teknologiforum
DESCRIPTION:Teknologiforum er en viktig del av Norge-digitalt-samarbeidet. forumet skal være et møtested for partene i norge digitalt\, der felles løsninger på teknologiske utfordringer i tilknytning til den geografiske infrastrukturen diskuteres. \nFokus på årets workshop vil knyttes opp mot teknologiske krav til data og tjenester slik at disse er lett tilgjengelige for ulike anvendelser. Hvordan sikre at dataene dekker brukerbehovene (herunder tilstrekkelig kvalitet) og at disse tilrettelegges på en form som gjør dem anvendbare for sluttbrukere og som ledd i ulike prosesser. \n  \nMer informasjon\, program og påmelding finner du her
URL:https://geoforum.no/event/kartverket-arrangerer-teknologiforum/
LOCATION:Comfort Hotel RunWay  Gardermoen\, Hans Gaardersvei 27 \, Gardermoen\, 2060
CATEGORIES:Eksterne kurs og konferanser
GEO:60.1928981;11.0705735
X-APPLE-STRUCTURED-LOCATION;VALUE=URI;X-ADDRESS=Comfort Hotel RunWay  Gardermoen Hans Gaardersvei 27  Gardermoen 2060;X-APPLE-RADIUS=500;X-TITLE=Hans Gaardersvei 27:geo:11.0705735,60.1928981
END:VEVENT
BEGIN:VEVENT
DTSTART;TZID=Europe/Oslo:20141112T093000
DTEND;TZID=Europe/Oslo:20141113T150000
DTSTAMP:20260425T192546
CREATED:20140918T203353Z
LAST-MODIFIED:20141013T142252Z
UID:10011084-1415784600-1415890800@geoforum.no
SUMMARY:Geodesi- og hydrografidagene
DESCRIPTION:Arrangementet gjennomføres for 28. gang og er et samarbeid mellom GeoForum og Kartverket.. Konferansen er et forum for presentasjon og diskusjon av aktuelle tema innen geodesi og hydrografi\, med blanding av teoretiske og praktiske emner. Det tilstrebes et høyt faglig nivå\, men det stilles ikke andre kvalifikasjonskrav til deltagerne enn interesse for fagområdene. Det er også ønskelig at innholdet skal ha størst mulig relevans for den daglige jobben. \nInvitasjon Geodesi- og hydrografidagene 2014 \nPåmelding
URL:https://geoforum.no/event/geodesi-og-hydrografidagene/
LOCATION:Sola Strand Hotel\, Axel Lunds veg 27\,  Sola\, 4050\, Norge
CATEGORIES:Konferanse
ORGANIZER;CN="GeoForum":MAILTO:sverre@geoforum.no
GEO:58.885057;5.6048095
X-APPLE-STRUCTURED-LOCATION;VALUE=URI;X-ADDRESS=Sola Strand Hotel Axel Lunds veg 27  Sola 4050 Norge;X-APPLE-RADIUS=500;X-TITLE=Axel Lunds veg 27:geo:5.6048095,58.885057
END:VEVENT
BEGIN:VEVENT
DTSTART;TZID=Europe/Oslo:20141112T093000
DTEND;TZID=Europe/Oslo:20141113T153000
DTSTAMP:20260425T192546
CREATED:20140918T201706Z
LAST-MODIFIED:20140918T201706Z
UID:10011083-1415784600-1415892600@geoforum.no
SUMMARY:Lokale kartdager i Møre og Romsdal
DESCRIPTION:GeoForum Møre og Romsdal inviterer kompetansesugne kartfolk til ei faglig og hyggelig samling i Molde. \nProgram \nPåmelding
URL:https://geoforum.no/event/lokale-kartdager-i-more-og-romsdal/
LOCATION:Quality Hotel Alexandra\, Storgaten 1-7\, Molde\, 6413
CATEGORIES:Lokale geomatikkdager
ORGANIZER;CN="GeoForum M%C3%B8re og Romsdal":MAILTO:wenche.mork@kartverket.no
GEO:62.7348379;7.1543127
X-APPLE-STRUCTURED-LOCATION;VALUE=URI;X-ADDRESS=Quality Hotel Alexandra Storgaten 1-7 Molde 6413;X-APPLE-RADIUS=500;X-TITLE=Storgaten 1-7:geo:7.1543127,62.7348379
END:VEVENT
BEGIN:VEVENT
DTSTART;TZID=Europe/Oslo:20141118T090000
DTEND;TZID=Europe/Oslo:20141118T153000
DTSTAMP:20260425T192546
CREATED:20141016T135021Z
LAST-MODIFIED:20141126T155310Z
UID:10011095-1416301200-1416324600@geoforum.no
SUMMARY:GeoForum Hedmark og Oppland arrangerer fagdag om samferdsel
DESCRIPTION:Fagdagen «Samferdsel» vil ha hovedfokus på de mest sentrale grunndatene. Det vil bli gjennomgang av Prosjektet Landbruksveger\, demo av NVDB 123 samt fokus på dataflyt internt og mellom organisasjonene. Fagdagen passer for alle som er opptatt av veg enten digitalt eller mer praktisk rettet. Fagdagen er en viktig arena for å møtes og diskutere ulike tema\, samt skape grunnlaget for enda bedre samarbeid. Dagen avsluttes med Fylkesårsmøte i Norge Digitalt. \nProgram fagdag samferdsel \nForedrag fra fagdag om samferdsel \n 
URL:https://geoforum.no/event/geoforum-hedmark-og-oppland-arrangerer-fagdag-om-samferdsel/
LOCATION:Kartverket Hamar\, Vangsvegen 73\, Hamar\, 2317
CATEGORIES:Temadag lokalt
GEO:60.7956996;11.080688
X-APPLE-STRUCTURED-LOCATION;VALUE=URI;X-ADDRESS=Kartverket Hamar Vangsvegen 73 Hamar 2317;X-APPLE-RADIUS=500;X-TITLE=Vangsvegen 73:geo:11.080688,60.7956996
END:VEVENT
END:VCALENDAR