BEGIN:VCALENDAR
VERSION:2.0
PRODID:-//GeoForum - ECPv6.10.0//NONSGML v1.0//EN
CALSCALE:GREGORIAN
METHOD:PUBLISH
X-ORIGINAL-URL:https://geoforum.no
X-WR-CALDESC:Arrangement for GeoForum
REFRESH-INTERVAL;VALUE=DURATION:PT1H
X-Robots-Tag:noindex
X-PUBLISHED-TTL:PT1H
BEGIN:VTIMEZONE
TZID:Europe/Oslo
BEGIN:DAYLIGHT
TZOFFSETFROM:+0100
TZOFFSETTO:+0200
TZNAME:CEST
DTSTART:20240331T010000
END:DAYLIGHT
BEGIN:STANDARD
TZOFFSETFROM:+0200
TZOFFSETTO:+0100
TZNAME:CET
DTSTART:20241027T010000
END:STANDARD
END:VTIMEZONE
BEGIN:VEVENT
DTSTART;TZID=Europe/Oslo:20241203T140000
DTEND;TZID=Europe/Oslo:20241203T160000
DTSTAMP:20260423T145004
CREATED:20240221T075257Z
LAST-MODIFIED:20241127T105415Z
UID:10011513-1733234400-1733241600@geoforum.no
SUMMARY:GI Norden webinar series: Geo AI
DESCRIPTION:Program og påmelding finner du her
URL:https://geoforum.no/event/gi-norden-webinar-geo-ai/
CATEGORIES:Webinar
END:VEVENT
END:VCALENDAR