BEGIN:VCALENDAR
VERSION:2.0
PRODID:-//GeoForum - ECPv6.10.0//NONSGML v1.0//EN
CALSCALE:GREGORIAN
METHOD:PUBLISH
X-WR-CALNAME:GeoForum
X-ORIGINAL-URL:https://geoforum.no
X-WR-CALDESC:Arrangement for GeoForum
REFRESH-INTERVAL;VALUE=DURATION:PT1H
X-Robots-Tag:noindex
X-PUBLISHED-TTL:PT1H
BEGIN:VTIMEZONE
TZID:Europe/Oslo
BEGIN:DAYLIGHT
TZOFFSETFROM:+0100
TZOFFSETTO:+0200
TZNAME:CEST
DTSTART:20240331T010000
END:DAYLIGHT
BEGIN:STANDARD
TZOFFSETFROM:+0200
TZOFFSETTO:+0100
TZNAME:CET
DTSTART:20241027T010000
END:STANDARD
END:VTIMEZONE
BEGIN:VEVENT
DTSTART;TZID=Europe/Oslo:20241120T080000
DTEND;TZID=Europe/Oslo:20241120T170000
DTSTAMP:20260423T161152
CREATED:20240904T124823Z
LAST-MODIFIED:20240904T124823Z
UID:10011680-1732089600-1732122000@geoforum.no
SUMMARY:GIS-dagen
DESCRIPTION:GIS Day | November 20\, 2024 \nCelebrate 25 years of GIS Day\n\n\nGIS Day is a day dedicated to showing\, teaching\, and inspiring others. Host an event to spread enthusiasm and help people learn how to use GIS for themselves—in their work\, in their schools\, where they volunteer\, or even for their hobbies and interests.
URL:https://geoforum.no/event/gis-dagen/
CATEGORIES:Webinar
END:VEVENT
END:VCALENDAR