BEGIN:VCALENDAR
VERSION:2.0
PRODID:-//GeoForum - ECPv6.10.0//NONSGML v1.0//EN
CALSCALE:GREGORIAN
METHOD:PUBLISH
X-WR-CALNAME:GeoForum
X-ORIGINAL-URL:https://geoforum.no
X-WR-CALDESC:Arrangement for GeoForum
REFRESH-INTERVAL;VALUE=DURATION:PT1H
X-Robots-Tag:noindex
X-PUBLISHED-TTL:PT1H
BEGIN:VTIMEZONE
TZID:Europe/Oslo
BEGIN:DAYLIGHT
TZOFFSETFROM:+0100
TZOFFSETTO:+0200
TZNAME:CEST
DTSTART:20230326T010000
END:DAYLIGHT
BEGIN:STANDARD
TZOFFSETFROM:+0200
TZOFFSETTO:+0100
TZNAME:CET
DTSTART:20231029T010000
END:STANDARD
END:VTIMEZONE
BEGIN:VEVENT
DTSTART;TZID=Europe/Oslo:20231115T090000
DTEND;TZID=Europe/Oslo:20231115T103000
DTSTAMP:20260424T080636
CREATED:20231102T100401Z
LAST-MODIFIED:20231107T093124Z
UID:10011615-1700038800-1700044200@geoforum.no
SUMMARY:GIS-dagen 2023\, Webinar
DESCRIPTION:Meld deg på her \n  \nI forbindelse med GIS-dagen inviterer GeoForum til gratis Webinar 15. november. \nWebinaret vil foregå på Teams\, der lenke blir sendt ut til påmeldte. Du må derfor melde deg på selv om det er gratis. \nProgram GIS-dagen 2023 \n 
URL:https://geoforum.no/event/gis-dagen-2023-webinar/
CATEGORIES:Webinar
END:VEVENT
BEGIN:VEVENT
DTSTART;TZID=Europe/Oslo:20231130T090000
DTEND;TZID=Europe/Oslo:20231130T103000
DTSTAMP:20260424T080636
CREATED:20231117T084521Z
LAST-MODIFIED:20231128T064329Z
UID:10011617-1701334800-1701340200@geoforum.no
SUMMARY:Frokostwebinar: Bruk av 3D-modeller i Oslo og Asker kommune.
DESCRIPTION:Meld deg på her! \nGeoForum Innlandet inviterer til gratis frokostwebinar torsdag 30. november kl. 09.00 – 10.30 om bruk av 3D-modeller i Oslo og Asker kommune. Webinaret foregår på Teams. Invitasjon sendes ut dagen før til alle påmeldte. \nDu vil få et innblikk i hvordan disse to kommunene har tatt i bruk 3D-modeller for å gjøre det enklere for berørte\, saksbehandlere og folkevalgte å forstå byggeprosjekter og planforslag. Det blir også mulig å stille spørsmål. Vi anbefaler dette webinaret for plan- og byggesaksavdelingene i kommunene\, andre aktuelle aktører og geomatikkmiljøene. \nMedlemmer i andre lokalavdelinger er også hjertelig velkommen! \n 
URL:https://geoforum.no/event/frokostwebinar3d/
CATEGORIES:Webinar
ORGANIZER;CN="GeoForum Innlandet":MAILTO:magnus.clausen@stange.kommune.no
END:VEVENT
END:VCALENDAR