BEGIN:VCALENDAR
VERSION:2.0
PRODID:-//GeoForum - ECPv6.10.0//NONSGML v1.0//EN
CALSCALE:GREGORIAN
METHOD:PUBLISH
X-ORIGINAL-URL:https://geoforum.no
X-WR-CALDESC:Arrangement for GeoForum
REFRESH-INTERVAL;VALUE=DURATION:PT1H
X-Robots-Tag:noindex
X-PUBLISHED-TTL:PT1H
BEGIN:VTIMEZONE
TZID:Europe/Oslo
BEGIN:DAYLIGHT
TZOFFSETFROM:+0100
TZOFFSETTO:+0200
TZNAME:CEST
DTSTART:20250330T010000
END:DAYLIGHT
BEGIN:STANDARD
TZOFFSETFROM:+0200
TZOFFSETTO:+0100
TZNAME:CET
DTSTART:20251026T010000
END:STANDARD
END:VTIMEZONE
BEGIN:VEVENT
DTSTART;TZID=Europe/Oslo:20250602T100000
DTEND;TZID=Europe/Oslo:20250602T113000
DTSTAMP:20260420T063347
CREATED:20250202T155435Z
LAST-MODIFIED:20250202T155435Z
UID:10011704-1748858400-1748863800@geoforum.no
SUMMARY:Matrikkel-mandag: matrikkelforskriften
DESCRIPTION:Matrikkel-mandag er en faglig digital møteplass for deg som jobber med matrikkelen. Her får du en oversikt over tilbudet og hvordan du kan delta. \nMatrikkel-mandag | Kartverket.no
URL:https://geoforum.no/event/matrikkel-mandag-matrikkelforskriften/
CATEGORIES:Webinar eksternt
END:VEVENT
END:VCALENDAR