BEGIN:VCALENDAR
VERSION:2.0
PRODID:-//GeoForum - ECPv6.10.0//NONSGML v1.0//EN
CALSCALE:GREGORIAN
METHOD:PUBLISH
X-WR-CALNAME:GeoForum
X-ORIGINAL-URL:https://geoforum.no
X-WR-CALDESC:Arrangement for GeoForum
REFRESH-INTERVAL;VALUE=DURATION:PT1H
X-Robots-Tag:noindex
X-PUBLISHED-TTL:PT1H
BEGIN:VTIMEZONE
TZID:Europe/Oslo
BEGIN:DAYLIGHT
TZOFFSETFROM:+0100
TZOFFSETTO:+0200
TZNAME:CEST
DTSTART:20240331T010000
END:DAYLIGHT
BEGIN:STANDARD
TZOFFSETFROM:+0200
TZOFFSETTO:+0100
TZNAME:CET
DTSTART:20241027T010000
END:STANDARD
END:VTIMEZONE
BEGIN:VEVENT
DTSTART;TZID=Europe/Oslo:20241113T103000
DTEND;TZID=Europe/Oslo:20241113T160000
DTSTAMP:20260420T205604
CREATED:20241107T084212Z
LAST-MODIFIED:20241107T084212Z
UID:10011547-1731493800-1731513600@geoforum.no
SUMMARY:Dronebasert kartlegging og miljøovervåking – et fagseminar om SeaBee-infrastrukturen
DESCRIPTION:Fysisk deltakelse er nå fullt\, men digital deltakelse har ingen begrensning. Påmeldingsskjema finner du her.
URL:https://geoforum.no/event/dronebasert-kartlegging-og-miljoovervaking-et-fagseminar-om-seabee-infrastrukturen/
CATEGORIES:Webinar eksternt
END:VEVENT
BEGIN:VEVENT
DTSTART;TZID=Europe/Oslo:20241125T090000
DTEND;TZID=Europe/Oslo:20241125T103000
DTSTAMP:20260420T205604
CREATED:20241125T164202Z
LAST-MODIFIED:20241125T164202Z
UID:10011559-1732525200-1732530600@geoforum.no
SUMMARY:Webinar om Det offentlige kartgrunnlaget og temakart
DESCRIPTION:Kartverket Nordland avholder digitalt Webinar om valg av Det offentlige Kartgrunnlaget (DOK) og opplastning av temakart til geonorge.no. Påmeldingsfrist 13. januar. \nVi oppfordrer ansvarlige i kommunene for DOK og temadata i Nordland til å delta på Webinaret. \nMer informasjon \nWebinar om valg av Det offentlige kartgrunnlaget og temakart | Kartverket.no
URL:https://geoforum.no/event/webinar-om-det-offentlige-kartgrunnlaget-og-temakart/
CATEGORIES:Webinar eksternt
END:VEVENT
END:VCALENDAR