BEGIN:VCALENDAR
VERSION:2.0
PRODID:-//GeoForum - ECPv6.10.0//NONSGML v1.0//EN
CALSCALE:GREGORIAN
METHOD:PUBLISH
X-WR-CALNAME:GeoForum
X-ORIGINAL-URL:https://geoforum.no
X-WR-CALDESC:Arrangement for GeoForum
REFRESH-INTERVAL;VALUE=DURATION:PT1H
X-Robots-Tag:noindex
X-PUBLISHED-TTL:PT1H
BEGIN:VTIMEZONE
TZID:Europe/Oslo
BEGIN:DAYLIGHT
TZOFFSETFROM:+0100
TZOFFSETTO:+0200
TZNAME:CEST
DTSTART:20230326T010000
END:DAYLIGHT
BEGIN:STANDARD
TZOFFSETFROM:+0200
TZOFFSETTO:+0100
TZNAME:CET
DTSTART:20231029T010000
END:STANDARD
END:VTIMEZONE
BEGIN:VEVENT
DTSTART;TZID=Europe/Oslo:20230504T090000
DTEND;TZID=Europe/Oslo:20230504T153000
DTSTAMP:20260421T223309
CREATED:20230428T135224Z
LAST-MODIFIED:20230428T135224Z
UID:10011584-1683190800-1683214200@geoforum.no
SUMMARY:Fagdag omløpsfoto
DESCRIPTION:Styringsgruppa for nasjonalt program for omløpsfotografering inviterer til fagdag rundt omløpsfotografering. På agendaen står informasjon om omløpsfotografering og bruken av flybildene\, ortofoto og punktskyer. \n  \nLes mer på Kartverket.no
URL:https://geoforum.no/event/fagdag-omlopsfoto/
CATEGORIES:Webinar eksternt
END:VEVENT
BEGIN:VEVENT
DTSTART;TZID=Europe/Oslo:20230508T100000
DTEND;TZID=Europe/Oslo:20230508T110000
DTSTAMP:20260421T223309
CREATED:20230428T135416Z
LAST-MODIFIED:20230428T135416Z
UID:10011585-1683540000-1683543600@geoforum.no
SUMMARY:Matrikkel-mandag
DESCRIPTION:8. mai er temaet avtaletolkning og tolkning av gamle avtaler om eiendom. Tolkning av avtaler er viktig i arbeidet med eiendom\, både for å forstå hva partene mente en gang for lenge siden\, men også for å utforme nye avtaler som skal tolkes i fremtiden. \n  \nLes mer på Kartverket.no
URL:https://geoforum.no/event/matrikkel-mandag-5/
CATEGORIES:Webinar eksternt
END:VEVENT
BEGIN:VEVENT
DTSTART;TZID=Europe/Oslo:20230512T100000
DTEND;TZID=Europe/Oslo:20230512T113000
DTSTAMP:20260421T223309
CREATED:20230512T104510Z
LAST-MODIFIED:20230512T121406Z
UID:10011440-1683885600-1683891000@geoforum.no
SUMMARY:Matrikkel-mandag
DESCRIPTION:5. juni er ny bygningsmodell og klassifikasjonsregime for bruksenheter tema. \nVi vil få informasjon fra en tverretatlig arbeidsgruppe ledet av Kartverket og KS\, med representanter fra SSB\, DiBK\, Finans Norge\, en kommune og Skatteetaten\, som har utviklet et forslag til nytt klassifikasjonsregime for bruksenheter. Denne dagen vil vi presentere en smidig tilnærming og arbeidet. Etterpå vil dokumentet ligge ut på høring. \nLes mer på Kartverket.no
URL:https://geoforum.no/event/matrikkel-mandag-6/
CATEGORIES:Webinar eksternt
END:VEVENT
END:VCALENDAR